BEGIN:VCALENDAR
VERSION:2.0
PRODID:-//Neerbosch Nu - ECPv6.15.18//NONSGML v1.0//EN
CALSCALE:GREGORIAN
METHOD:PUBLISH
X-ORIGINAL-URL:https://neerbosch.nu
X-WR-CALDESC:Evenementen voor Neerbosch Nu
REFRESH-INTERVAL;VALUE=DURATION:PT1H
X-Robots-Tag:noindex
X-PUBLISHED-TTL:PT1H
BEGIN:VTIMEZONE
TZID:Europe/Paris
BEGIN:DAYLIGHT
TZOFFSETFROM:+0100
TZOFFSETTO:+0200
TZNAME:CEST
DTSTART:20250330T010000
END:DAYLIGHT
BEGIN:STANDARD
TZOFFSETFROM:+0200
TZOFFSETTO:+0100
TZNAME:CET
DTSTART:20251026T010000
END:STANDARD
BEGIN:DAYLIGHT
TZOFFSETFROM:+0100
TZOFFSETTO:+0200
TZNAME:CEST
DTSTART:20260329T010000
END:DAYLIGHT
BEGIN:STANDARD
TZOFFSETFROM:+0200
TZOFFSETTO:+0100
TZNAME:CET
DTSTART:20261025T010000
END:STANDARD
BEGIN:DAYLIGHT
TZOFFSETFROM:+0100
TZOFFSETTO:+0200
TZNAME:CEST
DTSTART:20270328T010000
END:DAYLIGHT
BEGIN:STANDARD
TZOFFSETFROM:+0200
TZOFFSETTO:+0100
TZNAME:CET
DTSTART:20271031T010000
END:STANDARD
END:VTIMEZONE
BEGIN:VEVENT
DTSTART;TZID=Europe/Paris:20260430T150000
DTEND;TZID=Europe/Paris:20260430T180000
DTSTAMP:20260425T044909
CREATED:20260424T093149Z
LAST-MODIFIED:20260424T093149Z
UID:10000746-1777561200-1777572000@neerbosch.nu
SUMMARY:Ontmoet de toekomst bij de Notenhout
DESCRIPTION:Op donderdag 30 april staan vrijwilligers van verschillende initiatieven die uit de Ontmoet de toekomst clubavonden zijn gekomen bij de Notenhout. Kom langs voor een praatje\, oor meer over wat er allemaal wordt georganiseerd in de wijk en sluit je aan. Er staan mensen van ’t Ommetje\, Bordje d’r bij\, Viva Symfonica\, Warm welkom en nog meer initiatieven ena ctiviteiten. Wij van Neerbosch.nu zijn er ook! \n 
URL:https://neerbosch.nu/activiteit/ontmoet-de-toekomst-bij-de-notenhout/
LOCATION:Winkelcentrum De Notenhout\, Symfoniestraat\, Nijmegen\, Netherlands
ATTACH;FMTTYPE=image/jpeg:https://neerbosch.nu/wp-content/uploads/2026/03/Notenhout.jpg
END:VEVENT
END:VCALENDAR