BEGIN:VCALENDAR
VERSION:2.0
PRODID:-//Neerbosch Nu - ECPv6.15.18//NONSGML v1.0//EN
CALSCALE:GREGORIAN
METHOD:PUBLISH
X-ORIGINAL-URL:https://neerbosch.nu
X-WR-CALDESC:Evenementen voor Neerbosch Nu
REFRESH-INTERVAL;VALUE=DURATION:PT1H
X-Robots-Tag:noindex
X-PUBLISHED-TTL:PT1H
BEGIN:VTIMEZONE
TZID:Europe/Paris
BEGIN:DAYLIGHT
TZOFFSETFROM:+0100
TZOFFSETTO:+0200
TZNAME:CEST
DTSTART:20250330T010000
END:DAYLIGHT
BEGIN:STANDARD
TZOFFSETFROM:+0200
TZOFFSETTO:+0100
TZNAME:CET
DTSTART:20251026T010000
END:STANDARD
BEGIN:DAYLIGHT
TZOFFSETFROM:+0100
TZOFFSETTO:+0200
TZNAME:CEST
DTSTART:20260329T010000
END:DAYLIGHT
BEGIN:STANDARD
TZOFFSETFROM:+0200
TZOFFSETTO:+0100
TZNAME:CET
DTSTART:20261025T010000
END:STANDARD
BEGIN:DAYLIGHT
TZOFFSETFROM:+0100
TZOFFSETTO:+0200
TZNAME:CEST
DTSTART:20270328T010000
END:DAYLIGHT
BEGIN:STANDARD
TZOFFSETFROM:+0200
TZOFFSETTO:+0100
TZNAME:CET
DTSTART:20271031T010000
END:STANDARD
END:VTIMEZONE
BEGIN:VEVENT
DTSTART;TZID=Europe/Paris:20260511T090000
DTEND;TZID=Europe/Paris:20260511T100000
DTSTAMP:20260425T045441
CREATED:20260424T094707Z
LAST-MODIFIED:20260424T095704Z
UID:10000749-1778490000-1778493600@neerbosch.nu
SUMMARY:Seniorengym
DESCRIPTION:Elke maandag om 9:00 seniorengym in De Schalmei
URL:https://neerbosch.nu/activiteit/seniorengym/2026-05-11/
LOCATION:Wijkcentrum De Schalmei\, Symfoniestraat 204\, Nijmegen\, 6544 TN
ATTACH;FMTTYPE=image/jpeg:https://neerbosch.nu/wp-content/uploads/2026/04/Gym-scaled.jpg
END:VEVENT
BEGIN:VEVENT
DTSTART;TZID=Europe/Paris:20260511T100000
DTEND;TZID=Europe/Paris:20260511T113000
DTSTAMP:20260425T045441
CREATED:20260424T095556Z
LAST-MODIFIED:20260424T095556Z
UID:10001009-1778493600-1778499000@neerbosch.nu
SUMMARY:Lol met wol
DESCRIPTION:Elke maandag om 10:00 lol met wol in De Schalmei.
URL:https://neerbosch.nu/activiteit/lol-met-wol/2026-05-11/
LOCATION:Wijkcentrum De Schalmei\, Symfoniestraat 204\, Nijmegen\, 6544 TN
ATTACH;FMTTYPE=image/jpeg:https://neerbosch.nu/wp-content/uploads/2026/04/wol-scaled.jpg
END:VEVENT
BEGIN:VEVENT
DTSTART;TZID=Europe/Paris:20260511T133000
DTEND;TZID=Europe/Paris:20260511T153000
DTSTAMP:20260425T045441
CREATED:20260417T134254Z
LAST-MODIFIED:20260417T134254Z
UID:10000165-1778506200-1778513400@neerbosch.nu
SUMMARY:Line dance gevorderd
DESCRIPTION:De gevorderde line dancers dansen op maandagmiddag van 13.30-15.30 uur in het wijkcentrum De Schalmei in Neerbosch Oost. Informatie bij Els Harwijne -van Beek. Telefoon nr.  0243778815
URL:https://neerbosch.nu/activiteit/line-dance-gevorderd/2026-05-11/
LOCATION:Wijkcentrum De Schalmei\, Symfoniestraat 204\, Nijmegen\, 6544 TN
ATTACH;FMTTYPE=image/jpeg:https://neerbosch.nu/wp-content/uploads/2026/01/Line-Dance-groep.jpg
END:VEVENT
BEGIN:VEVENT
DTSTART;TZID=Europe/Paris:20260511T173000
DTEND;TZID=Europe/Paris:20260511T203000
DTSTAMP:20260425T045442
CREATED:20260423T131448Z
LAST-MODIFIED:20260423T131836Z
UID:10000743-1778520600-1778531400@neerbosch.nu
SUMMARY:Wijkbijeenkomst vernieuwingsgolf
DESCRIPTION:De komende jaren knapt de gemeente Nijmegen delen van Neerbosch-Oost op. De straten\, stoep en het groen krijgen een nieuwe inrichting. Op 11 mei bent u van harte welkom bij een bijeenkomst voor de hele wijk in Wijkcentrum de Schalmei. Bent u erbij? U kunt tussen 17.00-20.00 uur binnenlopen. De presentaties starten op vaste tijdstippen. \nU kiest zelf één tijd die u goed uitkomt: \n· 17.30 – 18.00 uur \n\n· 18.30 – 19.00 uur \n\n\n\n· 19.30 – 20.00 uur. \n\n\n\nAanmelden kan via neerboschoost@nijmegen.nl\, maar is niet verplicht. Meer informatie? Kijk op www.nijmegen.nl/vernieuwing-neerboschoost.
URL:https://neerbosch.nu/activiteit/wijkbijeenkomst-vernieuwingsgolf/
LOCATION:Wijkcentrum De Schalmei\, Symfoniestraat 204\, Nijmegen\, 6544 TN
ATTACH;FMTTYPE=image/png:https://neerbosch.nu/wp-content/uploads/2025/11/Gebied-vernieuwingsgolf.png
END:VEVENT
BEGIN:VEVENT
DTSTART;TZID=Europe/Paris:20260511T193000
DTEND;TZID=Europe/Paris:20260511T213000
DTSTAMP:20260425T045442
CREATED:20260424T100201Z
LAST-MODIFIED:20260424T100201Z
UID:10001269-1778527800-1778535000@neerbosch.nu
SUMMARY:Salonorkest Symfonia
DESCRIPTION:Op maandagavond om 19:30 oefent salonorkest Symphonia in De Schalmei. Zij zoeken nieuwe muzikanten. \nSalonorkest Symphonia is een orkest voor amateur-musici die voor hun plezier met muziek bezig willen zijn.\nWe hebben een uitgebreid repertoire dat bestaat uit licht klassieke\, populaire muziek\, zoals melodieën uit opera’s en operettes\, bekende walsen\, marsen\, tango’s\, liederen.
URL:https://neerbosch.nu/activiteit/salonorkest-symfonia/2026-05-11/
LOCATION:Wijkcentrum De Schalmei\, Symfoniestraat 204\, Nijmegen\, 6544 TN
ATTACH;FMTTYPE=image/jpeg:https://neerbosch.nu/wp-content/uploads/2026/04/viool-scaled.jpg
END:VEVENT
BEGIN:VEVENT
DTSTART;TZID=Europe/Paris:20260512T100000
DTEND;TZID=Europe/Paris:20260512T110000
DTSTAMP:20260425T045442
CREATED:20260424T102516Z
LAST-MODIFIED:20260424T102516Z
UID:10001528-1778580000-1778583600@neerbosch.nu
SUMMARY:Leesgroep Beamer
DESCRIPTION:Elke dinsdag om 10:00 komen Marokaanse vrouwen in De Schalmei bij elkaar om te lezen in leesgroep Beamer.
URL:https://neerbosch.nu/activiteit/leesgroep-beamer/2026-05-12/
LOCATION:Wijkcentrum De Schalmei\, Symfoniestraat 204\, Nijmegen\, 6544 TN
ATTACH;FMTTYPE=image/jpeg:https://neerbosch.nu/wp-content/uploads/2026/04/boeken.jpg
END:VEVENT
BEGIN:VEVENT
DTSTART;TZID=Europe/Paris:20260512T110000
DTEND;TZID=Europe/Paris:20260512T120000
DTSTAMP:20260425T045442
CREATED:20260417T134559Z
LAST-MODIFIED:20260417T134559Z
UID:10000424-1778583600-1778587200@neerbosch.nu
SUMMARY:Line Dance beginners
DESCRIPTION:Beginnende line dancers dansen op de donderdagmorgen van 11.00-12.00 uur in De Schalmei in Neerbosch Oost. Informatie bij Els Harwijne -van Beek. Telefoon nr.  0243778815
URL:https://neerbosch.nu/activiteit/line-dance-beginners-3/2026-05-12/
ATTACH;FMTTYPE=image/jpeg:https://neerbosch.nu/wp-content/uploads/2026/01/Line-Dance-groep.jpg
END:VEVENT
BEGIN:VEVENT
DTSTART;TZID=Europe/Paris:20260513T180000
DTEND;TZID=Europe/Paris:20260513T200000
DTSTAMP:20260425T045442
CREATED:20260408T112816Z
LAST-MODIFIED:20260408T113908Z
UID:10000088-1778695200-1778702400@neerbosch.nu
SUMMARY:Een bordje d'r bij in de Schalmei
DESCRIPTION:Elke twee weken koken vrijwilligers een heerlijke warme maaltijd voor buurtbewoners. Iedereen is welkom!
URL:https://neerbosch.nu/activiteit/een-bordje-dr-bij-in-de-schalmei-2/2026-05-13/
ATTACH;FMTTYPE=image/png:https://neerbosch.nu/wp-content/uploads/2026/02/Buurt-aan-tafel-7-header.png
END:VEVENT
BEGIN:VEVENT
DTSTART;TZID=Europe/Paris:20260517T100000
DTEND;TZID=Europe/Paris:20260517T160000
DTSTAMP:20260425T045442
CREATED:20260424T090611Z
LAST-MODIFIED:20260424T090611Z
UID:10000744-1779012000-1779033600@neerbosch.nu
SUMMARY:Rommelmarkt Pret rond de flat
DESCRIPTION:Op 17 mei van 10:00 tot 16:00 is weer de rommelmarkt Pret rond de flat in de Syfoniestraat. Gratis entree en met muziek van internetradio Prima FM.
URL:https://neerbosch.nu/activiteit/rommelmarkt-pret-rond-de-flat/
LOCATION:Symfoniestraat 113
ATTACH;FMTTYPE=image/jpeg:https://neerbosch.nu/wp-content/uploads/2026/04/rommelmarkt-header.jpg
END:VEVENT
BEGIN:VEVENT
DTSTART;TZID=Europe/Paris:20260518T090000
DTEND;TZID=Europe/Paris:20260518T100000
DTSTAMP:20260425T045442
CREATED:20260424T094707Z
LAST-MODIFIED:20260424T095704Z
UID:10000750-1779094800-1779098400@neerbosch.nu
SUMMARY:Seniorengym
DESCRIPTION:Elke maandag om 9:00 seniorengym in De Schalmei
URL:https://neerbosch.nu/activiteit/seniorengym/2026-05-18/
LOCATION:Wijkcentrum De Schalmei\, Symfoniestraat 204\, Nijmegen\, 6544 TN
ATTACH;FMTTYPE=image/jpeg:https://neerbosch.nu/wp-content/uploads/2026/04/Gym-scaled.jpg
END:VEVENT
BEGIN:VEVENT
DTSTART;TZID=Europe/Paris:20260518T100000
DTEND;TZID=Europe/Paris:20260518T113000
DTSTAMP:20260425T045442
CREATED:20260424T095556Z
LAST-MODIFIED:20260424T095556Z
UID:10001010-1779098400-1779103800@neerbosch.nu
SUMMARY:Lol met wol
DESCRIPTION:Elke maandag om 10:00 lol met wol in De Schalmei.
URL:https://neerbosch.nu/activiteit/lol-met-wol/2026-05-18/
LOCATION:Wijkcentrum De Schalmei\, Symfoniestraat 204\, Nijmegen\, 6544 TN
ATTACH;FMTTYPE=image/jpeg:https://neerbosch.nu/wp-content/uploads/2026/04/wol-scaled.jpg
END:VEVENT
BEGIN:VEVENT
DTSTART;TZID=Europe/Paris:20260518T133000
DTEND;TZID=Europe/Paris:20260518T153000
DTSTAMP:20260425T045442
CREATED:20260417T134254Z
LAST-MODIFIED:20260417T134254Z
UID:10000166-1779111000-1779118200@neerbosch.nu
SUMMARY:Line dance gevorderd
DESCRIPTION:De gevorderde line dancers dansen op maandagmiddag van 13.30-15.30 uur in het wijkcentrum De Schalmei in Neerbosch Oost. Informatie bij Els Harwijne -van Beek. Telefoon nr.  0243778815
URL:https://neerbosch.nu/activiteit/line-dance-gevorderd/2026-05-18/
LOCATION:Wijkcentrum De Schalmei\, Symfoniestraat 204\, Nijmegen\, 6544 TN
ATTACH;FMTTYPE=image/jpeg:https://neerbosch.nu/wp-content/uploads/2026/01/Line-Dance-groep.jpg
END:VEVENT
BEGIN:VEVENT
DTSTART;TZID=Europe/Paris:20260518T193000
DTEND;TZID=Europe/Paris:20260518T213000
DTSTAMP:20260425T045442
CREATED:20260424T100201Z
LAST-MODIFIED:20260424T100201Z
UID:10001270-1779132600-1779139800@neerbosch.nu
SUMMARY:Salonorkest Symfonia
DESCRIPTION:Op maandagavond om 19:30 oefent salonorkest Symphonia in De Schalmei. Zij zoeken nieuwe muzikanten. \nSalonorkest Symphonia is een orkest voor amateur-musici die voor hun plezier met muziek bezig willen zijn.\nWe hebben een uitgebreid repertoire dat bestaat uit licht klassieke\, populaire muziek\, zoals melodieën uit opera’s en operettes\, bekende walsen\, marsen\, tango’s\, liederen.
URL:https://neerbosch.nu/activiteit/salonorkest-symfonia/2026-05-18/
LOCATION:Wijkcentrum De Schalmei\, Symfoniestraat 204\, Nijmegen\, 6544 TN
ATTACH;FMTTYPE=image/jpeg:https://neerbosch.nu/wp-content/uploads/2026/04/viool-scaled.jpg
END:VEVENT
BEGIN:VEVENT
DTSTART;TZID=Europe/Paris:20260519T100000
DTEND;TZID=Europe/Paris:20260519T110000
DTSTAMP:20260425T045442
CREATED:20260424T102516Z
LAST-MODIFIED:20260424T102516Z
UID:10001529-1779184800-1779188400@neerbosch.nu
SUMMARY:Leesgroep Beamer
DESCRIPTION:Elke dinsdag om 10:00 komen Marokaanse vrouwen in De Schalmei bij elkaar om te lezen in leesgroep Beamer.
URL:https://neerbosch.nu/activiteit/leesgroep-beamer/2026-05-19/
LOCATION:Wijkcentrum De Schalmei\, Symfoniestraat 204\, Nijmegen\, 6544 TN
ATTACH;FMTTYPE=image/jpeg:https://neerbosch.nu/wp-content/uploads/2026/04/boeken.jpg
END:VEVENT
BEGIN:VEVENT
DTSTART;TZID=Europe/Paris:20260519T110000
DTEND;TZID=Europe/Paris:20260519T120000
DTSTAMP:20260425T045442
CREATED:20260417T134559Z
LAST-MODIFIED:20260417T134559Z
UID:10000425-1779188400-1779192000@neerbosch.nu
SUMMARY:Line Dance beginners
DESCRIPTION:Beginnende line dancers dansen op de donderdagmorgen van 11.00-12.00 uur in De Schalmei in Neerbosch Oost. Informatie bij Els Harwijne -van Beek. Telefoon nr.  0243778815
URL:https://neerbosch.nu/activiteit/line-dance-beginners-3/2026-05-19/
ATTACH;FMTTYPE=image/jpeg:https://neerbosch.nu/wp-content/uploads/2026/01/Line-Dance-groep.jpg
END:VEVENT
BEGIN:VEVENT
DTSTART;TZID=Europe/Paris:20260519T140000
DTEND;TZID=Europe/Paris:20260519T153000
DTSTAMP:20260425T045442
CREATED:20260424T103331Z
LAST-MODIFIED:20260424T103331Z
UID:10001787-1779199200-1779204600@neerbosch.nu
SUMMARY:Zangkoor de Notenhoutjes
DESCRIPTION:Om de week op dinsdag om 14:00 oefent zangkoor De Notenhoutjes in De Schalmei.
URL:https://neerbosch.nu/activiteit/zangkoor-de-notenhoutjes/2026-05-19/
LOCATION:Wijkcentrum De Schalmei\, Symfoniestraat 204\, Nijmegen\, 6544 TN
ATTACH;FMTTYPE=image/jpeg:https://neerbosch.nu/wp-content/uploads/2026/04/Muzieknoten-scaled.jpg
END:VEVENT
BEGIN:VEVENT
DTSTART;TZID=Europe/Paris:20260519T140000
DTEND;TZID=Europe/Paris:20260519T160000
DTSTAMP:20260425T045442
CREATED:20260408T111428Z
LAST-MODIFIED:20260408T111615Z
UID:10000056-1779199200-1779206400@neerbosch.nu
SUMMARY:Creatieve inloop 65+
DESCRIPTION:Iedere twee weken kun je op dinsdag van 14.00 tot 16.00 terecht bij de creatieve inloop voor 65+’ers in het atelier van De Schalmei. Je kunt gewoon binnenlopen om kennis te maken of mee te doen.
URL:https://neerbosch.nu/activiteit/creatieve-inloop-65-5/2026-05-19/
LOCATION:Wijkcentrum De Schalmei\, Symfoniestraat 204\, Nijmegen\, 6544 TN
ATTACH;FMTTYPE=image/jpeg:https://neerbosch.nu/wp-content/uploads/2026/01/knutselen-scaled-e1769631971984.jpg
END:VEVENT
BEGIN:VEVENT
DTSTART;TZID=Europe/Paris:20260525T090000
DTEND;TZID=Europe/Paris:20260525T100000
DTSTAMP:20260425T045442
CREATED:20260424T094707Z
LAST-MODIFIED:20260424T095704Z
UID:10000751-1779699600-1779703200@neerbosch.nu
SUMMARY:Seniorengym
DESCRIPTION:Elke maandag om 9:00 seniorengym in De Schalmei
URL:https://neerbosch.nu/activiteit/seniorengym/2026-05-25/
LOCATION:Wijkcentrum De Schalmei\, Symfoniestraat 204\, Nijmegen\, 6544 TN
ATTACH;FMTTYPE=image/jpeg:https://neerbosch.nu/wp-content/uploads/2026/04/Gym-scaled.jpg
END:VEVENT
BEGIN:VEVENT
DTSTART;TZID=Europe/Paris:20260525T100000
DTEND;TZID=Europe/Paris:20260525T113000
DTSTAMP:20260425T045442
CREATED:20260424T095556Z
LAST-MODIFIED:20260424T095556Z
UID:10001011-1779703200-1779708600@neerbosch.nu
SUMMARY:Lol met wol
DESCRIPTION:Elke maandag om 10:00 lol met wol in De Schalmei.
URL:https://neerbosch.nu/activiteit/lol-met-wol/2026-05-25/
LOCATION:Wijkcentrum De Schalmei\, Symfoniestraat 204\, Nijmegen\, 6544 TN
ATTACH;FMTTYPE=image/jpeg:https://neerbosch.nu/wp-content/uploads/2026/04/wol-scaled.jpg
END:VEVENT
BEGIN:VEVENT
DTSTART;TZID=Europe/Paris:20260525T133000
DTEND;TZID=Europe/Paris:20260525T153000
DTSTAMP:20260425T045442
CREATED:20260417T134254Z
LAST-MODIFIED:20260417T134254Z
UID:10000167-1779715800-1779723000@neerbosch.nu
SUMMARY:Line dance gevorderd
DESCRIPTION:De gevorderde line dancers dansen op maandagmiddag van 13.30-15.30 uur in het wijkcentrum De Schalmei in Neerbosch Oost. Informatie bij Els Harwijne -van Beek. Telefoon nr.  0243778815
URL:https://neerbosch.nu/activiteit/line-dance-gevorderd/2026-05-25/
LOCATION:Wijkcentrum De Schalmei\, Symfoniestraat 204\, Nijmegen\, 6544 TN
ATTACH;FMTTYPE=image/jpeg:https://neerbosch.nu/wp-content/uploads/2026/01/Line-Dance-groep.jpg
END:VEVENT
BEGIN:VEVENT
DTSTART;TZID=Europe/Paris:20260525T193000
DTEND;TZID=Europe/Paris:20260525T213000
DTSTAMP:20260425T045442
CREATED:20260424T100201Z
LAST-MODIFIED:20260424T100201Z
UID:10001271-1779737400-1779744600@neerbosch.nu
SUMMARY:Salonorkest Symfonia
DESCRIPTION:Op maandagavond om 19:30 oefent salonorkest Symphonia in De Schalmei. Zij zoeken nieuwe muzikanten. \nSalonorkest Symphonia is een orkest voor amateur-musici die voor hun plezier met muziek bezig willen zijn.\nWe hebben een uitgebreid repertoire dat bestaat uit licht klassieke\, populaire muziek\, zoals melodieën uit opera’s en operettes\, bekende walsen\, marsen\, tango’s\, liederen.
URL:https://neerbosch.nu/activiteit/salonorkest-symfonia/2026-05-25/
LOCATION:Wijkcentrum De Schalmei\, Symfoniestraat 204\, Nijmegen\, 6544 TN
ATTACH;FMTTYPE=image/jpeg:https://neerbosch.nu/wp-content/uploads/2026/04/viool-scaled.jpg
END:VEVENT
BEGIN:VEVENT
DTSTART;TZID=Europe/Paris:20260526T100000
DTEND;TZID=Europe/Paris:20260526T110000
DTSTAMP:20260425T045442
CREATED:20260424T102516Z
LAST-MODIFIED:20260424T102516Z
UID:10001530-1779789600-1779793200@neerbosch.nu
SUMMARY:Leesgroep Beamer
DESCRIPTION:Elke dinsdag om 10:00 komen Marokaanse vrouwen in De Schalmei bij elkaar om te lezen in leesgroep Beamer.
URL:https://neerbosch.nu/activiteit/leesgroep-beamer/2026-05-26/
LOCATION:Wijkcentrum De Schalmei\, Symfoniestraat 204\, Nijmegen\, 6544 TN
ATTACH;FMTTYPE=image/jpeg:https://neerbosch.nu/wp-content/uploads/2026/04/boeken.jpg
END:VEVENT
BEGIN:VEVENT
DTSTART;TZID=Europe/Paris:20260526T110000
DTEND;TZID=Europe/Paris:20260526T120000
DTSTAMP:20260425T045442
CREATED:20260417T134559Z
LAST-MODIFIED:20260417T134559Z
UID:10000426-1779793200-1779796800@neerbosch.nu
SUMMARY:Line Dance beginners
DESCRIPTION:Beginnende line dancers dansen op de donderdagmorgen van 11.00-12.00 uur in De Schalmei in Neerbosch Oost. Informatie bij Els Harwijne -van Beek. Telefoon nr.  0243778815
URL:https://neerbosch.nu/activiteit/line-dance-beginners-3/2026-05-26/
ATTACH;FMTTYPE=image/jpeg:https://neerbosch.nu/wp-content/uploads/2026/01/Line-Dance-groep.jpg
END:VEVENT
BEGIN:VEVENT
DTSTART;TZID=Europe/Paris:20260527T180000
DTEND;TZID=Europe/Paris:20260527T200000
DTSTAMP:20260425T045442
CREATED:20260408T112816Z
LAST-MODIFIED:20260408T113908Z
UID:10000089-1779904800-1779912000@neerbosch.nu
SUMMARY:Een bordje d'r bij in de Schalmei
DESCRIPTION:Elke twee weken koken vrijwilligers een heerlijke warme maaltijd voor buurtbewoners. Iedereen is welkom!
URL:https://neerbosch.nu/activiteit/een-bordje-dr-bij-in-de-schalmei-2/2026-05-27/
ATTACH;FMTTYPE=image/png:https://neerbosch.nu/wp-content/uploads/2026/02/Buurt-aan-tafel-7-header.png
END:VEVENT
BEGIN:VEVENT
DTSTART;TZID=Europe/Paris:20260530T000000
DTEND;TZID=Europe/Paris:20260530T235959
DTSTAMP:20260425T045442
CREATED:20260422T143414Z
LAST-MODIFIED:20260422T143414Z
UID:10000682-1780099200-1780185599@neerbosch.nu
SUMMARY:Gratis regenpijp afkoppelen
DESCRIPTION:Het team van de Groenmakers Afkoppeldagen komt graag op de actiedag op zaterdag 30 mei 2026 ook jouw regenpijp afkoppelen van het riool. \nEr zijn steeds vaker hevige regenbuien. Het regenwater gaat nu via de regenpijp het riool in. Als het te veel wordt\, kan het riool het niet meer aan: straten lopen onder of kelders lopen vol. Door je regenpijp af te koppelen help je dit voorkomen. Het regenwater stroomt dan je tuin in en zakt rustig de grond in. \nVoordelen van het afkoppelen van je regenpijp: \n\nJe hebt minder kans op wateroverlast bij harde regenbuien. Het regenwater zakt weg in jouw tuin en komt dus niet in het riool terecht.\nJe helpt mee om water op te slaan in de bodem en dat is goed voor de natuur! Planten en bomen houden regenwater vast. Hierdoor droogt de grond minder snel uit en hoef je minder te sproeien op warme dagen.\n\nHoe werkt het?\nTijdens je aanmelding worden in het aanmeldformulier een aantal vragen gesteld zodat jouw situatie goed kan worden ingeschat. Ook komen iemand van gemeente Nijmegen bij je langs om te controleren of het regenwater in jouw tuin goed de grond in kan stromen\, dat is namelijk belangrijk als je je regenpijp laat afkoppelen. In het aanmeldformulier kun je een of meerdere voorkeursdagen aangeven wanneer we jouw situatie kunnen beoordelen. Is je regenpijp goedgekeurd? Dan komt iemand van de Groenmakers afkoppeldagen op 30 mei bij je langs om je regenpijp af te koppelen. \nMeedoen aan de afkoppeldag is gratis. Aanmelden kan tot en met 17 mei. Wacht niet te lang\, want vol = vol. \nMeer informatie en aanmelden: www.debastei.nl/afkoppeldagen \nDe Groenmakers Afkoppeldagen zijn een initiatief van Groenmakers van Museum De Bastei en wordt uitgevoerd in samenwerking met Lentekracht.
URL:https://neerbosch.nu/activiteit/gratis-regenpijp-afkoppelen/
ATTACH;FMTTYPE=image/jpeg:https://neerbosch.nu/wp-content/uploads/2026/04/regenpijp_afkoppelen.jpg
END:VEVENT
BEGIN:VEVENT
DTSTART;TZID=Europe/Paris:20260601T090000
DTEND;TZID=Europe/Paris:20260601T100000
DTSTAMP:20260425T045442
CREATED:20260424T094707Z
LAST-MODIFIED:20260424T095704Z
UID:10000752-1780304400-1780308000@neerbosch.nu
SUMMARY:Seniorengym
DESCRIPTION:Elke maandag om 9:00 seniorengym in De Schalmei
URL:https://neerbosch.nu/activiteit/seniorengym/2026-06-01/
LOCATION:Wijkcentrum De Schalmei\, Symfoniestraat 204\, Nijmegen\, 6544 TN
ATTACH;FMTTYPE=image/jpeg:https://neerbosch.nu/wp-content/uploads/2026/04/Gym-scaled.jpg
END:VEVENT
BEGIN:VEVENT
DTSTART;TZID=Europe/Paris:20260601T100000
DTEND;TZID=Europe/Paris:20260601T113000
DTSTAMP:20260425T045442
CREATED:20260424T095556Z
LAST-MODIFIED:20260424T095556Z
UID:10001012-1780308000-1780313400@neerbosch.nu
SUMMARY:Lol met wol
DESCRIPTION:Elke maandag om 10:00 lol met wol in De Schalmei.
URL:https://neerbosch.nu/activiteit/lol-met-wol/2026-06-01/
LOCATION:Wijkcentrum De Schalmei\, Symfoniestraat 204\, Nijmegen\, 6544 TN
ATTACH;FMTTYPE=image/jpeg:https://neerbosch.nu/wp-content/uploads/2026/04/wol-scaled.jpg
END:VEVENT
BEGIN:VEVENT
DTSTART;TZID=Europe/Paris:20260601T133000
DTEND;TZID=Europe/Paris:20260601T153000
DTSTAMP:20260425T045442
CREATED:20260417T134254Z
LAST-MODIFIED:20260417T134254Z
UID:10000168-1780320600-1780327800@neerbosch.nu
SUMMARY:Line dance gevorderd
DESCRIPTION:De gevorderde line dancers dansen op maandagmiddag van 13.30-15.30 uur in het wijkcentrum De Schalmei in Neerbosch Oost. Informatie bij Els Harwijne -van Beek. Telefoon nr.  0243778815
URL:https://neerbosch.nu/activiteit/line-dance-gevorderd/2026-06-01/
LOCATION:Wijkcentrum De Schalmei\, Symfoniestraat 204\, Nijmegen\, 6544 TN
ATTACH;FMTTYPE=image/jpeg:https://neerbosch.nu/wp-content/uploads/2026/01/Line-Dance-groep.jpg
END:VEVENT
BEGIN:VEVENT
DTSTART;TZID=Europe/Paris:20260601T193000
DTEND;TZID=Europe/Paris:20260601T213000
DTSTAMP:20260425T045442
CREATED:20260424T100201Z
LAST-MODIFIED:20260424T100201Z
UID:10001272-1780342200-1780349400@neerbosch.nu
SUMMARY:Salonorkest Symfonia
DESCRIPTION:Op maandagavond om 19:30 oefent salonorkest Symphonia in De Schalmei. Zij zoeken nieuwe muzikanten. \nSalonorkest Symphonia is een orkest voor amateur-musici die voor hun plezier met muziek bezig willen zijn.\nWe hebben een uitgebreid repertoire dat bestaat uit licht klassieke\, populaire muziek\, zoals melodieën uit opera’s en operettes\, bekende walsen\, marsen\, tango’s\, liederen.
URL:https://neerbosch.nu/activiteit/salonorkest-symfonia/2026-06-01/
LOCATION:Wijkcentrum De Schalmei\, Symfoniestraat 204\, Nijmegen\, 6544 TN
ATTACH;FMTTYPE=image/jpeg:https://neerbosch.nu/wp-content/uploads/2026/04/viool-scaled.jpg
END:VEVENT
BEGIN:VEVENT
DTSTART;TZID=Europe/Paris:20260602T100000
DTEND;TZID=Europe/Paris:20260602T110000
DTSTAMP:20260425T045442
CREATED:20260424T102516Z
LAST-MODIFIED:20260424T102516Z
UID:10001531-1780394400-1780398000@neerbosch.nu
SUMMARY:Leesgroep Beamer
DESCRIPTION:Elke dinsdag om 10:00 komen Marokaanse vrouwen in De Schalmei bij elkaar om te lezen in leesgroep Beamer.
URL:https://neerbosch.nu/activiteit/leesgroep-beamer/2026-06-02/
LOCATION:Wijkcentrum De Schalmei\, Symfoniestraat 204\, Nijmegen\, 6544 TN
ATTACH;FMTTYPE=image/jpeg:https://neerbosch.nu/wp-content/uploads/2026/04/boeken.jpg
END:VEVENT
END:VCALENDAR