BEGIN:VCALENDAR
VERSION:2.0
PRODID:-//Neerbosch Nu - ECPv6.15.18//NONSGML v1.0//EN
CALSCALE:GREGORIAN
METHOD:PUBLISH
X-ORIGINAL-URL:https://neerbosch.nu
X-WR-CALDESC:Evenementen voor Neerbosch Nu
REFRESH-INTERVAL;VALUE=DURATION:PT1H
X-Robots-Tag:noindex
X-PUBLISHED-TTL:PT1H
BEGIN:VTIMEZONE
TZID:Europe/Paris
BEGIN:DAYLIGHT
TZOFFSETFROM:+0100
TZOFFSETTO:+0200
TZNAME:CEST
DTSTART:20250330T010000
END:DAYLIGHT
BEGIN:STANDARD
TZOFFSETFROM:+0200
TZOFFSETTO:+0100
TZNAME:CET
DTSTART:20251026T010000
END:STANDARD
BEGIN:DAYLIGHT
TZOFFSETFROM:+0100
TZOFFSETTO:+0200
TZNAME:CEST
DTSTART:20260329T010000
END:DAYLIGHT
BEGIN:STANDARD
TZOFFSETFROM:+0200
TZOFFSETTO:+0100
TZNAME:CET
DTSTART:20261025T010000
END:STANDARD
BEGIN:DAYLIGHT
TZOFFSETFROM:+0100
TZOFFSETTO:+0200
TZNAME:CEST
DTSTART:20270328T010000
END:DAYLIGHT
BEGIN:STANDARD
TZOFFSETFROM:+0200
TZOFFSETTO:+0100
TZNAME:CET
DTSTART:20271031T010000
END:STANDARD
END:VTIMEZONE
BEGIN:VEVENT
DTSTART;TZID=Europe/Paris:20260525T133000
DTEND;TZID=Europe/Paris:20260525T153000
DTSTAMP:20260425T135902
CREATED:20260417T134254Z
LAST-MODIFIED:20260417T134254Z
UID:10000167-1779715800-1779723000@neerbosch.nu
SUMMARY:Line dance gevorderd
DESCRIPTION:De gevorderde line dancers dansen op maandagmiddag van 13.30-15.30 uur in het wijkcentrum De Schalmei in Neerbosch Oost. Informatie bij Els Harwijne -van Beek. Telefoon nr.  0243778815
URL:https://neerbosch.nu/activiteit/line-dance-gevorderd/2026-05-25/
LOCATION:Wijkcentrum De Schalmei\, Symfoniestraat 204\, Nijmegen\, 6544 TN
ATTACH;FMTTYPE=image/jpeg:https://neerbosch.nu/wp-content/uploads/2026/01/Line-Dance-groep.jpg
END:VEVENT
BEGIN:VEVENT
DTSTART;TZID=Europe/Paris:20260525T193000
DTEND;TZID=Europe/Paris:20260525T213000
DTSTAMP:20260425T135902
CREATED:20260424T100201Z
LAST-MODIFIED:20260424T100201Z
UID:10001271-1779737400-1779744600@neerbosch.nu
SUMMARY:Salonorkest Symfonia
DESCRIPTION:Op maandagavond om 19:30 oefent salonorkest Symphonia in De Schalmei. Zij zoeken nieuwe muzikanten. \nSalonorkest Symphonia is een orkest voor amateur-musici die voor hun plezier met muziek bezig willen zijn.\nWe hebben een uitgebreid repertoire dat bestaat uit licht klassieke\, populaire muziek\, zoals melodieën uit opera’s en operettes\, bekende walsen\, marsen\, tango’s\, liederen.
URL:https://neerbosch.nu/activiteit/salonorkest-symfonia/2026-05-25/
LOCATION:Wijkcentrum De Schalmei\, Symfoniestraat 204\, Nijmegen\, 6544 TN
ATTACH;FMTTYPE=image/jpeg:https://neerbosch.nu/wp-content/uploads/2026/04/viool-scaled.jpg
END:VEVENT
BEGIN:VEVENT
DTSTART;TZID=Europe/Paris:20260526T100000
DTEND;TZID=Europe/Paris:20260526T110000
DTSTAMP:20260425T135902
CREATED:20260424T102516Z
LAST-MODIFIED:20260424T102516Z
UID:10001530-1779789600-1779793200@neerbosch.nu
SUMMARY:Leesgroep Beamer
DESCRIPTION:Elke dinsdag om 10:00 komen Marokaanse vrouwen in De Schalmei bij elkaar om te lezen in leesgroep Beamer.
URL:https://neerbosch.nu/activiteit/leesgroep-beamer/2026-05-26/
LOCATION:Wijkcentrum De Schalmei\, Symfoniestraat 204\, Nijmegen\, 6544 TN
ATTACH;FMTTYPE=image/jpeg:https://neerbosch.nu/wp-content/uploads/2026/04/boeken.jpg
END:VEVENT
BEGIN:VEVENT
DTSTART;TZID=Europe/Paris:20260526T110000
DTEND;TZID=Europe/Paris:20260526T120000
DTSTAMP:20260425T135902
CREATED:20260417T134559Z
LAST-MODIFIED:20260417T134559Z
UID:10000426-1779793200-1779796800@neerbosch.nu
SUMMARY:Line Dance beginners
DESCRIPTION:Beginnende line dancers dansen op de donderdagmorgen van 11.00-12.00 uur in De Schalmei in Neerbosch Oost. Informatie bij Els Harwijne -van Beek. Telefoon nr.  0243778815
URL:https://neerbosch.nu/activiteit/line-dance-beginners-3/2026-05-26/
ATTACH;FMTTYPE=image/jpeg:https://neerbosch.nu/wp-content/uploads/2026/01/Line-Dance-groep.jpg
END:VEVENT
BEGIN:VEVENT
DTSTART;TZID=Europe/Paris:20260527T180000
DTEND;TZID=Europe/Paris:20260527T200000
DTSTAMP:20260425T135902
CREATED:20260408T112816Z
LAST-MODIFIED:20260408T113908Z
UID:10000089-1779904800-1779912000@neerbosch.nu
SUMMARY:Een bordje d'r bij in de Schalmei
DESCRIPTION:Elke twee weken koken vrijwilligers een heerlijke warme maaltijd voor buurtbewoners. Iedereen is welkom!
URL:https://neerbosch.nu/activiteit/een-bordje-dr-bij-in-de-schalmei-2/2026-05-27/
ATTACH;FMTTYPE=image/png:https://neerbosch.nu/wp-content/uploads/2026/02/Buurt-aan-tafel-7-header.png
END:VEVENT
BEGIN:VEVENT
DTSTART;TZID=Europe/Paris:20260530T000000
DTEND;TZID=Europe/Paris:20260530T235959
DTSTAMP:20260425T135902
CREATED:20260422T143414Z
LAST-MODIFIED:20260422T143414Z
UID:10000682-1780099200-1780185599@neerbosch.nu
SUMMARY:Gratis regenpijp afkoppelen
DESCRIPTION:Het team van de Groenmakers Afkoppeldagen komt graag op de actiedag op zaterdag 30 mei 2026 ook jouw regenpijp afkoppelen van het riool. \nEr zijn steeds vaker hevige regenbuien. Het regenwater gaat nu via de regenpijp het riool in. Als het te veel wordt\, kan het riool het niet meer aan: straten lopen onder of kelders lopen vol. Door je regenpijp af te koppelen help je dit voorkomen. Het regenwater stroomt dan je tuin in en zakt rustig de grond in. \nVoordelen van het afkoppelen van je regenpijp: \n\nJe hebt minder kans op wateroverlast bij harde regenbuien. Het regenwater zakt weg in jouw tuin en komt dus niet in het riool terecht.\nJe helpt mee om water op te slaan in de bodem en dat is goed voor de natuur! Planten en bomen houden regenwater vast. Hierdoor droogt de grond minder snel uit en hoef je minder te sproeien op warme dagen.\n\nHoe werkt het?\nTijdens je aanmelding worden in het aanmeldformulier een aantal vragen gesteld zodat jouw situatie goed kan worden ingeschat. Ook komen iemand van gemeente Nijmegen bij je langs om te controleren of het regenwater in jouw tuin goed de grond in kan stromen\, dat is namelijk belangrijk als je je regenpijp laat afkoppelen. In het aanmeldformulier kun je een of meerdere voorkeursdagen aangeven wanneer we jouw situatie kunnen beoordelen. Is je regenpijp goedgekeurd? Dan komt iemand van de Groenmakers afkoppeldagen op 30 mei bij je langs om je regenpijp af te koppelen. \nMeedoen aan de afkoppeldag is gratis. Aanmelden kan tot en met 17 mei. Wacht niet te lang\, want vol = vol. \nMeer informatie en aanmelden: www.debastei.nl/afkoppeldagen \nDe Groenmakers Afkoppeldagen zijn een initiatief van Groenmakers van Museum De Bastei en wordt uitgevoerd in samenwerking met Lentekracht.
URL:https://neerbosch.nu/activiteit/gratis-regenpijp-afkoppelen/
ATTACH;FMTTYPE=image/jpeg:https://neerbosch.nu/wp-content/uploads/2026/04/regenpijp_afkoppelen.jpg
END:VEVENT
BEGIN:VEVENT
DTSTART;TZID=Europe/Paris:20260601T090000
DTEND;TZID=Europe/Paris:20260601T100000
DTSTAMP:20260425T135902
CREATED:20260424T094707Z
LAST-MODIFIED:20260424T095704Z
UID:10000752-1780304400-1780308000@neerbosch.nu
SUMMARY:Seniorengym
DESCRIPTION:Elke maandag om 9:00 seniorengym in De Schalmei
URL:https://neerbosch.nu/activiteit/seniorengym/2026-06-01/
LOCATION:Wijkcentrum De Schalmei\, Symfoniestraat 204\, Nijmegen\, 6544 TN
ATTACH;FMTTYPE=image/jpeg:https://neerbosch.nu/wp-content/uploads/2026/04/Gym-scaled.jpg
END:VEVENT
BEGIN:VEVENT
DTSTART;TZID=Europe/Paris:20260601T100000
DTEND;TZID=Europe/Paris:20260601T113000
DTSTAMP:20260425T135903
CREATED:20260424T095556Z
LAST-MODIFIED:20260424T095556Z
UID:10001012-1780308000-1780313400@neerbosch.nu
SUMMARY:Lol met wol
DESCRIPTION:Elke maandag om 10:00 lol met wol in De Schalmei.
URL:https://neerbosch.nu/activiteit/lol-met-wol/2026-06-01/
LOCATION:Wijkcentrum De Schalmei\, Symfoniestraat 204\, Nijmegen\, 6544 TN
ATTACH;FMTTYPE=image/jpeg:https://neerbosch.nu/wp-content/uploads/2026/04/wol-scaled.jpg
END:VEVENT
BEGIN:VEVENT
DTSTART;TZID=Europe/Paris:20260601T133000
DTEND;TZID=Europe/Paris:20260601T153000
DTSTAMP:20260425T135903
CREATED:20260417T134254Z
LAST-MODIFIED:20260417T134254Z
UID:10000168-1780320600-1780327800@neerbosch.nu
SUMMARY:Line dance gevorderd
DESCRIPTION:De gevorderde line dancers dansen op maandagmiddag van 13.30-15.30 uur in het wijkcentrum De Schalmei in Neerbosch Oost. Informatie bij Els Harwijne -van Beek. Telefoon nr.  0243778815
URL:https://neerbosch.nu/activiteit/line-dance-gevorderd/2026-06-01/
LOCATION:Wijkcentrum De Schalmei\, Symfoniestraat 204\, Nijmegen\, 6544 TN
ATTACH;FMTTYPE=image/jpeg:https://neerbosch.nu/wp-content/uploads/2026/01/Line-Dance-groep.jpg
END:VEVENT
BEGIN:VEVENT
DTSTART;TZID=Europe/Paris:20260601T193000
DTEND;TZID=Europe/Paris:20260601T213000
DTSTAMP:20260425T135903
CREATED:20260424T100201Z
LAST-MODIFIED:20260424T100201Z
UID:10001272-1780342200-1780349400@neerbosch.nu
SUMMARY:Salonorkest Symfonia
DESCRIPTION:Op maandagavond om 19:30 oefent salonorkest Symphonia in De Schalmei. Zij zoeken nieuwe muzikanten. \nSalonorkest Symphonia is een orkest voor amateur-musici die voor hun plezier met muziek bezig willen zijn.\nWe hebben een uitgebreid repertoire dat bestaat uit licht klassieke\, populaire muziek\, zoals melodieën uit opera’s en operettes\, bekende walsen\, marsen\, tango’s\, liederen.
URL:https://neerbosch.nu/activiteit/salonorkest-symfonia/2026-06-01/
LOCATION:Wijkcentrum De Schalmei\, Symfoniestraat 204\, Nijmegen\, 6544 TN
ATTACH;FMTTYPE=image/jpeg:https://neerbosch.nu/wp-content/uploads/2026/04/viool-scaled.jpg
END:VEVENT
BEGIN:VEVENT
DTSTART;TZID=Europe/Paris:20260602T100000
DTEND;TZID=Europe/Paris:20260602T110000
DTSTAMP:20260425T135903
CREATED:20260424T102516Z
LAST-MODIFIED:20260424T102516Z
UID:10001531-1780394400-1780398000@neerbosch.nu
SUMMARY:Leesgroep Beamer
DESCRIPTION:Elke dinsdag om 10:00 komen Marokaanse vrouwen in De Schalmei bij elkaar om te lezen in leesgroep Beamer.
URL:https://neerbosch.nu/activiteit/leesgroep-beamer/2026-06-02/
LOCATION:Wijkcentrum De Schalmei\, Symfoniestraat 204\, Nijmegen\, 6544 TN
ATTACH;FMTTYPE=image/jpeg:https://neerbosch.nu/wp-content/uploads/2026/04/boeken.jpg
END:VEVENT
BEGIN:VEVENT
DTSTART;TZID=Europe/Paris:20260602T110000
DTEND;TZID=Europe/Paris:20260602T120000
DTSTAMP:20260425T135903
CREATED:20260417T134559Z
LAST-MODIFIED:20260417T134559Z
UID:10000427-1780398000-1780401600@neerbosch.nu
SUMMARY:Line Dance beginners
DESCRIPTION:Beginnende line dancers dansen op de donderdagmorgen van 11.00-12.00 uur in De Schalmei in Neerbosch Oost. Informatie bij Els Harwijne -van Beek. Telefoon nr.  0243778815
URL:https://neerbosch.nu/activiteit/line-dance-beginners-3/2026-06-02/
ATTACH;FMTTYPE=image/jpeg:https://neerbosch.nu/wp-content/uploads/2026/01/Line-Dance-groep.jpg
END:VEVENT
BEGIN:VEVENT
DTSTART;TZID=Europe/Paris:20260602T140000
DTEND;TZID=Europe/Paris:20260602T153000
DTSTAMP:20260425T135903
CREATED:20260424T103331Z
LAST-MODIFIED:20260424T103331Z
UID:10001788-1780408800-1780414200@neerbosch.nu
SUMMARY:Zangkoor de Notenhoutjes
DESCRIPTION:Om de week op dinsdag om 14:00 oefent zangkoor De Notenhoutjes in De Schalmei.
URL:https://neerbosch.nu/activiteit/zangkoor-de-notenhoutjes/2026-06-02/
LOCATION:Wijkcentrum De Schalmei\, Symfoniestraat 204\, Nijmegen\, 6544 TN
ATTACH;FMTTYPE=image/jpeg:https://neerbosch.nu/wp-content/uploads/2026/04/Muzieknoten-scaled.jpg
END:VEVENT
BEGIN:VEVENT
DTSTART;TZID=Europe/Paris:20260602T140000
DTEND;TZID=Europe/Paris:20260602T160000
DTSTAMP:20260425T135903
CREATED:20260408T111428Z
LAST-MODIFIED:20260408T111615Z
UID:10000057-1780408800-1780416000@neerbosch.nu
SUMMARY:Creatieve inloop 65+
DESCRIPTION:Iedere twee weken kun je op dinsdag van 14.00 tot 16.00 terecht bij de creatieve inloop voor 65+’ers in het atelier van De Schalmei. Je kunt gewoon binnenlopen om kennis te maken of mee te doen.
URL:https://neerbosch.nu/activiteit/creatieve-inloop-65-5/2026-06-02/
LOCATION:Wijkcentrum De Schalmei\, Symfoniestraat 204\, Nijmegen\, 6544 TN
ATTACH;FMTTYPE=image/jpeg:https://neerbosch.nu/wp-content/uploads/2026/01/knutselen-scaled-e1769631971984.jpg
END:VEVENT
BEGIN:VEVENT
DTSTART;TZID=Europe/Paris:20260603T100000
DTEND;TZID=Europe/Paris:20260603T140000
DTSTAMP:20260425T135903
CREATED:20260408T113720Z
LAST-MODIFIED:20260408T113821Z
UID:10000105-1780480800-1780495200@neerbosch.nu
SUMMARY:Soepie doen?
DESCRIPTION:Elke eerste woensdag van de maand kun je rond de lunch een soepie doen bij De Schalmei. Mee koken kan vanaf 10:00\, maar alleen aansluiten voor de soep mag ook om 12:00. Kosten €1\,50 voor een kop soep met brood.
URL:https://neerbosch.nu/activiteit/soepie-doen/2026-06-03/
ATTACH;FMTTYPE=image/jpeg:https://neerbosch.nu/wp-content/uploads/2026/04/Soepie-doen-header.jpg
END:VEVENT
BEGIN:VEVENT
DTSTART;TZID=Europe/Paris:20260603T133000
DTEND;TZID=Europe/Paris:20260603T163000
DTSTAMP:20260425T135903
CREATED:20260422T144353Z
LAST-MODIFIED:20260422T144353Z
UID:10000684-1780493400-1780504200@neerbosch.nu
SUMMARY:Theater en film café Ouderenwerk
DESCRIPTION:Vanaf 6 mei 2026 elke eerste woensdag van de maand filmmiddag in De Schalmei\, met gezellig napraten.
URL:https://neerbosch.nu/activiteit/theater-en-film-cafe-ouderenwerk/2026-06-03/
LOCATION:Wijkcentrum De Schalmei\, Symfoniestraat 204\, Nijmegen\, 6544 TN
ATTACH;FMTTYPE=image/png:https://neerbosch.nu/wp-content/uploads/2026/04/Header-filmavond.png
END:VEVENT
BEGIN:VEVENT
DTSTART;TZID=Europe/Paris:20260608T090000
DTEND;TZID=Europe/Paris:20260608T100000
DTSTAMP:20260425T135903
CREATED:20260424T094707Z
LAST-MODIFIED:20260424T095704Z
UID:10000753-1780909200-1780912800@neerbosch.nu
SUMMARY:Seniorengym
DESCRIPTION:Elke maandag om 9:00 seniorengym in De Schalmei
URL:https://neerbosch.nu/activiteit/seniorengym/2026-06-08/
LOCATION:Wijkcentrum De Schalmei\, Symfoniestraat 204\, Nijmegen\, 6544 TN
ATTACH;FMTTYPE=image/jpeg:https://neerbosch.nu/wp-content/uploads/2026/04/Gym-scaled.jpg
END:VEVENT
BEGIN:VEVENT
DTSTART;TZID=Europe/Paris:20260608T100000
DTEND;TZID=Europe/Paris:20260608T113000
DTSTAMP:20260425T135903
CREATED:20260424T095556Z
LAST-MODIFIED:20260424T095556Z
UID:10001013-1780912800-1780918200@neerbosch.nu
SUMMARY:Lol met wol
DESCRIPTION:Elke maandag om 10:00 lol met wol in De Schalmei.
URL:https://neerbosch.nu/activiteit/lol-met-wol/2026-06-08/
LOCATION:Wijkcentrum De Schalmei\, Symfoniestraat 204\, Nijmegen\, 6544 TN
ATTACH;FMTTYPE=image/jpeg:https://neerbosch.nu/wp-content/uploads/2026/04/wol-scaled.jpg
END:VEVENT
BEGIN:VEVENT
DTSTART;TZID=Europe/Paris:20260608T133000
DTEND;TZID=Europe/Paris:20260608T153000
DTSTAMP:20260425T135903
CREATED:20260417T134254Z
LAST-MODIFIED:20260417T134254Z
UID:10000169-1780925400-1780932600@neerbosch.nu
SUMMARY:Line dance gevorderd
DESCRIPTION:De gevorderde line dancers dansen op maandagmiddag van 13.30-15.30 uur in het wijkcentrum De Schalmei in Neerbosch Oost. Informatie bij Els Harwijne -van Beek. Telefoon nr.  0243778815
URL:https://neerbosch.nu/activiteit/line-dance-gevorderd/2026-06-08/
LOCATION:Wijkcentrum De Schalmei\, Symfoniestraat 204\, Nijmegen\, 6544 TN
ATTACH;FMTTYPE=image/jpeg:https://neerbosch.nu/wp-content/uploads/2026/01/Line-Dance-groep.jpg
END:VEVENT
BEGIN:VEVENT
DTSTART;TZID=Europe/Paris:20260608T193000
DTEND;TZID=Europe/Paris:20260608T213000
DTSTAMP:20260425T135903
CREATED:20260424T100201Z
LAST-MODIFIED:20260424T100201Z
UID:10001273-1780947000-1780954200@neerbosch.nu
SUMMARY:Salonorkest Symfonia
DESCRIPTION:Op maandagavond om 19:30 oefent salonorkest Symphonia in De Schalmei. Zij zoeken nieuwe muzikanten. \nSalonorkest Symphonia is een orkest voor amateur-musici die voor hun plezier met muziek bezig willen zijn.\nWe hebben een uitgebreid repertoire dat bestaat uit licht klassieke\, populaire muziek\, zoals melodieën uit opera’s en operettes\, bekende walsen\, marsen\, tango’s\, liederen.
URL:https://neerbosch.nu/activiteit/salonorkest-symfonia/2026-06-08/
LOCATION:Wijkcentrum De Schalmei\, Symfoniestraat 204\, Nijmegen\, 6544 TN
ATTACH;FMTTYPE=image/jpeg:https://neerbosch.nu/wp-content/uploads/2026/04/viool-scaled.jpg
END:VEVENT
BEGIN:VEVENT
DTSTART;TZID=Europe/Paris:20260609T100000
DTEND;TZID=Europe/Paris:20260609T110000
DTSTAMP:20260425T135903
CREATED:20260424T102516Z
LAST-MODIFIED:20260424T102516Z
UID:10001532-1780999200-1781002800@neerbosch.nu
SUMMARY:Leesgroep Beamer
DESCRIPTION:Elke dinsdag om 10:00 komen Marokaanse vrouwen in De Schalmei bij elkaar om te lezen in leesgroep Beamer.
URL:https://neerbosch.nu/activiteit/leesgroep-beamer/2026-06-09/
LOCATION:Wijkcentrum De Schalmei\, Symfoniestraat 204\, Nijmegen\, 6544 TN
ATTACH;FMTTYPE=image/jpeg:https://neerbosch.nu/wp-content/uploads/2026/04/boeken.jpg
END:VEVENT
BEGIN:VEVENT
DTSTART;TZID=Europe/Paris:20260609T110000
DTEND;TZID=Europe/Paris:20260609T120000
DTSTAMP:20260425T135903
CREATED:20260417T134559Z
LAST-MODIFIED:20260417T134559Z
UID:10000428-1781002800-1781006400@neerbosch.nu
SUMMARY:Line Dance beginners
DESCRIPTION:Beginnende line dancers dansen op de donderdagmorgen van 11.00-12.00 uur in De Schalmei in Neerbosch Oost. Informatie bij Els Harwijne -van Beek. Telefoon nr.  0243778815
URL:https://neerbosch.nu/activiteit/line-dance-beginners-3/2026-06-09/
ATTACH;FMTTYPE=image/jpeg:https://neerbosch.nu/wp-content/uploads/2026/01/Line-Dance-groep.jpg
END:VEVENT
BEGIN:VEVENT
DTSTART;TZID=Europe/Paris:20260610T180000
DTEND;TZID=Europe/Paris:20260610T200000
DTSTAMP:20260425T135903
CREATED:20260408T112816Z
LAST-MODIFIED:20260408T113908Z
UID:10000090-1781114400-1781121600@neerbosch.nu
SUMMARY:Een bordje d'r bij in de Schalmei
DESCRIPTION:Elke twee weken koken vrijwilligers een heerlijke warme maaltijd voor buurtbewoners. Iedereen is welkom!
URL:https://neerbosch.nu/activiteit/een-bordje-dr-bij-in-de-schalmei-2/2026-06-10/
ATTACH;FMTTYPE=image/png:https://neerbosch.nu/wp-content/uploads/2026/02/Buurt-aan-tafel-7-header.png
END:VEVENT
BEGIN:VEVENT
DTSTART;TZID=Europe/Paris:20260615T090000
DTEND;TZID=Europe/Paris:20260615T100000
DTSTAMP:20260425T135903
CREATED:20260424T094707Z
LAST-MODIFIED:20260424T095704Z
UID:10000754-1781514000-1781517600@neerbosch.nu
SUMMARY:Seniorengym
DESCRIPTION:Elke maandag om 9:00 seniorengym in De Schalmei
URL:https://neerbosch.nu/activiteit/seniorengym/2026-06-15/
LOCATION:Wijkcentrum De Schalmei\, Symfoniestraat 204\, Nijmegen\, 6544 TN
ATTACH;FMTTYPE=image/jpeg:https://neerbosch.nu/wp-content/uploads/2026/04/Gym-scaled.jpg
END:VEVENT
BEGIN:VEVENT
DTSTART;TZID=Europe/Paris:20260615T100000
DTEND;TZID=Europe/Paris:20260615T113000
DTSTAMP:20260425T135903
CREATED:20260424T095556Z
LAST-MODIFIED:20260424T095556Z
UID:10001014-1781517600-1781523000@neerbosch.nu
SUMMARY:Lol met wol
DESCRIPTION:Elke maandag om 10:00 lol met wol in De Schalmei.
URL:https://neerbosch.nu/activiteit/lol-met-wol/2026-06-15/
LOCATION:Wijkcentrum De Schalmei\, Symfoniestraat 204\, Nijmegen\, 6544 TN
ATTACH;FMTTYPE=image/jpeg:https://neerbosch.nu/wp-content/uploads/2026/04/wol-scaled.jpg
END:VEVENT
BEGIN:VEVENT
DTSTART;TZID=Europe/Paris:20260615T133000
DTEND;TZID=Europe/Paris:20260615T153000
DTSTAMP:20260425T135903
CREATED:20260417T134254Z
LAST-MODIFIED:20260417T134254Z
UID:10000170-1781530200-1781537400@neerbosch.nu
SUMMARY:Line dance gevorderd
DESCRIPTION:De gevorderde line dancers dansen op maandagmiddag van 13.30-15.30 uur in het wijkcentrum De Schalmei in Neerbosch Oost. Informatie bij Els Harwijne -van Beek. Telefoon nr.  0243778815
URL:https://neerbosch.nu/activiteit/line-dance-gevorderd/2026-06-15/
LOCATION:Wijkcentrum De Schalmei\, Symfoniestraat 204\, Nijmegen\, 6544 TN
ATTACH;FMTTYPE=image/jpeg:https://neerbosch.nu/wp-content/uploads/2026/01/Line-Dance-groep.jpg
END:VEVENT
BEGIN:VEVENT
DTSTART;TZID=Europe/Paris:20260615T193000
DTEND;TZID=Europe/Paris:20260615T213000
DTSTAMP:20260425T135903
CREATED:20260424T100201Z
LAST-MODIFIED:20260424T100201Z
UID:10001274-1781551800-1781559000@neerbosch.nu
SUMMARY:Salonorkest Symfonia
DESCRIPTION:Op maandagavond om 19:30 oefent salonorkest Symphonia in De Schalmei. Zij zoeken nieuwe muzikanten. \nSalonorkest Symphonia is een orkest voor amateur-musici die voor hun plezier met muziek bezig willen zijn.\nWe hebben een uitgebreid repertoire dat bestaat uit licht klassieke\, populaire muziek\, zoals melodieën uit opera’s en operettes\, bekende walsen\, marsen\, tango’s\, liederen.
URL:https://neerbosch.nu/activiteit/salonorkest-symfonia/2026-06-15/
LOCATION:Wijkcentrum De Schalmei\, Symfoniestraat 204\, Nijmegen\, 6544 TN
ATTACH;FMTTYPE=image/jpeg:https://neerbosch.nu/wp-content/uploads/2026/04/viool-scaled.jpg
END:VEVENT
BEGIN:VEVENT
DTSTART;TZID=Europe/Paris:20260616T100000
DTEND;TZID=Europe/Paris:20260616T110000
DTSTAMP:20260425T135903
CREATED:20260424T102516Z
LAST-MODIFIED:20260424T102516Z
UID:10001533-1781604000-1781607600@neerbosch.nu
SUMMARY:Leesgroep Beamer
DESCRIPTION:Elke dinsdag om 10:00 komen Marokaanse vrouwen in De Schalmei bij elkaar om te lezen in leesgroep Beamer.
URL:https://neerbosch.nu/activiteit/leesgroep-beamer/2026-06-16/
LOCATION:Wijkcentrum De Schalmei\, Symfoniestraat 204\, Nijmegen\, 6544 TN
ATTACH;FMTTYPE=image/jpeg:https://neerbosch.nu/wp-content/uploads/2026/04/boeken.jpg
END:VEVENT
BEGIN:VEVENT
DTSTART;TZID=Europe/Paris:20260616T110000
DTEND;TZID=Europe/Paris:20260616T120000
DTSTAMP:20260425T135903
CREATED:20260417T134559Z
LAST-MODIFIED:20260417T134559Z
UID:10000429-1781607600-1781611200@neerbosch.nu
SUMMARY:Line Dance beginners
DESCRIPTION:Beginnende line dancers dansen op de donderdagmorgen van 11.00-12.00 uur in De Schalmei in Neerbosch Oost. Informatie bij Els Harwijne -van Beek. Telefoon nr.  0243778815
URL:https://neerbosch.nu/activiteit/line-dance-beginners-3/2026-06-16/
ATTACH;FMTTYPE=image/jpeg:https://neerbosch.nu/wp-content/uploads/2026/01/Line-Dance-groep.jpg
END:VEVENT
BEGIN:VEVENT
DTSTART;TZID=Europe/Paris:20260616T140000
DTEND;TZID=Europe/Paris:20260616T153000
DTSTAMP:20260425T135903
CREATED:20260424T103331Z
LAST-MODIFIED:20260424T103331Z
UID:10001789-1781618400-1781623800@neerbosch.nu
SUMMARY:Zangkoor de Notenhoutjes
DESCRIPTION:Om de week op dinsdag om 14:00 oefent zangkoor De Notenhoutjes in De Schalmei.
URL:https://neerbosch.nu/activiteit/zangkoor-de-notenhoutjes/2026-06-16/
LOCATION:Wijkcentrum De Schalmei\, Symfoniestraat 204\, Nijmegen\, 6544 TN
ATTACH;FMTTYPE=image/jpeg:https://neerbosch.nu/wp-content/uploads/2026/04/Muzieknoten-scaled.jpg
END:VEVENT
END:VCALENDAR