BEGIN:VCALENDAR
VERSION:2.0
PRODID:-//Neerbosch Nu - ECPv6.15.18//NONSGML v1.0//EN
CALSCALE:GREGORIAN
METHOD:PUBLISH
X-ORIGINAL-URL:https://neerbosch.nu
X-WR-CALDESC:Evenementen voor Neerbosch Nu
REFRESH-INTERVAL;VALUE=DURATION:PT1H
X-Robots-Tag:noindex
X-PUBLISHED-TTL:PT1H
BEGIN:VTIMEZONE
TZID:Europe/Paris
BEGIN:DAYLIGHT
TZOFFSETFROM:+0100
TZOFFSETTO:+0200
TZNAME:CEST
DTSTART:20230326T010000
END:DAYLIGHT
BEGIN:STANDARD
TZOFFSETFROM:+0200
TZOFFSETTO:+0100
TZNAME:CET
DTSTART:20231029T010000
END:STANDARD
BEGIN:DAYLIGHT
TZOFFSETFROM:+0100
TZOFFSETTO:+0200
TZNAME:CEST
DTSTART:20240331T010000
END:DAYLIGHT
BEGIN:STANDARD
TZOFFSETFROM:+0200
TZOFFSETTO:+0100
TZNAME:CET
DTSTART:20241027T010000
END:STANDARD
BEGIN:DAYLIGHT
TZOFFSETFROM:+0100
TZOFFSETTO:+0200
TZNAME:CEST
DTSTART:20250330T010000
END:DAYLIGHT
BEGIN:STANDARD
TZOFFSETFROM:+0200
TZOFFSETTO:+0100
TZNAME:CET
DTSTART:20251026T010000
END:STANDARD
END:VTIMEZONE
BEGIN:VEVENT
DTSTART;TZID=Europe/Paris:20241101T190000
DTEND;TZID=Europe/Paris:20241101T230000
DTSTAMP:20260425T172742
CREATED:20241013T211253Z
LAST-MODIFIED:20241013T211356Z
UID:10000003-1730487600-1730502000@neerbosch.nu
SUMMARY:Pubquiz door NBO Live
DESCRIPTION:Op vrijdag 1 november organiseert NBO Live een pubquiz in wijkcentrum De Schalmei. \nDe pubquiz richt zich op onze muziekwijk. Met vragen voor en door bewoners. Organisator NBO Live is een groep wijkbewoners die af en toe muziek in de wijk brengt met muzikale activiteiten. \nDe inloop is om 19:00 uur en de pubquiz begint om 19:30 uur in de Schalmei en de toegang is gratis.
URL:https://neerbosch.nu/activiteit/pubquiz-door-nbo-live/
LOCATION:Wijkcentrum De Schalmei\, Symfoniestraat 204\, Nijmegen\, 6544 TN
ATTACH;FMTTYPE=image/jpeg:https://neerbosch.nu/wp-content/uploads/2024/10/pubquiz-NBO-16-9.jpg
END:VEVENT
BEGIN:VEVENT
DTSTART;TZID=Europe/Paris:20241031T180000
DTEND;TZID=Europe/Paris:20241031T203000
DTSTAMP:20260425T172742
CREATED:20241011T151740Z
LAST-MODIFIED:20241011T162246Z
UID:10000002-1730397600-1730406600@neerbosch.nu
SUMMARY:Halloween: Sjano Spooktocht
DESCRIPTION:Op donderdag 31 oktober trekt er vanaf 18:00 uur een spooktocht door Neerbosch. SJANO heeft de tocht georganiseerd. Dit jaar is het thema ‘The Haunted Woods’. De griezelige Halloween-wandeling begint bij Basisschool TOON aan de Symfoniestraat 210 in Nijmegen. \nKosten per persoon: € 2\,-\nVoorverkoop op 28\, 29 en 30 oktober bij Ugala tussen 17:00 en 19:00 uur. \nMeer info >
URL:https://neerbosch.nu/activiteit/halloween-sjano-spooktocht/
LOCATION:Kindcentrum Toon\, Symfoniestraat 210\, Nijmegen\, 6544 TN
ATTACH;FMTTYPE=image/jpeg:https://neerbosch.nu/wp-content/uploads/2024/09/460541082_957837606383942_7358305424625718131_n-edited-e1728659551158.jpg
END:VEVENT
BEGIN:VEVENT
DTSTART;TZID=Europe/Paris:20241023T131500
DTEND;TZID=Europe/Paris:20241023T160000
DTSTAMP:20260425T172742
CREATED:20241021T192559Z
LAST-MODIFIED:20241021T192805Z
UID:10000005-1729689300-1729699200@neerbosch.nu
SUMMARY:Bingomiddag KBO Neerbosch-Oost in De Schalmei
DESCRIPTION:Op woensdag 23 oktober organiseert het KBO-wijkcomité Neerbosch- Oost een bingo in het wijkcentrum De Schalmei voor alle senioren in Neerbosch-Oost en omgeving. De zaal gaat open om 13:15 uur en om 14:00 uur is de aftrap met een kop koffie/thee met traktatie. \nEr worden vervolgens 5 rondes bingo gespeeld met vier prijzen per ronde. De hoofdprijs is een bon van € 20. De overige prijzen worden gedeeltelijk samengesteld door de vrijwilligers van de KBO\, met ongeveer een waarde van € 10 en aangevuld met cadeaubonnen van € 10. \nNa drie rondes bingo is er een pauze met een consumptie en een hapje\, daarna zijn de laatste twee rondes bingo. \nHet programma eindigt rond 16:00 uur. De toegang kost € 8 per persoon. Deze prijs is inclusief het kopje koffie/thee\, een consumptie en een hapje en de deelname aan de vijf rondes bingo. \n \n 
URL:https://neerbosch.nu/activiteit/bingomiddag-kbo-neerbosch-oost-in-de-schalmei/
LOCATION:Wijkcentrum De Schalmei\, Symfoniestraat 204\, Nijmegen\, 6544 TN
ATTACH;FMTTYPE=image/jpeg:https://neerbosch.nu/wp-content/uploads/2024/10/Schalmei-1-1024x768-1-e1729537414248.jpeg
END:VEVENT
BEGIN:VEVENT
DTSTART;TZID=Europe/Paris:20241017T180000
DTEND;TZID=Europe/Paris:20241017T210000
DTSTAMP:20260425T172742
CREATED:20241011T145645Z
LAST-MODIFIED:20241011T162205Z
UID:10000001-1729188000-1729198800@neerbosch.nu
SUMMARY:Bijeenkomst over De Schalmei en wijkwebsite
DESCRIPTION:Op 17 oktober is er in wijkcentrum De Schalmei een bijeenkomst over het wijkcentrum en over de nieuwe wijkwebsite Neerbosch.nu. \nVan 18:00 tot 21:00 uur kan iedereen aanschuiven in De Schalmei aan de Symfoniestraat 204. \nEr wordt gesproken over de ontmoetingsruimte in De Schalmei\, over het gebruik van de keuken en de andere ruimtes en hoe het wijkcentrum mooier gemaakt kan worden en hoe de omliggende tuin ingericht kan worden. \nOok wordt de nieuwe wijkwebsite Neerbosch.nu gepresenteerd en wordt er gevraagd naar ideeën om de website voor alle Neerbosschenaren interessant\, informatief en leuk te maken. \nAanmelden voor de informatieavond op 17 oktober kan door een mail te sturen naar dorien.baetsleer@bindkracht.nl.
URL:https://neerbosch.nu/activiteit/bijeenkomst-over-de-schalmei-en-wijkwebsite/
LOCATION:Wijkcentrum De Schalmei\, Symfoniestraat 204\, Nijmegen\, 6544 TN
ATTACH;FMTTYPE=image/jpeg:https://neerbosch.nu/wp-content/uploads/2024/10/17-oktober.jpg
END:VEVENT
END:VCALENDAR