BEGIN:VCALENDAR
VERSION:2.0
PRODID:-//Neerbosch Nu - ECPv6.15.18//NONSGML v1.0//EN
CALSCALE:GREGORIAN
METHOD:PUBLISH
X-WR-CALNAME:Neerbosch Nu
X-ORIGINAL-URL:https://neerbosch.nu
X-WR-CALDESC:Evenementen voor Neerbosch Nu
REFRESH-INTERVAL;VALUE=DURATION:PT1H
X-Robots-Tag:noindex
X-PUBLISHED-TTL:PT1H
BEGIN:VTIMEZONE
TZID:Europe/Paris
BEGIN:DAYLIGHT
TZOFFSETFROM:+0100
TZOFFSETTO:+0200
TZNAME:CEST
DTSTART:20250330T010000
END:DAYLIGHT
BEGIN:STANDARD
TZOFFSETFROM:+0200
TZOFFSETTO:+0100
TZNAME:CET
DTSTART:20251026T010000
END:STANDARD
BEGIN:DAYLIGHT
TZOFFSETFROM:+0100
TZOFFSETTO:+0200
TZNAME:CEST
DTSTART:20260329T010000
END:DAYLIGHT
BEGIN:STANDARD
TZOFFSETFROM:+0200
TZOFFSETTO:+0100
TZNAME:CET
DTSTART:20261025T010000
END:STANDARD
BEGIN:DAYLIGHT
TZOFFSETFROM:+0100
TZOFFSETTO:+0200
TZNAME:CEST
DTSTART:20270328T010000
END:DAYLIGHT
BEGIN:STANDARD
TZOFFSETFROM:+0200
TZOFFSETTO:+0100
TZNAME:CET
DTSTART:20271031T010000
END:STANDARD
END:VTIMEZONE
BEGIN:VEVENT
DTSTART;TZID=Europe/Paris:20260629T133000
DTEND;TZID=Europe/Paris:20260629T153000
DTSTAMP:20260426T002351
CREATED:20260417T134254Z
LAST-MODIFIED:20260417T134254Z
UID:10000172-1782739800-1782747000@neerbosch.nu
SUMMARY:Line dance gevorderd
DESCRIPTION:De gevorderde line dancers dansen op maandagmiddag van 13.30-15.30 uur in het wijkcentrum De Schalmei in Neerbosch Oost. Informatie bij Els Harwijne -van Beek. Telefoon nr.  0243778815
URL:https://neerbosch.nu/activiteit/line-dance-gevorderd/2026-06-29/
LOCATION:Wijkcentrum De Schalmei\, Symfoniestraat 204\, Nijmegen\, 6544 TN
ATTACH;FMTTYPE=image/jpeg:https://neerbosch.nu/wp-content/uploads/2026/01/Line-Dance-groep.jpg
END:VEVENT
BEGIN:VEVENT
DTSTART;TZID=Europe/Paris:20260629T193000
DTEND;TZID=Europe/Paris:20260629T213000
DTSTAMP:20260426T002351
CREATED:20260424T100201Z
LAST-MODIFIED:20260424T100201Z
UID:10001276-1782761400-1782768600@neerbosch.nu
SUMMARY:Salonorkest Symfonia
DESCRIPTION:Op maandagavond om 19:30 oefent salonorkest Symphonia in De Schalmei. Zij zoeken nieuwe muzikanten. \nSalonorkest Symphonia is een orkest voor amateur-musici die voor hun plezier met muziek bezig willen zijn.\nWe hebben een uitgebreid repertoire dat bestaat uit licht klassieke\, populaire muziek\, zoals melodieën uit opera’s en operettes\, bekende walsen\, marsen\, tango’s\, liederen.
URL:https://neerbosch.nu/activiteit/salonorkest-symfonia/2026-06-29/
LOCATION:Wijkcentrum De Schalmei\, Symfoniestraat 204\, Nijmegen\, 6544 TN
ATTACH;FMTTYPE=image/jpeg:https://neerbosch.nu/wp-content/uploads/2026/04/viool-scaled.jpg
END:VEVENT
BEGIN:VEVENT
DTSTART;TZID=Europe/Paris:20260630T100000
DTEND;TZID=Europe/Paris:20260630T110000
DTSTAMP:20260426T002351
CREATED:20260424T102516Z
LAST-MODIFIED:20260424T102516Z
UID:10001535-1782813600-1782817200@neerbosch.nu
SUMMARY:Leesgroep Beamer
DESCRIPTION:Elke dinsdag om 10:00 komen Marokaanse vrouwen in De Schalmei bij elkaar om te lezen in leesgroep Beamer.
URL:https://neerbosch.nu/activiteit/leesgroep-beamer/2026-06-30/
LOCATION:Wijkcentrum De Schalmei\, Symfoniestraat 204\, Nijmegen\, 6544 TN
ATTACH;FMTTYPE=image/jpeg:https://neerbosch.nu/wp-content/uploads/2026/04/boeken.jpg
END:VEVENT
BEGIN:VEVENT
DTSTART;TZID=Europe/Paris:20260630T110000
DTEND;TZID=Europe/Paris:20260630T120000
DTSTAMP:20260426T002351
CREATED:20260417T134559Z
LAST-MODIFIED:20260417T134559Z
UID:10000431-1782817200-1782820800@neerbosch.nu
SUMMARY:Line Dance beginners
DESCRIPTION:Beginnende line dancers dansen op de donderdagmorgen van 11.00-12.00 uur in De Schalmei in Neerbosch Oost. Informatie bij Els Harwijne -van Beek. Telefoon nr.  0243778815
URL:https://neerbosch.nu/activiteit/line-dance-beginners-3/2026-06-30/
ATTACH;FMTTYPE=image/jpeg:https://neerbosch.nu/wp-content/uploads/2026/01/Line-Dance-groep.jpg
END:VEVENT
BEGIN:VEVENT
DTSTART;TZID=Europe/Paris:20260630T140000
DTEND;TZID=Europe/Paris:20260630T153000
DTSTAMP:20260426T002352
CREATED:20260424T103331Z
LAST-MODIFIED:20260424T103331Z
UID:10001790-1782828000-1782833400@neerbosch.nu
SUMMARY:Zangkoor de Notenhoutjes
DESCRIPTION:Om de week op dinsdag om 14:00 oefent zangkoor De Notenhoutjes in De Schalmei.
URL:https://neerbosch.nu/activiteit/zangkoor-de-notenhoutjes/2026-06-30/
LOCATION:Wijkcentrum De Schalmei\, Symfoniestraat 204\, Nijmegen\, 6544 TN
ATTACH;FMTTYPE=image/jpeg:https://neerbosch.nu/wp-content/uploads/2026/04/Muzieknoten-scaled.jpg
END:VEVENT
BEGIN:VEVENT
DTSTART;TZID=Europe/Paris:20260630T140000
DTEND;TZID=Europe/Paris:20260630T160000
DTSTAMP:20260426T002352
CREATED:20260408T111428Z
LAST-MODIFIED:20260408T111615Z
UID:10000059-1782828000-1782835200@neerbosch.nu
SUMMARY:Creatieve inloop 65+
DESCRIPTION:Iedere twee weken kun je op dinsdag van 14.00 tot 16.00 terecht bij de creatieve inloop voor 65+’ers in het atelier van De Schalmei. Je kunt gewoon binnenlopen om kennis te maken of mee te doen.
URL:https://neerbosch.nu/activiteit/creatieve-inloop-65-5/2026-06-30/
LOCATION:Wijkcentrum De Schalmei\, Symfoniestraat 204\, Nijmegen\, 6544 TN
ATTACH;FMTTYPE=image/jpeg:https://neerbosch.nu/wp-content/uploads/2026/01/knutselen-scaled-e1769631971984.jpg
END:VEVENT
BEGIN:VEVENT
DTSTART;TZID=Europe/Paris:20260701T100000
DTEND;TZID=Europe/Paris:20260701T140000
DTSTAMP:20260426T002352
CREATED:20260408T113720Z
LAST-MODIFIED:20260408T113821Z
UID:10000106-1782900000-1782914400@neerbosch.nu
SUMMARY:Soepie doen?
DESCRIPTION:Elke eerste woensdag van de maand kun je rond de lunch een soepie doen bij De Schalmei. Mee koken kan vanaf 10:00\, maar alleen aansluiten voor de soep mag ook om 12:00. Kosten €1\,50 voor een kop soep met brood.
URL:https://neerbosch.nu/activiteit/soepie-doen/2026-07-01/
ATTACH;FMTTYPE=image/jpeg:https://neerbosch.nu/wp-content/uploads/2026/04/Soepie-doen-header.jpg
END:VEVENT
BEGIN:VEVENT
DTSTART;TZID=Europe/Paris:20260701T133000
DTEND;TZID=Europe/Paris:20260701T163000
DTSTAMP:20260426T002352
CREATED:20260422T144353Z
LAST-MODIFIED:20260422T144353Z
UID:10000685-1782912600-1782923400@neerbosch.nu
SUMMARY:Theater en film café Ouderenwerk
DESCRIPTION:Vanaf 6 mei 2026 elke eerste woensdag van de maand filmmiddag in De Schalmei\, met gezellig napraten.
URL:https://neerbosch.nu/activiteit/theater-en-film-cafe-ouderenwerk/2026-07-01/
LOCATION:Wijkcentrum De Schalmei\, Symfoniestraat 204\, Nijmegen\, 6544 TN
ATTACH;FMTTYPE=image/png:https://neerbosch.nu/wp-content/uploads/2026/04/Header-filmavond.png
END:VEVENT
BEGIN:VEVENT
DTSTART;TZID=Europe/Paris:20260706T090000
DTEND;TZID=Europe/Paris:20260706T100000
DTSTAMP:20260426T002352
CREATED:20260424T094707Z
LAST-MODIFIED:20260424T095704Z
UID:10000757-1783328400-1783332000@neerbosch.nu
SUMMARY:Seniorengym
DESCRIPTION:Elke maandag om 9:00 seniorengym in De Schalmei
URL:https://neerbosch.nu/activiteit/seniorengym/2026-07-06/
LOCATION:Wijkcentrum De Schalmei\, Symfoniestraat 204\, Nijmegen\, 6544 TN
ATTACH;FMTTYPE=image/jpeg:https://neerbosch.nu/wp-content/uploads/2026/04/Gym-scaled.jpg
END:VEVENT
BEGIN:VEVENT
DTSTART;TZID=Europe/Paris:20260706T100000
DTEND;TZID=Europe/Paris:20260706T113000
DTSTAMP:20260426T002352
CREATED:20260424T095556Z
LAST-MODIFIED:20260424T095556Z
UID:10001017-1783332000-1783337400@neerbosch.nu
SUMMARY:Lol met wol
DESCRIPTION:Elke maandag om 10:00 lol met wol in De Schalmei.
URL:https://neerbosch.nu/activiteit/lol-met-wol/2026-07-06/
LOCATION:Wijkcentrum De Schalmei\, Symfoniestraat 204\, Nijmegen\, 6544 TN
ATTACH;FMTTYPE=image/jpeg:https://neerbosch.nu/wp-content/uploads/2026/04/wol-scaled.jpg
END:VEVENT
BEGIN:VEVENT
DTSTART;TZID=Europe/Paris:20260706T133000
DTEND;TZID=Europe/Paris:20260706T153000
DTSTAMP:20260426T002352
CREATED:20260417T134254Z
LAST-MODIFIED:20260417T134254Z
UID:10000173-1783344600-1783351800@neerbosch.nu
SUMMARY:Line dance gevorderd
DESCRIPTION:De gevorderde line dancers dansen op maandagmiddag van 13.30-15.30 uur in het wijkcentrum De Schalmei in Neerbosch Oost. Informatie bij Els Harwijne -van Beek. Telefoon nr.  0243778815
URL:https://neerbosch.nu/activiteit/line-dance-gevorderd/2026-07-06/
LOCATION:Wijkcentrum De Schalmei\, Symfoniestraat 204\, Nijmegen\, 6544 TN
ATTACH;FMTTYPE=image/jpeg:https://neerbosch.nu/wp-content/uploads/2026/01/Line-Dance-groep.jpg
END:VEVENT
BEGIN:VEVENT
DTSTART;TZID=Europe/Paris:20260706T193000
DTEND;TZID=Europe/Paris:20260706T213000
DTSTAMP:20260426T002352
CREATED:20260424T100201Z
LAST-MODIFIED:20260424T100201Z
UID:10001277-1783366200-1783373400@neerbosch.nu
SUMMARY:Salonorkest Symfonia
DESCRIPTION:Op maandagavond om 19:30 oefent salonorkest Symphonia in De Schalmei. Zij zoeken nieuwe muzikanten. \nSalonorkest Symphonia is een orkest voor amateur-musici die voor hun plezier met muziek bezig willen zijn.\nWe hebben een uitgebreid repertoire dat bestaat uit licht klassieke\, populaire muziek\, zoals melodieën uit opera’s en operettes\, bekende walsen\, marsen\, tango’s\, liederen.
URL:https://neerbosch.nu/activiteit/salonorkest-symfonia/2026-07-06/
LOCATION:Wijkcentrum De Schalmei\, Symfoniestraat 204\, Nijmegen\, 6544 TN
ATTACH;FMTTYPE=image/jpeg:https://neerbosch.nu/wp-content/uploads/2026/04/viool-scaled.jpg
END:VEVENT
BEGIN:VEVENT
DTSTART;TZID=Europe/Paris:20260707T100000
DTEND;TZID=Europe/Paris:20260707T110000
DTSTAMP:20260426T002352
CREATED:20260424T102516Z
LAST-MODIFIED:20260424T102516Z
UID:10001536-1783418400-1783422000@neerbosch.nu
SUMMARY:Leesgroep Beamer
DESCRIPTION:Elke dinsdag om 10:00 komen Marokaanse vrouwen in De Schalmei bij elkaar om te lezen in leesgroep Beamer.
URL:https://neerbosch.nu/activiteit/leesgroep-beamer/2026-07-07/
LOCATION:Wijkcentrum De Schalmei\, Symfoniestraat 204\, Nijmegen\, 6544 TN
ATTACH;FMTTYPE=image/jpeg:https://neerbosch.nu/wp-content/uploads/2026/04/boeken.jpg
END:VEVENT
BEGIN:VEVENT
DTSTART;TZID=Europe/Paris:20260707T110000
DTEND;TZID=Europe/Paris:20260707T120000
DTSTAMP:20260426T002352
CREATED:20260417T134559Z
LAST-MODIFIED:20260417T134559Z
UID:10000432-1783422000-1783425600@neerbosch.nu
SUMMARY:Line Dance beginners
DESCRIPTION:Beginnende line dancers dansen op de donderdagmorgen van 11.00-12.00 uur in De Schalmei in Neerbosch Oost. Informatie bij Els Harwijne -van Beek. Telefoon nr.  0243778815
URL:https://neerbosch.nu/activiteit/line-dance-beginners-3/2026-07-07/
ATTACH;FMTTYPE=image/jpeg:https://neerbosch.nu/wp-content/uploads/2026/01/Line-Dance-groep.jpg
END:VEVENT
BEGIN:VEVENT
DTSTART;TZID=Europe/Paris:20260708T180000
DTEND;TZID=Europe/Paris:20260708T200000
DTSTAMP:20260426T002352
CREATED:20260408T112816Z
LAST-MODIFIED:20260408T113908Z
UID:10000092-1783533600-1783540800@neerbosch.nu
SUMMARY:Een bordje d'r bij in de Schalmei
DESCRIPTION:Elke twee weken koken vrijwilligers een heerlijke warme maaltijd voor buurtbewoners. Iedereen is welkom!
URL:https://neerbosch.nu/activiteit/een-bordje-dr-bij-in-de-schalmei-2/2026-07-08/
ATTACH;FMTTYPE=image/png:https://neerbosch.nu/wp-content/uploads/2026/02/Buurt-aan-tafel-7-header.png
END:VEVENT
BEGIN:VEVENT
DTSTART;TZID=Europe/Paris:20260713T090000
DTEND;TZID=Europe/Paris:20260713T100000
DTSTAMP:20260426T002352
CREATED:20260424T094707Z
LAST-MODIFIED:20260424T095704Z
UID:10000758-1783933200-1783936800@neerbosch.nu
SUMMARY:Seniorengym
DESCRIPTION:Elke maandag om 9:00 seniorengym in De Schalmei
URL:https://neerbosch.nu/activiteit/seniorengym/2026-07-13/
LOCATION:Wijkcentrum De Schalmei\, Symfoniestraat 204\, Nijmegen\, 6544 TN
ATTACH;FMTTYPE=image/jpeg:https://neerbosch.nu/wp-content/uploads/2026/04/Gym-scaled.jpg
END:VEVENT
BEGIN:VEVENT
DTSTART;TZID=Europe/Paris:20260713T100000
DTEND;TZID=Europe/Paris:20260713T113000
DTSTAMP:20260426T002352
CREATED:20260424T095556Z
LAST-MODIFIED:20260424T095556Z
UID:10001018-1783936800-1783942200@neerbosch.nu
SUMMARY:Lol met wol
DESCRIPTION:Elke maandag om 10:00 lol met wol in De Schalmei.
URL:https://neerbosch.nu/activiteit/lol-met-wol/2026-07-13/
LOCATION:Wijkcentrum De Schalmei\, Symfoniestraat 204\, Nijmegen\, 6544 TN
ATTACH;FMTTYPE=image/jpeg:https://neerbosch.nu/wp-content/uploads/2026/04/wol-scaled.jpg
END:VEVENT
BEGIN:VEVENT
DTSTART;TZID=Europe/Paris:20260713T133000
DTEND;TZID=Europe/Paris:20260713T153000
DTSTAMP:20260426T002352
CREATED:20260417T134254Z
LAST-MODIFIED:20260417T134254Z
UID:10000174-1783949400-1783956600@neerbosch.nu
SUMMARY:Line dance gevorderd
DESCRIPTION:De gevorderde line dancers dansen op maandagmiddag van 13.30-15.30 uur in het wijkcentrum De Schalmei in Neerbosch Oost. Informatie bij Els Harwijne -van Beek. Telefoon nr.  0243778815
URL:https://neerbosch.nu/activiteit/line-dance-gevorderd/2026-07-13/
LOCATION:Wijkcentrum De Schalmei\, Symfoniestraat 204\, Nijmegen\, 6544 TN
ATTACH;FMTTYPE=image/jpeg:https://neerbosch.nu/wp-content/uploads/2026/01/Line-Dance-groep.jpg
END:VEVENT
BEGIN:VEVENT
DTSTART;TZID=Europe/Paris:20260713T193000
DTEND;TZID=Europe/Paris:20260713T213000
DTSTAMP:20260426T002352
CREATED:20260424T100201Z
LAST-MODIFIED:20260424T100201Z
UID:10001278-1783971000-1783978200@neerbosch.nu
SUMMARY:Salonorkest Symfonia
DESCRIPTION:Op maandagavond om 19:30 oefent salonorkest Symphonia in De Schalmei. Zij zoeken nieuwe muzikanten. \nSalonorkest Symphonia is een orkest voor amateur-musici die voor hun plezier met muziek bezig willen zijn.\nWe hebben een uitgebreid repertoire dat bestaat uit licht klassieke\, populaire muziek\, zoals melodieën uit opera’s en operettes\, bekende walsen\, marsen\, tango’s\, liederen.
URL:https://neerbosch.nu/activiteit/salonorkest-symfonia/2026-07-13/
LOCATION:Wijkcentrum De Schalmei\, Symfoniestraat 204\, Nijmegen\, 6544 TN
ATTACH;FMTTYPE=image/jpeg:https://neerbosch.nu/wp-content/uploads/2026/04/viool-scaled.jpg
END:VEVENT
BEGIN:VEVENT
DTSTART;TZID=Europe/Paris:20260714T100000
DTEND;TZID=Europe/Paris:20260714T110000
DTSTAMP:20260426T002352
CREATED:20260424T102516Z
LAST-MODIFIED:20260424T102516Z
UID:10001537-1784023200-1784026800@neerbosch.nu
SUMMARY:Leesgroep Beamer
DESCRIPTION:Elke dinsdag om 10:00 komen Marokaanse vrouwen in De Schalmei bij elkaar om te lezen in leesgroep Beamer.
URL:https://neerbosch.nu/activiteit/leesgroep-beamer/2026-07-14/
LOCATION:Wijkcentrum De Schalmei\, Symfoniestraat 204\, Nijmegen\, 6544 TN
ATTACH;FMTTYPE=image/jpeg:https://neerbosch.nu/wp-content/uploads/2026/04/boeken.jpg
END:VEVENT
BEGIN:VEVENT
DTSTART;TZID=Europe/Paris:20260714T110000
DTEND;TZID=Europe/Paris:20260714T120000
DTSTAMP:20260426T002352
CREATED:20260417T134559Z
LAST-MODIFIED:20260417T134559Z
UID:10000433-1784026800-1784030400@neerbosch.nu
SUMMARY:Line Dance beginners
DESCRIPTION:Beginnende line dancers dansen op de donderdagmorgen van 11.00-12.00 uur in De Schalmei in Neerbosch Oost. Informatie bij Els Harwijne -van Beek. Telefoon nr.  0243778815
URL:https://neerbosch.nu/activiteit/line-dance-beginners-3/2026-07-14/
ATTACH;FMTTYPE=image/jpeg:https://neerbosch.nu/wp-content/uploads/2026/01/Line-Dance-groep.jpg
END:VEVENT
BEGIN:VEVENT
DTSTART;TZID=Europe/Paris:20260714T140000
DTEND;TZID=Europe/Paris:20260714T153000
DTSTAMP:20260426T002352
CREATED:20260424T103331Z
LAST-MODIFIED:20260424T103331Z
UID:10001791-1784037600-1784043000@neerbosch.nu
SUMMARY:Zangkoor de Notenhoutjes
DESCRIPTION:Om de week op dinsdag om 14:00 oefent zangkoor De Notenhoutjes in De Schalmei.
URL:https://neerbosch.nu/activiteit/zangkoor-de-notenhoutjes/2026-07-14/
LOCATION:Wijkcentrum De Schalmei\, Symfoniestraat 204\, Nijmegen\, 6544 TN
ATTACH;FMTTYPE=image/jpeg:https://neerbosch.nu/wp-content/uploads/2026/04/Muzieknoten-scaled.jpg
END:VEVENT
BEGIN:VEVENT
DTSTART;TZID=Europe/Paris:20260714T140000
DTEND;TZID=Europe/Paris:20260714T160000
DTSTAMP:20260426T002352
CREATED:20260408T111428Z
LAST-MODIFIED:20260408T111615Z
UID:10000060-1784037600-1784044800@neerbosch.nu
SUMMARY:Creatieve inloop 65+
DESCRIPTION:Iedere twee weken kun je op dinsdag van 14.00 tot 16.00 terecht bij de creatieve inloop voor 65+’ers in het atelier van De Schalmei. Je kunt gewoon binnenlopen om kennis te maken of mee te doen.
URL:https://neerbosch.nu/activiteit/creatieve-inloop-65-5/2026-07-14/
LOCATION:Wijkcentrum De Schalmei\, Symfoniestraat 204\, Nijmegen\, 6544 TN
ATTACH;FMTTYPE=image/jpeg:https://neerbosch.nu/wp-content/uploads/2026/01/knutselen-scaled-e1769631971984.jpg
END:VEVENT
BEGIN:VEVENT
DTSTART;TZID=Europe/Paris:20260720T090000
DTEND;TZID=Europe/Paris:20260720T100000
DTSTAMP:20260426T002352
CREATED:20260424T094707Z
LAST-MODIFIED:20260424T095704Z
UID:10000759-1784538000-1784541600@neerbosch.nu
SUMMARY:Seniorengym
DESCRIPTION:Elke maandag om 9:00 seniorengym in De Schalmei
URL:https://neerbosch.nu/activiteit/seniorengym/2026-07-20/
LOCATION:Wijkcentrum De Schalmei\, Symfoniestraat 204\, Nijmegen\, 6544 TN
ATTACH;FMTTYPE=image/jpeg:https://neerbosch.nu/wp-content/uploads/2026/04/Gym-scaled.jpg
END:VEVENT
BEGIN:VEVENT
DTSTART;TZID=Europe/Paris:20260720T100000
DTEND;TZID=Europe/Paris:20260720T113000
DTSTAMP:20260426T002352
CREATED:20260424T095556Z
LAST-MODIFIED:20260424T095556Z
UID:10001019-1784541600-1784547000@neerbosch.nu
SUMMARY:Lol met wol
DESCRIPTION:Elke maandag om 10:00 lol met wol in De Schalmei.
URL:https://neerbosch.nu/activiteit/lol-met-wol/2026-07-20/
LOCATION:Wijkcentrum De Schalmei\, Symfoniestraat 204\, Nijmegen\, 6544 TN
ATTACH;FMTTYPE=image/jpeg:https://neerbosch.nu/wp-content/uploads/2026/04/wol-scaled.jpg
END:VEVENT
BEGIN:VEVENT
DTSTART;TZID=Europe/Paris:20260720T133000
DTEND;TZID=Europe/Paris:20260720T153000
DTSTAMP:20260426T002352
CREATED:20260417T134254Z
LAST-MODIFIED:20260417T134254Z
UID:10000175-1784554200-1784561400@neerbosch.nu
SUMMARY:Line dance gevorderd
DESCRIPTION:De gevorderde line dancers dansen op maandagmiddag van 13.30-15.30 uur in het wijkcentrum De Schalmei in Neerbosch Oost. Informatie bij Els Harwijne -van Beek. Telefoon nr.  0243778815
URL:https://neerbosch.nu/activiteit/line-dance-gevorderd/2026-07-20/
LOCATION:Wijkcentrum De Schalmei\, Symfoniestraat 204\, Nijmegen\, 6544 TN
ATTACH;FMTTYPE=image/jpeg:https://neerbosch.nu/wp-content/uploads/2026/01/Line-Dance-groep.jpg
END:VEVENT
BEGIN:VEVENT
DTSTART;TZID=Europe/Paris:20260720T193000
DTEND;TZID=Europe/Paris:20260720T213000
DTSTAMP:20260426T002352
CREATED:20260424T100201Z
LAST-MODIFIED:20260424T100201Z
UID:10001279-1784575800-1784583000@neerbosch.nu
SUMMARY:Salonorkest Symfonia
DESCRIPTION:Op maandagavond om 19:30 oefent salonorkest Symphonia in De Schalmei. Zij zoeken nieuwe muzikanten. \nSalonorkest Symphonia is een orkest voor amateur-musici die voor hun plezier met muziek bezig willen zijn.\nWe hebben een uitgebreid repertoire dat bestaat uit licht klassieke\, populaire muziek\, zoals melodieën uit opera’s en operettes\, bekende walsen\, marsen\, tango’s\, liederen.
URL:https://neerbosch.nu/activiteit/salonorkest-symfonia/2026-07-20/
LOCATION:Wijkcentrum De Schalmei\, Symfoniestraat 204\, Nijmegen\, 6544 TN
ATTACH;FMTTYPE=image/jpeg:https://neerbosch.nu/wp-content/uploads/2026/04/viool-scaled.jpg
END:VEVENT
BEGIN:VEVENT
DTSTART;TZID=Europe/Paris:20260721T100000
DTEND;TZID=Europe/Paris:20260721T110000
DTSTAMP:20260426T002352
CREATED:20260424T102516Z
LAST-MODIFIED:20260424T102516Z
UID:10001538-1784628000-1784631600@neerbosch.nu
SUMMARY:Leesgroep Beamer
DESCRIPTION:Elke dinsdag om 10:00 komen Marokaanse vrouwen in De Schalmei bij elkaar om te lezen in leesgroep Beamer.
URL:https://neerbosch.nu/activiteit/leesgroep-beamer/2026-07-21/
LOCATION:Wijkcentrum De Schalmei\, Symfoniestraat 204\, Nijmegen\, 6544 TN
ATTACH;FMTTYPE=image/jpeg:https://neerbosch.nu/wp-content/uploads/2026/04/boeken.jpg
END:VEVENT
BEGIN:VEVENT
DTSTART;TZID=Europe/Paris:20260721T110000
DTEND;TZID=Europe/Paris:20260721T120000
DTSTAMP:20260426T002352
CREATED:20260417T134559Z
LAST-MODIFIED:20260417T134559Z
UID:10000434-1784631600-1784635200@neerbosch.nu
SUMMARY:Line Dance beginners
DESCRIPTION:Beginnende line dancers dansen op de donderdagmorgen van 11.00-12.00 uur in De Schalmei in Neerbosch Oost. Informatie bij Els Harwijne -van Beek. Telefoon nr.  0243778815
URL:https://neerbosch.nu/activiteit/line-dance-beginners-3/2026-07-21/
ATTACH;FMTTYPE=image/jpeg:https://neerbosch.nu/wp-content/uploads/2026/01/Line-Dance-groep.jpg
END:VEVENT
BEGIN:VEVENT
DTSTART;TZID=Europe/Paris:20260722T180000
DTEND;TZID=Europe/Paris:20260722T200000
DTSTAMP:20260426T002352
CREATED:20260408T112816Z
LAST-MODIFIED:20260408T113908Z
UID:10000093-1784743200-1784750400@neerbosch.nu
SUMMARY:Een bordje d'r bij in de Schalmei
DESCRIPTION:Elke twee weken koken vrijwilligers een heerlijke warme maaltijd voor buurtbewoners. Iedereen is welkom!
URL:https://neerbosch.nu/activiteit/een-bordje-dr-bij-in-de-schalmei-2/2026-07-22/
ATTACH;FMTTYPE=image/png:https://neerbosch.nu/wp-content/uploads/2026/02/Buurt-aan-tafel-7-header.png
END:VEVENT
END:VCALENDAR