BEGIN:VCALENDAR
VERSION:2.0
PRODID:-//Neerbosch Nu - ECPv6.15.18//NONSGML v1.0//EN
CALSCALE:GREGORIAN
METHOD:PUBLISH
X-WR-CALNAME:Neerbosch Nu
X-ORIGINAL-URL:https://neerbosch.nu
X-WR-CALDESC:Evenementen voor Neerbosch Nu
REFRESH-INTERVAL;VALUE=DURATION:PT1H
X-Robots-Tag:noindex
X-PUBLISHED-TTL:PT1H
BEGIN:VTIMEZONE
TZID:Europe/Paris
BEGIN:DAYLIGHT
TZOFFSETFROM:+0100
TZOFFSETTO:+0200
TZNAME:CEST
DTSTART:20250330T010000
END:DAYLIGHT
BEGIN:STANDARD
TZOFFSETFROM:+0200
TZOFFSETTO:+0100
TZNAME:CET
DTSTART:20251026T010000
END:STANDARD
BEGIN:DAYLIGHT
TZOFFSETFROM:+0100
TZOFFSETTO:+0200
TZNAME:CEST
DTSTART:20260329T010000
END:DAYLIGHT
BEGIN:STANDARD
TZOFFSETFROM:+0200
TZOFFSETTO:+0100
TZNAME:CET
DTSTART:20261025T010000
END:STANDARD
BEGIN:DAYLIGHT
TZOFFSETFROM:+0100
TZOFFSETTO:+0200
TZNAME:CEST
DTSTART:20270328T010000
END:DAYLIGHT
BEGIN:STANDARD
TZOFFSETFROM:+0200
TZOFFSETTO:+0100
TZNAME:CET
DTSTART:20271031T010000
END:STANDARD
END:VTIMEZONE
BEGIN:VEVENT
DTSTART;TZID=Europe/Paris:20260429T180000
DTEND;TZID=Europe/Paris:20260429T200000
DTSTAMP:20260424T233804
CREATED:20260408T112816Z
LAST-MODIFIED:20260408T113908Z
UID:10000087-1777485600-1777492800@neerbosch.nu
SUMMARY:Een bordje d'r bij in de Schalmei
DESCRIPTION:Elke twee weken koken vrijwilligers een heerlijke warme maaltijd voor buurtbewoners. Iedereen is welkom!
URL:https://neerbosch.nu/activiteit/een-bordje-dr-bij-in-de-schalmei-2/2026-04-29/
ATTACH;FMTTYPE=image/png:https://neerbosch.nu/wp-content/uploads/2026/02/Buurt-aan-tafel-7-header.png
END:VEVENT
BEGIN:VEVENT
DTSTART;TZID=Europe/Paris:20260513T180000
DTEND;TZID=Europe/Paris:20260513T200000
DTSTAMP:20260424T233804
CREATED:20260408T112816Z
LAST-MODIFIED:20260408T113908Z
UID:10000088-1778695200-1778702400@neerbosch.nu
SUMMARY:Een bordje d'r bij in de Schalmei
DESCRIPTION:Elke twee weken koken vrijwilligers een heerlijke warme maaltijd voor buurtbewoners. Iedereen is welkom!
URL:https://neerbosch.nu/activiteit/een-bordje-dr-bij-in-de-schalmei-2/2026-05-13/
ATTACH;FMTTYPE=image/png:https://neerbosch.nu/wp-content/uploads/2026/02/Buurt-aan-tafel-7-header.png
END:VEVENT
BEGIN:VEVENT
DTSTART;TZID=Europe/Paris:20260527T180000
DTEND;TZID=Europe/Paris:20260527T200000
DTSTAMP:20260424T233804
CREATED:20260408T112816Z
LAST-MODIFIED:20260408T113908Z
UID:10000089-1779904800-1779912000@neerbosch.nu
SUMMARY:Een bordje d'r bij in de Schalmei
DESCRIPTION:Elke twee weken koken vrijwilligers een heerlijke warme maaltijd voor buurtbewoners. Iedereen is welkom!
URL:https://neerbosch.nu/activiteit/een-bordje-dr-bij-in-de-schalmei-2/2026-05-27/
ATTACH;FMTTYPE=image/png:https://neerbosch.nu/wp-content/uploads/2026/02/Buurt-aan-tafel-7-header.png
END:VEVENT
BEGIN:VEVENT
DTSTART;TZID=Europe/Paris:20260610T180000
DTEND;TZID=Europe/Paris:20260610T200000
DTSTAMP:20260424T233804
CREATED:20260408T112816Z
LAST-MODIFIED:20260408T113908Z
UID:10000090-1781114400-1781121600@neerbosch.nu
SUMMARY:Een bordje d'r bij in de Schalmei
DESCRIPTION:Elke twee weken koken vrijwilligers een heerlijke warme maaltijd voor buurtbewoners. Iedereen is welkom!
URL:https://neerbosch.nu/activiteit/een-bordje-dr-bij-in-de-schalmei-2/2026-06-10/
ATTACH;FMTTYPE=image/png:https://neerbosch.nu/wp-content/uploads/2026/02/Buurt-aan-tafel-7-header.png
END:VEVENT
BEGIN:VEVENT
DTSTART;TZID=Europe/Paris:20260624T180000
DTEND;TZID=Europe/Paris:20260624T200000
DTSTAMP:20260424T233804
CREATED:20260408T112816Z
LAST-MODIFIED:20260408T113908Z
UID:10000091-1782324000-1782331200@neerbosch.nu
SUMMARY:Een bordje d'r bij in de Schalmei
DESCRIPTION:Elke twee weken koken vrijwilligers een heerlijke warme maaltijd voor buurtbewoners. Iedereen is welkom!
URL:https://neerbosch.nu/activiteit/een-bordje-dr-bij-in-de-schalmei-2/2026-06-24/
ATTACH;FMTTYPE=image/png:https://neerbosch.nu/wp-content/uploads/2026/02/Buurt-aan-tafel-7-header.png
END:VEVENT
BEGIN:VEVENT
DTSTART;TZID=Europe/Paris:20260708T180000
DTEND;TZID=Europe/Paris:20260708T200000
DTSTAMP:20260424T233804
CREATED:20260408T112816Z
LAST-MODIFIED:20260408T113908Z
UID:10000092-1783533600-1783540800@neerbosch.nu
SUMMARY:Een bordje d'r bij in de Schalmei
DESCRIPTION:Elke twee weken koken vrijwilligers een heerlijke warme maaltijd voor buurtbewoners. Iedereen is welkom!
URL:https://neerbosch.nu/activiteit/een-bordje-dr-bij-in-de-schalmei-2/2026-07-08/
ATTACH;FMTTYPE=image/png:https://neerbosch.nu/wp-content/uploads/2026/02/Buurt-aan-tafel-7-header.png
END:VEVENT
BEGIN:VEVENT
DTSTART;TZID=Europe/Paris:20260722T180000
DTEND;TZID=Europe/Paris:20260722T200000
DTSTAMP:20260424T233804
CREATED:20260408T112816Z
LAST-MODIFIED:20260408T113908Z
UID:10000093-1784743200-1784750400@neerbosch.nu
SUMMARY:Een bordje d'r bij in de Schalmei
DESCRIPTION:Elke twee weken koken vrijwilligers een heerlijke warme maaltijd voor buurtbewoners. Iedereen is welkom!
URL:https://neerbosch.nu/activiteit/een-bordje-dr-bij-in-de-schalmei-2/2026-07-22/
ATTACH;FMTTYPE=image/png:https://neerbosch.nu/wp-content/uploads/2026/02/Buurt-aan-tafel-7-header.png
END:VEVENT
BEGIN:VEVENT
DTSTART;TZID=Europe/Paris:20260805T180000
DTEND;TZID=Europe/Paris:20260805T200000
DTSTAMP:20260424T233804
CREATED:20260408T112816Z
LAST-MODIFIED:20260408T113908Z
UID:10000094-1785952800-1785960000@neerbosch.nu
SUMMARY:Een bordje d'r bij in de Schalmei
DESCRIPTION:Elke twee weken koken vrijwilligers een heerlijke warme maaltijd voor buurtbewoners. Iedereen is welkom!
URL:https://neerbosch.nu/activiteit/een-bordje-dr-bij-in-de-schalmei-2/2026-08-05/
ATTACH;FMTTYPE=image/png:https://neerbosch.nu/wp-content/uploads/2026/02/Buurt-aan-tafel-7-header.png
END:VEVENT
BEGIN:VEVENT
DTSTART;TZID=Europe/Paris:20260819T180000
DTEND;TZID=Europe/Paris:20260819T200000
DTSTAMP:20260424T233804
CREATED:20260408T112816Z
LAST-MODIFIED:20260408T113908Z
UID:10000095-1787162400-1787169600@neerbosch.nu
SUMMARY:Een bordje d'r bij in de Schalmei
DESCRIPTION:Elke twee weken koken vrijwilligers een heerlijke warme maaltijd voor buurtbewoners. Iedereen is welkom!
URL:https://neerbosch.nu/activiteit/een-bordje-dr-bij-in-de-schalmei-2/2026-08-19/
ATTACH;FMTTYPE=image/png:https://neerbosch.nu/wp-content/uploads/2026/02/Buurt-aan-tafel-7-header.png
END:VEVENT
BEGIN:VEVENT
DTSTART;TZID=Europe/Paris:20260902T180000
DTEND;TZID=Europe/Paris:20260902T200000
DTSTAMP:20260424T233804
CREATED:20260408T112816Z
LAST-MODIFIED:20260408T113908Z
UID:10000096-1788372000-1788379200@neerbosch.nu
SUMMARY:Een bordje d'r bij in de Schalmei
DESCRIPTION:Elke twee weken koken vrijwilligers een heerlijke warme maaltijd voor buurtbewoners. Iedereen is welkom!
URL:https://neerbosch.nu/activiteit/een-bordje-dr-bij-in-de-schalmei-2/2026-09-02/
ATTACH;FMTTYPE=image/png:https://neerbosch.nu/wp-content/uploads/2026/02/Buurt-aan-tafel-7-header.png
END:VEVENT
BEGIN:VEVENT
DTSTART;TZID=Europe/Paris:20260916T180000
DTEND;TZID=Europe/Paris:20260916T200000
DTSTAMP:20260424T233804
CREATED:20260408T112816Z
LAST-MODIFIED:20260408T113908Z
UID:10000097-1789581600-1789588800@neerbosch.nu
SUMMARY:Een bordje d'r bij in de Schalmei
DESCRIPTION:Elke twee weken koken vrijwilligers een heerlijke warme maaltijd voor buurtbewoners. Iedereen is welkom!
URL:https://neerbosch.nu/activiteit/een-bordje-dr-bij-in-de-schalmei-2/2026-09-16/
ATTACH;FMTTYPE=image/png:https://neerbosch.nu/wp-content/uploads/2026/02/Buurt-aan-tafel-7-header.png
END:VEVENT
BEGIN:VEVENT
DTSTART;TZID=Europe/Paris:20260930T180000
DTEND;TZID=Europe/Paris:20260930T200000
DTSTAMP:20260424T233804
CREATED:20260408T112816Z
LAST-MODIFIED:20260408T113908Z
UID:10000098-1790791200-1790798400@neerbosch.nu
SUMMARY:Een bordje d'r bij in de Schalmei
DESCRIPTION:Elke twee weken koken vrijwilligers een heerlijke warme maaltijd voor buurtbewoners. Iedereen is welkom!
URL:https://neerbosch.nu/activiteit/een-bordje-dr-bij-in-de-schalmei-2/2026-09-30/
ATTACH;FMTTYPE=image/png:https://neerbosch.nu/wp-content/uploads/2026/02/Buurt-aan-tafel-7-header.png
END:VEVENT
BEGIN:VEVENT
DTSTART;TZID=Europe/Paris:20261014T180000
DTEND;TZID=Europe/Paris:20261014T200000
DTSTAMP:20260424T233804
CREATED:20260408T112816Z
LAST-MODIFIED:20260408T113908Z
UID:10000099-1792000800-1792008000@neerbosch.nu
SUMMARY:Een bordje d'r bij in de Schalmei
DESCRIPTION:Elke twee weken koken vrijwilligers een heerlijke warme maaltijd voor buurtbewoners. Iedereen is welkom!
URL:https://neerbosch.nu/activiteit/een-bordje-dr-bij-in-de-schalmei-2/2026-10-14/
ATTACH;FMTTYPE=image/png:https://neerbosch.nu/wp-content/uploads/2026/02/Buurt-aan-tafel-7-header.png
END:VEVENT
BEGIN:VEVENT
DTSTART;TZID=Europe/Paris:20261028T180000
DTEND;TZID=Europe/Paris:20261028T200000
DTSTAMP:20260424T233804
CREATED:20260408T112816Z
LAST-MODIFIED:20260408T113908Z
UID:10000100-1793210400-1793217600@neerbosch.nu
SUMMARY:Een bordje d'r bij in de Schalmei
DESCRIPTION:Elke twee weken koken vrijwilligers een heerlijke warme maaltijd voor buurtbewoners. Iedereen is welkom!
URL:https://neerbosch.nu/activiteit/een-bordje-dr-bij-in-de-schalmei-2/2026-10-28/
ATTACH;FMTTYPE=image/png:https://neerbosch.nu/wp-content/uploads/2026/02/Buurt-aan-tafel-7-header.png
END:VEVENT
BEGIN:VEVENT
DTSTART;TZID=Europe/Paris:20261111T180000
DTEND;TZID=Europe/Paris:20261111T200000
DTSTAMP:20260424T233804
CREATED:20260408T112816Z
LAST-MODIFIED:20260408T113908Z
UID:10000101-1794420000-1794427200@neerbosch.nu
SUMMARY:Een bordje d'r bij in de Schalmei
DESCRIPTION:Elke twee weken koken vrijwilligers een heerlijke warme maaltijd voor buurtbewoners. Iedereen is welkom!
URL:https://neerbosch.nu/activiteit/een-bordje-dr-bij-in-de-schalmei-2/2026-11-11/
ATTACH;FMTTYPE=image/png:https://neerbosch.nu/wp-content/uploads/2026/02/Buurt-aan-tafel-7-header.png
END:VEVENT
BEGIN:VEVENT
DTSTART;TZID=Europe/Paris:20261125T180000
DTEND;TZID=Europe/Paris:20261125T200000
DTSTAMP:20260424T233804
CREATED:20260408T112816Z
LAST-MODIFIED:20260408T113908Z
UID:10000102-1795629600-1795636800@neerbosch.nu
SUMMARY:Een bordje d'r bij in de Schalmei
DESCRIPTION:Elke twee weken koken vrijwilligers een heerlijke warme maaltijd voor buurtbewoners. Iedereen is welkom!
URL:https://neerbosch.nu/activiteit/een-bordje-dr-bij-in-de-schalmei-2/2026-11-25/
ATTACH;FMTTYPE=image/png:https://neerbosch.nu/wp-content/uploads/2026/02/Buurt-aan-tafel-7-header.png
END:VEVENT
BEGIN:VEVENT
DTSTART;TZID=Europe/Paris:20261209T180000
DTEND;TZID=Europe/Paris:20261209T200000
DTSTAMP:20260424T233804
CREATED:20260408T112816Z
LAST-MODIFIED:20260408T113908Z
UID:10000103-1796839200-1796846400@neerbosch.nu
SUMMARY:Een bordje d'r bij in de Schalmei
DESCRIPTION:Elke twee weken koken vrijwilligers een heerlijke warme maaltijd voor buurtbewoners. Iedereen is welkom!
URL:https://neerbosch.nu/activiteit/een-bordje-dr-bij-in-de-schalmei-2/2026-12-09/
ATTACH;FMTTYPE=image/png:https://neerbosch.nu/wp-content/uploads/2026/02/Buurt-aan-tafel-7-header.png
END:VEVENT
END:VCALENDAR