BEGIN:VCALENDAR
VERSION:2.0
PRODID:-//Neerbosch Nu - ECPv6.15.18//NONSGML v1.0//EN
CALSCALE:GREGORIAN
METHOD:PUBLISH
X-WR-CALNAME:Neerbosch Nu
X-ORIGINAL-URL:https://neerbosch.nu
X-WR-CALDESC:Evenementen voor Neerbosch Nu
REFRESH-INTERVAL;VALUE=DURATION:PT1H
X-Robots-Tag:noindex
X-PUBLISHED-TTL:PT1H
BEGIN:VTIMEZONE
TZID:Europe/Paris
BEGIN:DAYLIGHT
TZOFFSETFROM:+0100
TZOFFSETTO:+0200
TZNAME:CEST
DTSTART:20240331T010000
END:DAYLIGHT
BEGIN:STANDARD
TZOFFSETFROM:+0200
TZOFFSETTO:+0100
TZNAME:CET
DTSTART:20241027T010000
END:STANDARD
BEGIN:DAYLIGHT
TZOFFSETFROM:+0100
TZOFFSETTO:+0200
TZNAME:CEST
DTSTART:20250330T010000
END:DAYLIGHT
BEGIN:STANDARD
TZOFFSETFROM:+0200
TZOFFSETTO:+0100
TZNAME:CET
DTSTART:20251026T010000
END:STANDARD
BEGIN:DAYLIGHT
TZOFFSETFROM:+0100
TZOFFSETTO:+0200
TZNAME:CEST
DTSTART:20260329T010000
END:DAYLIGHT
BEGIN:STANDARD
TZOFFSETFROM:+0200
TZOFFSETTO:+0100
TZNAME:CET
DTSTART:20261025T010000
END:STANDARD
END:VTIMEZONE
BEGIN:VEVENT
DTSTART;TZID=Europe/Paris:20250418T140000
DTEND;TZID=Europe/Paris:20250418T150000
DTSTAMP:20260425T045721
CREATED:20250412T131524Z
LAST-MODIFIED:20250412T131613Z
UID:10000013-1744984800-1744988400@neerbosch.nu
SUMMARY:Feestelijke opening expositie De blauwe draad
DESCRIPTION:Op vrijdag 18 april is de feestelijke opening van expositie De blauwe draad\, om 14:00 uur in de ontmoetingsruimte van wijkcentrum de Schalmei. Wijkbewoners en andere geïnteresseerden zijn meer dan welkom om deze expositie samen feestelijk te openen\, of kunnen de week erna langskomen om de expositie te bekijken.
URL:https://neerbosch.nu/activiteit/feestelijke-opening-expositie-de-blauwe-draad/
LOCATION:Wijkcentrum De Schalmei\, Symfoniestraat 204\, Nijmegen\, 6544 TN
END:VEVENT
BEGIN:VEVENT
DTSTART;TZID=Europe/Paris:20250418T090000
DTEND;TZID=Europe/Paris:20250427T170000
DTSTAMP:20260425T045721
CREATED:20250412T131147Z
LAST-MODIFIED:20250412T131822Z
UID:10000012-1744966800-1745773200@neerbosch.nu
SUMMARY:Expositie De blauwe draad
DESCRIPTION:
URL:https://neerbosch.nu/activiteit/expositie-de-blauwe-draad/
LOCATION:Wijkcentrum De Schalmei\, Symfoniestraat 204\, Nijmegen\, 6544 TN
END:VEVENT
END:VCALENDAR