BEGIN:VCALENDAR
VERSION:2.0
PRODID:-//Neerbosch Nu - ECPv6.15.18//NONSGML v1.0//EN
CALSCALE:GREGORIAN
METHOD:PUBLISH
X-WR-CALNAME:Neerbosch Nu
X-ORIGINAL-URL:https://neerbosch.nu
X-WR-CALDESC:Evenementen voor Neerbosch Nu
REFRESH-INTERVAL;VALUE=DURATION:PT1H
X-Robots-Tag:noindex
X-PUBLISHED-TTL:PT1H
BEGIN:VTIMEZONE
TZID:Europe/Paris
BEGIN:DAYLIGHT
TZOFFSETFROM:+0100
TZOFFSETTO:+0200
TZNAME:CEST
DTSTART:20240331T010000
END:DAYLIGHT
BEGIN:STANDARD
TZOFFSETFROM:+0200
TZOFFSETTO:+0100
TZNAME:CET
DTSTART:20241027T010000
END:STANDARD
BEGIN:DAYLIGHT
TZOFFSETFROM:+0100
TZOFFSETTO:+0200
TZNAME:CEST
DTSTART:20250330T010000
END:DAYLIGHT
BEGIN:STANDARD
TZOFFSETFROM:+0200
TZOFFSETTO:+0100
TZNAME:CET
DTSTART:20251026T010000
END:STANDARD
BEGIN:DAYLIGHT
TZOFFSETFROM:+0100
TZOFFSETTO:+0200
TZNAME:CEST
DTSTART:20260329T010000
END:DAYLIGHT
BEGIN:STANDARD
TZOFFSETFROM:+0200
TZOFFSETTO:+0100
TZNAME:CET
DTSTART:20261025T010000
END:STANDARD
BEGIN:DAYLIGHT
TZOFFSETFROM:+0100
TZOFFSETTO:+0200
TZNAME:CEST
DTSTART:20270328T010000
END:DAYLIGHT
BEGIN:STANDARD
TZOFFSETFROM:+0200
TZOFFSETTO:+0100
TZNAME:CET
DTSTART:20271031T010000
END:STANDARD
END:VTIMEZONE
BEGIN:VEVENT
DTSTART;TZID=Europe/Paris:20260303T140000
DTEND;TZID=Europe/Paris:20260303T160000
DTSTAMP:20260425T031644
CREATED:20260124T152204Z
LAST-MODIFIED:20260212T174740Z
UID:10000042-1772546400-1772553600@neerbosch.nu
SUMMARY:Creatieve inloop 65+
DESCRIPTION:Iedere twee weken kun je op dinsdag van 14.00 tot 16.00 terecht bij de creatieve inloop voor 65+’ers in het atelier van De Schalmei. Je kunt gewoon binnenlopen om kennis te maken of mee te doen.
URL:https://neerbosch.nu/activiteit/creatieve-inloop-65-4/
LOCATION:Wijkcentrum De Schalmei\, Symfoniestraat 204\, Nijmegen\, 6544 TN
ATTACH;FMTTYPE=image/png:https://neerbosch.nu/wp-content/uploads/2026/01/Header-crea-inloop.png
ORGANIZER;CN="Deel de Dag":MAILTO:neerbosch@deeldedag.nl
END:VEVENT
BEGIN:VEVENT
DTSTART;TZID=Europe/Paris:20260217T140000
DTEND;TZID=Europe/Paris:20260217T160000
DTSTAMP:20260425T031644
CREATED:20260124T151912Z
LAST-MODIFIED:20260212T174846Z
UID:10000041-1771336800-1771344000@neerbosch.nu
SUMMARY:Creatieve inloop 65+
DESCRIPTION:Iedere twee weken kun je op dinsdag van 14.00 tot 16.00 terecht bij de creatieve inloop voor 65+’ers in het atelier van De Schalmei. Je kunt gewoon binnenlopen om kennis te maken of mee te doen.
URL:https://neerbosch.nu/activiteit/creatieve-inloop-65-3/
LOCATION:Wijkcentrum De Schalmei\, Symfoniestraat 204\, Nijmegen\, 6544 TN
ATTACH;FMTTYPE=image/png:https://neerbosch.nu/wp-content/uploads/2026/01/Header-crea-inloop.png
ORGANIZER;CN="Deel de Dag":MAILTO:neerbosch@deeldedag.nl
END:VEVENT
BEGIN:VEVENT
DTSTART;TZID=Europe/Paris:20260120T140000
DTEND;TZID=Europe/Paris:20260120T160000
DTSTAMP:20260425T031644
CREATED:20260115T080830Z
LAST-MODIFIED:20260115T080830Z
UID:10000038-1768917600-1768924800@neerbosch.nu
SUMMARY:Creatieve inloop 65+
DESCRIPTION:Iedere twee weken kun je op dinsdag van 14.00 tot 16.00 terecht bij de creatieve inloop voor 65+’ers in het atelier van De Schalmei. Je kunt gewoon binnenlopen om kennis te maken of mee te doen.
URL:https://neerbosch.nu/activiteit/creatieve-inloop-65/
LOCATION:Wijkcentrum De Schalmei\, Symfoniestraat 204\, Nijmegen\, 6544 TN
ATTACH;FMTTYPE=image/jpeg:https://neerbosch.nu/wp-content/uploads/2026/01/knutselen-scaled-e1769631971984.jpg
ORGANIZER;CN="Deel de Dag":MAILTO:neerbosch@deeldedag.nl
END:VEVENT
BEGIN:VEVENT
DTSTART;TZID=Europe/Paris:20250806T133000
DTEND;TZID=Europe/Paris:20250806T160000
DTSTAMP:20260425T031644
CREATED:20250729T113716Z
LAST-MODIFIED:20250729T113716Z
UID:10000027-1754487000-1754496000@neerbosch.nu
SUMMARY:Deel de dag: stempelen met natuurlijke materialen
DESCRIPTION:Op woensdag 6 augustus kunnen 65+ers met Deel de Dag in de Schalmei van 13:00 tot 15:30  canvas tassen bedrukken met natuurlijke materialen en textielverf.
URL:https://neerbosch.nu/activiteit/deel-de-dag-stempelen-met-natuurlijke-materialen/
LOCATION:Wijkcentrum De Schalmei\, Symfoniestraat 204\, Nijmegen\, 6544 TN
ATTACH;FMTTYPE=image/jpeg:https://neerbosch.nu/wp-content/uploads/2025/07/zomeractiviteit-Stempele-header.jpg
ORGANIZER;CN="Deel de Dag":MAILTO:neerbosch@deeldedag.nl
END:VEVENT
BEGIN:VEVENT
DTSTART;TZID=Europe/Paris:20250418T140000
DTEND;TZID=Europe/Paris:20250418T150000
DTSTAMP:20260425T031644
CREATED:20250412T131524Z
LAST-MODIFIED:20250412T131613Z
UID:10000013-1744984800-1744988400@neerbosch.nu
SUMMARY:Feestelijke opening expositie De blauwe draad
DESCRIPTION:Op vrijdag 18 april is de feestelijke opening van expositie De blauwe draad\, om 14:00 uur in de ontmoetingsruimte van wijkcentrum de Schalmei. Wijkbewoners en andere geïnteresseerden zijn meer dan welkom om deze expositie samen feestelijk te openen\, of kunnen de week erna langskomen om de expositie te bekijken.
URL:https://neerbosch.nu/activiteit/feestelijke-opening-expositie-de-blauwe-draad/
LOCATION:Wijkcentrum De Schalmei\, Symfoniestraat 204\, Nijmegen\, 6544 TN
END:VEVENT
BEGIN:VEVENT
DTSTART;TZID=Europe/Paris:20250418T090000
DTEND;TZID=Europe/Paris:20250427T170000
DTSTAMP:20260425T031644
CREATED:20250412T131147Z
LAST-MODIFIED:20250412T131822Z
UID:10000012-1744966800-1745773200@neerbosch.nu
SUMMARY:Expositie De blauwe draad
DESCRIPTION:
URL:https://neerbosch.nu/activiteit/expositie-de-blauwe-draad/
LOCATION:Wijkcentrum De Schalmei\, Symfoniestraat 204\, Nijmegen\, 6544 TN
END:VEVENT
END:VCALENDAR