BEGIN:VCALENDAR
VERSION:2.0
PRODID:-//Neerbosch Nu - ECPv6.15.18//NONSGML v1.0//EN
CALSCALE:GREGORIAN
METHOD:PUBLISH
X-ORIGINAL-URL:https://neerbosch.nu
X-WR-CALDESC:Evenementen voor Neerbosch Nu
REFRESH-INTERVAL;VALUE=DURATION:PT1H
X-Robots-Tag:noindex
X-PUBLISHED-TTL:PT1H
BEGIN:VTIMEZONE
TZID:Europe/Paris
BEGIN:DAYLIGHT
TZOFFSETFROM:+0100
TZOFFSETTO:+0200
TZNAME:CEST
DTSTART:20240331T010000
END:DAYLIGHT
BEGIN:STANDARD
TZOFFSETFROM:+0200
TZOFFSETTO:+0100
TZNAME:CET
DTSTART:20241027T010000
END:STANDARD
BEGIN:DAYLIGHT
TZOFFSETFROM:+0100
TZOFFSETTO:+0200
TZNAME:CEST
DTSTART:20250330T010000
END:DAYLIGHT
BEGIN:STANDARD
TZOFFSETFROM:+0200
TZOFFSETTO:+0100
TZNAME:CET
DTSTART:20251026T010000
END:STANDARD
BEGIN:DAYLIGHT
TZOFFSETFROM:+0100
TZOFFSETTO:+0200
TZNAME:CEST
DTSTART:20260329T010000
END:DAYLIGHT
BEGIN:STANDARD
TZOFFSETFROM:+0200
TZOFFSETTO:+0100
TZNAME:CET
DTSTART:20261025T010000
END:STANDARD
END:VTIMEZONE
BEGIN:VEVENT
DTSTART;TZID=Europe/Paris:20250524T140000
DTEND;TZID=Europe/Paris:20250524T160000
DTSTAMP:20260425T031813
CREATED:20250227T144544Z
LAST-MODIFIED:20250414T142516Z
UID:10000010-1748095200-1748102400@neerbosch.nu
SUMMARY:Kinderwijkfeest TOON
DESCRIPTION:Kinderwijkfeest TOON Neerbosch-Oost – Thema: Wereldkunst \nKom erbij en vier het jaarlijkse kinderwijkfeest met ons!\n📅 Zaterdag 24 mei\n🕑 14.00 – 16.00 uur\n📍 Op de parkeerplaats tussen Wijkcentrum De Schalmei en Kindcentrum TOON \n🌍 Thema: Wereldkunst – laat je verrassen door creatieve en kleurrijke activiteiten voor kinderen van 0 t/m 12 jaar (zie flyer!) \n👶 Ook voor de allerkleinsten is er genoeg te doen! \n🎨 Gratis toegang\n🥤 Inclusief lekkere hapjes en drankjes \n🧺 Nieuw dit jaar: de kleedjesmarkt – door en voor kinderen!\nVerkoop je eigen speelgoed\, lekkernijen of zelfgemaakte kunstwerkjes! \nIedereen is van harte welkom!\n📞 Meer info: Nicole Stams\, Bindkracht10 – 06-18240889. \n \n  \n 
URL:https://neerbosch.nu/activiteit/kinderwijkfeest-toon/
LOCATION:natuurspeeltuin Tam Tam\, Symfoniestraat\, Nijmegen\, Netherlands
END:VEVENT
END:VCALENDAR