BEGIN:VCALENDAR
VERSION:2.0
PRODID:-//Neerbosch Nu - ECPv6.15.18//NONSGML v1.0//EN
CALSCALE:GREGORIAN
METHOD:PUBLISH
X-ORIGINAL-URL:https://neerbosch.nu
X-WR-CALDESC:Evenementen voor Neerbosch Nu
REFRESH-INTERVAL;VALUE=DURATION:PT1H
X-Robots-Tag:noindex
X-PUBLISHED-TTL:PT1H
BEGIN:VTIMEZONE
TZID:Europe/Paris
BEGIN:DAYLIGHT
TZOFFSETFROM:+0100
TZOFFSETTO:+0200
TZNAME:CEST
DTSTART:20240331T010000
END:DAYLIGHT
BEGIN:STANDARD
TZOFFSETFROM:+0200
TZOFFSETTO:+0100
TZNAME:CET
DTSTART:20241027T010000
END:STANDARD
BEGIN:DAYLIGHT
TZOFFSETFROM:+0100
TZOFFSETTO:+0200
TZNAME:CEST
DTSTART:20250330T010000
END:DAYLIGHT
BEGIN:STANDARD
TZOFFSETFROM:+0200
TZOFFSETTO:+0100
TZNAME:CET
DTSTART:20251026T010000
END:STANDARD
BEGIN:DAYLIGHT
TZOFFSETFROM:+0100
TZOFFSETTO:+0200
TZNAME:CEST
DTSTART:20260329T010000
END:DAYLIGHT
BEGIN:STANDARD
TZOFFSETFROM:+0200
TZOFFSETTO:+0100
TZNAME:CET
DTSTART:20261025T010000
END:STANDARD
END:VTIMEZONE
BEGIN:VEVENT
DTSTART;TZID=Europe/Paris:20250123T170000
DTEND;TZID=Europe/Paris:20250123T190000
DTSTAMP:20260425T211710
CREATED:20250119T121641Z
LAST-MODIFIED:20250119T121641Z
UID:10000006-1737651600-1737658800@neerbosch.nu
SUMMARY:Kook&Klets
DESCRIPTION:Donderdag 23 januari is weer Kook& Klets in wijkcentrum De Schalmei. Iedere derde donderdag van de maand kun je aanschuiven voor een drie-gangenmenu en gezelschap. Kosten €5\,- tot €7\,-. \nAanmelden voor 23-01 kan tot 20-01 bij Sandra: 06 4099 3299. \nWintermenu 23-01: \nRomige Pompoensoep \n& \nStampotje van rauwe andijvie met spekjes\nen gehaktballetjes in jus \n& \nCrepe met mon chou en vruchten \n 
URL:https://neerbosch.nu/activiteit/kookklets/
LOCATION:Wijkcentrum De Schalmei\, Symfoniestraat 204\, Nijmegen\, 6544 TN
END:VEVENT
END:VCALENDAR