BEGIN:VCALENDAR
VERSION:2.0
PRODID:-//Neerbosch Nu - ECPv6.15.18//NONSGML v1.0//EN
CALSCALE:GREGORIAN
METHOD:PUBLISH
X-WR-CALNAME:Neerbosch Nu
X-ORIGINAL-URL:https://neerbosch.nu
X-WR-CALDESC:Evenementen voor Neerbosch Nu
REFRESH-INTERVAL;VALUE=DURATION:PT1H
X-Robots-Tag:noindex
X-PUBLISHED-TTL:PT1H
BEGIN:VTIMEZONE
TZID:Europe/Paris
BEGIN:DAYLIGHT
TZOFFSETFROM:+0100
TZOFFSETTO:+0200
TZNAME:CEST
DTSTART:20250330T010000
END:DAYLIGHT
BEGIN:STANDARD
TZOFFSETFROM:+0200
TZOFFSETTO:+0100
TZNAME:CET
DTSTART:20251026T010000
END:STANDARD
BEGIN:DAYLIGHT
TZOFFSETFROM:+0100
TZOFFSETTO:+0200
TZNAME:CEST
DTSTART:20260329T010000
END:DAYLIGHT
BEGIN:STANDARD
TZOFFSETFROM:+0200
TZOFFSETTO:+0100
TZNAME:CET
DTSTART:20261025T010000
END:STANDARD
BEGIN:DAYLIGHT
TZOFFSETFROM:+0100
TZOFFSETTO:+0200
TZNAME:CEST
DTSTART:20270328T010000
END:DAYLIGHT
BEGIN:STANDARD
TZOFFSETFROM:+0200
TZOFFSETTO:+0100
TZNAME:CET
DTSTART:20271031T010000
END:STANDARD
BEGIN:DAYLIGHT
TZOFFSETFROM:+0100
TZOFFSETTO:+0200
TZNAME:CEST
DTSTART:20280326T010000
END:DAYLIGHT
BEGIN:STANDARD
TZOFFSETFROM:+0200
TZOFFSETTO:+0100
TZNAME:CET
DTSTART:20281029T010000
END:STANDARD
END:VTIMEZONE
BEGIN:VEVENT
DTSTART;TZID=Europe/Paris:20261208T100000
DTEND;TZID=Europe/Paris:20261208T110000
DTSTAMP:20260425T151058
CREATED:20260424T102516Z
LAST-MODIFIED:20260424T102516Z
UID:10001558-1796724000-1796727600@neerbosch.nu
SUMMARY:Leesgroep Beamer
DESCRIPTION:Elke dinsdag om 10:00 komen Marokaanse vrouwen in De Schalmei bij elkaar om te lezen in leesgroep Beamer.
URL:https://neerbosch.nu/activiteit/leesgroep-beamer/2026-12-08/
LOCATION:Wijkcentrum De Schalmei\, Symfoniestraat 204\, Nijmegen\, 6544 TN
ATTACH;FMTTYPE=image/jpeg:https://neerbosch.nu/wp-content/uploads/2026/04/boeken.jpg
END:VEVENT
BEGIN:VEVENT
DTSTART;TZID=Europe/Paris:20261215T100000
DTEND;TZID=Europe/Paris:20261215T110000
DTSTAMP:20260425T151058
CREATED:20260424T102516Z
LAST-MODIFIED:20260424T102516Z
UID:10001559-1797328800-1797332400@neerbosch.nu
SUMMARY:Leesgroep Beamer
DESCRIPTION:Elke dinsdag om 10:00 komen Marokaanse vrouwen in De Schalmei bij elkaar om te lezen in leesgroep Beamer.
URL:https://neerbosch.nu/activiteit/leesgroep-beamer/2026-12-15/
LOCATION:Wijkcentrum De Schalmei\, Symfoniestraat 204\, Nijmegen\, 6544 TN
ATTACH;FMTTYPE=image/jpeg:https://neerbosch.nu/wp-content/uploads/2026/04/boeken.jpg
END:VEVENT
BEGIN:VEVENT
DTSTART;TZID=Europe/Paris:20261222T100000
DTEND;TZID=Europe/Paris:20261222T110000
DTSTAMP:20260425T151058
CREATED:20260424T102516Z
LAST-MODIFIED:20260424T102516Z
UID:10001560-1797933600-1797937200@neerbosch.nu
SUMMARY:Leesgroep Beamer
DESCRIPTION:Elke dinsdag om 10:00 komen Marokaanse vrouwen in De Schalmei bij elkaar om te lezen in leesgroep Beamer.
URL:https://neerbosch.nu/activiteit/leesgroep-beamer/2026-12-22/
LOCATION:Wijkcentrum De Schalmei\, Symfoniestraat 204\, Nijmegen\, 6544 TN
ATTACH;FMTTYPE=image/jpeg:https://neerbosch.nu/wp-content/uploads/2026/04/boeken.jpg
END:VEVENT
BEGIN:VEVENT
DTSTART;TZID=Europe/Paris:20261229T100000
DTEND;TZID=Europe/Paris:20261229T110000
DTSTAMP:20260425T151058
CREATED:20260424T102516Z
LAST-MODIFIED:20260424T102516Z
UID:10001561-1798538400-1798542000@neerbosch.nu
SUMMARY:Leesgroep Beamer
DESCRIPTION:Elke dinsdag om 10:00 komen Marokaanse vrouwen in De Schalmei bij elkaar om te lezen in leesgroep Beamer.
URL:https://neerbosch.nu/activiteit/leesgroep-beamer/2026-12-29/
LOCATION:Wijkcentrum De Schalmei\, Symfoniestraat 204\, Nijmegen\, 6544 TN
ATTACH;FMTTYPE=image/jpeg:https://neerbosch.nu/wp-content/uploads/2026/04/boeken.jpg
END:VEVENT
BEGIN:VEVENT
DTSTART;TZID=Europe/Paris:20270105T100000
DTEND;TZID=Europe/Paris:20270105T110000
DTSTAMP:20260425T151058
CREATED:20260424T102516Z
LAST-MODIFIED:20260424T102516Z
UID:10001562-1799143200-1799146800@neerbosch.nu
SUMMARY:Leesgroep Beamer
DESCRIPTION:Elke dinsdag om 10:00 komen Marokaanse vrouwen in De Schalmei bij elkaar om te lezen in leesgroep Beamer.
URL:https://neerbosch.nu/activiteit/leesgroep-beamer/2027-01-05/
LOCATION:Wijkcentrum De Schalmei\, Symfoniestraat 204\, Nijmegen\, 6544 TN
ATTACH;FMTTYPE=image/jpeg:https://neerbosch.nu/wp-content/uploads/2026/04/boeken.jpg
END:VEVENT
BEGIN:VEVENT
DTSTART;TZID=Europe/Paris:20270112T100000
DTEND;TZID=Europe/Paris:20270112T110000
DTSTAMP:20260425T151058
CREATED:20260424T102516Z
LAST-MODIFIED:20260424T102516Z
UID:10001563-1799748000-1799751600@neerbosch.nu
SUMMARY:Leesgroep Beamer
DESCRIPTION:Elke dinsdag om 10:00 komen Marokaanse vrouwen in De Schalmei bij elkaar om te lezen in leesgroep Beamer.
URL:https://neerbosch.nu/activiteit/leesgroep-beamer/2027-01-12/
LOCATION:Wijkcentrum De Schalmei\, Symfoniestraat 204\, Nijmegen\, 6544 TN
ATTACH;FMTTYPE=image/jpeg:https://neerbosch.nu/wp-content/uploads/2026/04/boeken.jpg
END:VEVENT
BEGIN:VEVENT
DTSTART;TZID=Europe/Paris:20270119T100000
DTEND;TZID=Europe/Paris:20270119T110000
DTSTAMP:20260425T151058
CREATED:20260424T102516Z
LAST-MODIFIED:20260424T102516Z
UID:10001564-1800352800-1800356400@neerbosch.nu
SUMMARY:Leesgroep Beamer
DESCRIPTION:Elke dinsdag om 10:00 komen Marokaanse vrouwen in De Schalmei bij elkaar om te lezen in leesgroep Beamer.
URL:https://neerbosch.nu/activiteit/leesgroep-beamer/2027-01-19/
LOCATION:Wijkcentrum De Schalmei\, Symfoniestraat 204\, Nijmegen\, 6544 TN
ATTACH;FMTTYPE=image/jpeg:https://neerbosch.nu/wp-content/uploads/2026/04/boeken.jpg
END:VEVENT
BEGIN:VEVENT
DTSTART;TZID=Europe/Paris:20270126T100000
DTEND;TZID=Europe/Paris:20270126T110000
DTSTAMP:20260425T151058
CREATED:20260424T102516Z
LAST-MODIFIED:20260424T102516Z
UID:10001565-1800957600-1800961200@neerbosch.nu
SUMMARY:Leesgroep Beamer
DESCRIPTION:Elke dinsdag om 10:00 komen Marokaanse vrouwen in De Schalmei bij elkaar om te lezen in leesgroep Beamer.
URL:https://neerbosch.nu/activiteit/leesgroep-beamer/2027-01-26/
LOCATION:Wijkcentrum De Schalmei\, Symfoniestraat 204\, Nijmegen\, 6544 TN
ATTACH;FMTTYPE=image/jpeg:https://neerbosch.nu/wp-content/uploads/2026/04/boeken.jpg
END:VEVENT
BEGIN:VEVENT
DTSTART;TZID=Europe/Paris:20270202T100000
DTEND;TZID=Europe/Paris:20270202T110000
DTSTAMP:20260425T151058
CREATED:20260424T102516Z
LAST-MODIFIED:20260424T102516Z
UID:10001566-1801562400-1801566000@neerbosch.nu
SUMMARY:Leesgroep Beamer
DESCRIPTION:Elke dinsdag om 10:00 komen Marokaanse vrouwen in De Schalmei bij elkaar om te lezen in leesgroep Beamer.
URL:https://neerbosch.nu/activiteit/leesgroep-beamer/2027-02-02/
LOCATION:Wijkcentrum De Schalmei\, Symfoniestraat 204\, Nijmegen\, 6544 TN
ATTACH;FMTTYPE=image/jpeg:https://neerbosch.nu/wp-content/uploads/2026/04/boeken.jpg
END:VEVENT
BEGIN:VEVENT
DTSTART;TZID=Europe/Paris:20270209T100000
DTEND;TZID=Europe/Paris:20270209T110000
DTSTAMP:20260425T151058
CREATED:20260424T102516Z
LAST-MODIFIED:20260424T102516Z
UID:10001567-1802167200-1802170800@neerbosch.nu
SUMMARY:Leesgroep Beamer
DESCRIPTION:Elke dinsdag om 10:00 komen Marokaanse vrouwen in De Schalmei bij elkaar om te lezen in leesgroep Beamer.
URL:https://neerbosch.nu/activiteit/leesgroep-beamer/2027-02-09/
LOCATION:Wijkcentrum De Schalmei\, Symfoniestraat 204\, Nijmegen\, 6544 TN
ATTACH;FMTTYPE=image/jpeg:https://neerbosch.nu/wp-content/uploads/2026/04/boeken.jpg
END:VEVENT
BEGIN:VEVENT
DTSTART;TZID=Europe/Paris:20270216T100000
DTEND;TZID=Europe/Paris:20270216T110000
DTSTAMP:20260425T151058
CREATED:20260424T102516Z
LAST-MODIFIED:20260424T102516Z
UID:10001568-1802772000-1802775600@neerbosch.nu
SUMMARY:Leesgroep Beamer
DESCRIPTION:Elke dinsdag om 10:00 komen Marokaanse vrouwen in De Schalmei bij elkaar om te lezen in leesgroep Beamer.
URL:https://neerbosch.nu/activiteit/leesgroep-beamer/2027-02-16/
LOCATION:Wijkcentrum De Schalmei\, Symfoniestraat 204\, Nijmegen\, 6544 TN
ATTACH;FMTTYPE=image/jpeg:https://neerbosch.nu/wp-content/uploads/2026/04/boeken.jpg
END:VEVENT
BEGIN:VEVENT
DTSTART;TZID=Europe/Paris:20270223T100000
DTEND;TZID=Europe/Paris:20270223T110000
DTSTAMP:20260425T151058
CREATED:20260424T102516Z
LAST-MODIFIED:20260424T102516Z
UID:10001569-1803376800-1803380400@neerbosch.nu
SUMMARY:Leesgroep Beamer
DESCRIPTION:Elke dinsdag om 10:00 komen Marokaanse vrouwen in De Schalmei bij elkaar om te lezen in leesgroep Beamer.
URL:https://neerbosch.nu/activiteit/leesgroep-beamer/2027-02-23/
LOCATION:Wijkcentrum De Schalmei\, Symfoniestraat 204\, Nijmegen\, 6544 TN
ATTACH;FMTTYPE=image/jpeg:https://neerbosch.nu/wp-content/uploads/2026/04/boeken.jpg
END:VEVENT
BEGIN:VEVENT
DTSTART;TZID=Europe/Paris:20270302T100000
DTEND;TZID=Europe/Paris:20270302T110000
DTSTAMP:20260425T151058
CREATED:20260424T102516Z
LAST-MODIFIED:20260424T102516Z
UID:10001570-1803981600-1803985200@neerbosch.nu
SUMMARY:Leesgroep Beamer
DESCRIPTION:Elke dinsdag om 10:00 komen Marokaanse vrouwen in De Schalmei bij elkaar om te lezen in leesgroep Beamer.
URL:https://neerbosch.nu/activiteit/leesgroep-beamer/2027-03-02/
LOCATION:Wijkcentrum De Schalmei\, Symfoniestraat 204\, Nijmegen\, 6544 TN
ATTACH;FMTTYPE=image/jpeg:https://neerbosch.nu/wp-content/uploads/2026/04/boeken.jpg
END:VEVENT
BEGIN:VEVENT
DTSTART;TZID=Europe/Paris:20270309T100000
DTEND;TZID=Europe/Paris:20270309T110000
DTSTAMP:20260425T151058
CREATED:20260424T102516Z
LAST-MODIFIED:20260424T102516Z
UID:10001571-1804586400-1804590000@neerbosch.nu
SUMMARY:Leesgroep Beamer
DESCRIPTION:Elke dinsdag om 10:00 komen Marokaanse vrouwen in De Schalmei bij elkaar om te lezen in leesgroep Beamer.
URL:https://neerbosch.nu/activiteit/leesgroep-beamer/2027-03-09/
LOCATION:Wijkcentrum De Schalmei\, Symfoniestraat 204\, Nijmegen\, 6544 TN
ATTACH;FMTTYPE=image/jpeg:https://neerbosch.nu/wp-content/uploads/2026/04/boeken.jpg
END:VEVENT
BEGIN:VEVENT
DTSTART;TZID=Europe/Paris:20270316T100000
DTEND;TZID=Europe/Paris:20270316T110000
DTSTAMP:20260425T151058
CREATED:20260424T102516Z
LAST-MODIFIED:20260424T102516Z
UID:10001572-1805191200-1805194800@neerbosch.nu
SUMMARY:Leesgroep Beamer
DESCRIPTION:Elke dinsdag om 10:00 komen Marokaanse vrouwen in De Schalmei bij elkaar om te lezen in leesgroep Beamer.
URL:https://neerbosch.nu/activiteit/leesgroep-beamer/2027-03-16/
LOCATION:Wijkcentrum De Schalmei\, Symfoniestraat 204\, Nijmegen\, 6544 TN
ATTACH;FMTTYPE=image/jpeg:https://neerbosch.nu/wp-content/uploads/2026/04/boeken.jpg
END:VEVENT
BEGIN:VEVENT
DTSTART;TZID=Europe/Paris:20270323T100000
DTEND;TZID=Europe/Paris:20270323T110000
DTSTAMP:20260425T151058
CREATED:20260424T102516Z
LAST-MODIFIED:20260424T102516Z
UID:10001573-1805796000-1805799600@neerbosch.nu
SUMMARY:Leesgroep Beamer
DESCRIPTION:Elke dinsdag om 10:00 komen Marokaanse vrouwen in De Schalmei bij elkaar om te lezen in leesgroep Beamer.
URL:https://neerbosch.nu/activiteit/leesgroep-beamer/2027-03-23/
LOCATION:Wijkcentrum De Schalmei\, Symfoniestraat 204\, Nijmegen\, 6544 TN
ATTACH;FMTTYPE=image/jpeg:https://neerbosch.nu/wp-content/uploads/2026/04/boeken.jpg
END:VEVENT
BEGIN:VEVENT
DTSTART;TZID=Europe/Paris:20270330T100000
DTEND;TZID=Europe/Paris:20270330T110000
DTSTAMP:20260425T151058
CREATED:20260424T102516Z
LAST-MODIFIED:20260424T102516Z
UID:10001574-1806400800-1806404400@neerbosch.nu
SUMMARY:Leesgroep Beamer
DESCRIPTION:Elke dinsdag om 10:00 komen Marokaanse vrouwen in De Schalmei bij elkaar om te lezen in leesgroep Beamer.
URL:https://neerbosch.nu/activiteit/leesgroep-beamer/2027-03-30/
LOCATION:Wijkcentrum De Schalmei\, Symfoniestraat 204\, Nijmegen\, 6544 TN
ATTACH;FMTTYPE=image/jpeg:https://neerbosch.nu/wp-content/uploads/2026/04/boeken.jpg
END:VEVENT
BEGIN:VEVENT
DTSTART;TZID=Europe/Paris:20270406T100000
DTEND;TZID=Europe/Paris:20270406T110000
DTSTAMP:20260425T151058
CREATED:20260424T102516Z
LAST-MODIFIED:20260424T102516Z
UID:10001575-1807005600-1807009200@neerbosch.nu
SUMMARY:Leesgroep Beamer
DESCRIPTION:Elke dinsdag om 10:00 komen Marokaanse vrouwen in De Schalmei bij elkaar om te lezen in leesgroep Beamer.
URL:https://neerbosch.nu/activiteit/leesgroep-beamer/2027-04-06/
LOCATION:Wijkcentrum De Schalmei\, Symfoniestraat 204\, Nijmegen\, 6544 TN
ATTACH;FMTTYPE=image/jpeg:https://neerbosch.nu/wp-content/uploads/2026/04/boeken.jpg
END:VEVENT
BEGIN:VEVENT
DTSTART;TZID=Europe/Paris:20270413T100000
DTEND;TZID=Europe/Paris:20270413T110000
DTSTAMP:20260425T151058
CREATED:20260424T102516Z
LAST-MODIFIED:20260424T102516Z
UID:10001576-1807610400-1807614000@neerbosch.nu
SUMMARY:Leesgroep Beamer
DESCRIPTION:Elke dinsdag om 10:00 komen Marokaanse vrouwen in De Schalmei bij elkaar om te lezen in leesgroep Beamer.
URL:https://neerbosch.nu/activiteit/leesgroep-beamer/2027-04-13/
LOCATION:Wijkcentrum De Schalmei\, Symfoniestraat 204\, Nijmegen\, 6544 TN
ATTACH;FMTTYPE=image/jpeg:https://neerbosch.nu/wp-content/uploads/2026/04/boeken.jpg
END:VEVENT
BEGIN:VEVENT
DTSTART;TZID=Europe/Paris:20270420T100000
DTEND;TZID=Europe/Paris:20270420T110000
DTSTAMP:20260425T151058
CREATED:20260424T102516Z
LAST-MODIFIED:20260424T102516Z
UID:10001577-1808215200-1808218800@neerbosch.nu
SUMMARY:Leesgroep Beamer
DESCRIPTION:Elke dinsdag om 10:00 komen Marokaanse vrouwen in De Schalmei bij elkaar om te lezen in leesgroep Beamer.
URL:https://neerbosch.nu/activiteit/leesgroep-beamer/2027-04-20/
LOCATION:Wijkcentrum De Schalmei\, Symfoniestraat 204\, Nijmegen\, 6544 TN
ATTACH;FMTTYPE=image/jpeg:https://neerbosch.nu/wp-content/uploads/2026/04/boeken.jpg
END:VEVENT
BEGIN:VEVENT
DTSTART;TZID=Europe/Paris:20270427T100000
DTEND;TZID=Europe/Paris:20270427T110000
DTSTAMP:20260425T151058
CREATED:20260424T102516Z
LAST-MODIFIED:20260424T102516Z
UID:10001578-1808820000-1808823600@neerbosch.nu
SUMMARY:Leesgroep Beamer
DESCRIPTION:Elke dinsdag om 10:00 komen Marokaanse vrouwen in De Schalmei bij elkaar om te lezen in leesgroep Beamer.
URL:https://neerbosch.nu/activiteit/leesgroep-beamer/2027-04-27/
LOCATION:Wijkcentrum De Schalmei\, Symfoniestraat 204\, Nijmegen\, 6544 TN
ATTACH;FMTTYPE=image/jpeg:https://neerbosch.nu/wp-content/uploads/2026/04/boeken.jpg
END:VEVENT
BEGIN:VEVENT
DTSTART;TZID=Europe/Paris:20270504T100000
DTEND;TZID=Europe/Paris:20270504T110000
DTSTAMP:20260425T151058
CREATED:20260424T102516Z
LAST-MODIFIED:20260424T102516Z
UID:10001579-1809424800-1809428400@neerbosch.nu
SUMMARY:Leesgroep Beamer
DESCRIPTION:Elke dinsdag om 10:00 komen Marokaanse vrouwen in De Schalmei bij elkaar om te lezen in leesgroep Beamer.
URL:https://neerbosch.nu/activiteit/leesgroep-beamer/2027-05-04/
LOCATION:Wijkcentrum De Schalmei\, Symfoniestraat 204\, Nijmegen\, 6544 TN
ATTACH;FMTTYPE=image/jpeg:https://neerbosch.nu/wp-content/uploads/2026/04/boeken.jpg
END:VEVENT
BEGIN:VEVENT
DTSTART;TZID=Europe/Paris:20270511T100000
DTEND;TZID=Europe/Paris:20270511T110000
DTSTAMP:20260425T151058
CREATED:20260424T102516Z
LAST-MODIFIED:20260424T102516Z
UID:10001580-1810029600-1810033200@neerbosch.nu
SUMMARY:Leesgroep Beamer
DESCRIPTION:Elke dinsdag om 10:00 komen Marokaanse vrouwen in De Schalmei bij elkaar om te lezen in leesgroep Beamer.
URL:https://neerbosch.nu/activiteit/leesgroep-beamer/2027-05-11/
LOCATION:Wijkcentrum De Schalmei\, Symfoniestraat 204\, Nijmegen\, 6544 TN
ATTACH;FMTTYPE=image/jpeg:https://neerbosch.nu/wp-content/uploads/2026/04/boeken.jpg
END:VEVENT
BEGIN:VEVENT
DTSTART;TZID=Europe/Paris:20270518T100000
DTEND;TZID=Europe/Paris:20270518T110000
DTSTAMP:20260425T151058
CREATED:20260424T102516Z
LAST-MODIFIED:20260424T102516Z
UID:10001581-1810634400-1810638000@neerbosch.nu
SUMMARY:Leesgroep Beamer
DESCRIPTION:Elke dinsdag om 10:00 komen Marokaanse vrouwen in De Schalmei bij elkaar om te lezen in leesgroep Beamer.
URL:https://neerbosch.nu/activiteit/leesgroep-beamer/2027-05-18/
LOCATION:Wijkcentrum De Schalmei\, Symfoniestraat 204\, Nijmegen\, 6544 TN
ATTACH;FMTTYPE=image/jpeg:https://neerbosch.nu/wp-content/uploads/2026/04/boeken.jpg
END:VEVENT
BEGIN:VEVENT
DTSTART;TZID=Europe/Paris:20270525T100000
DTEND;TZID=Europe/Paris:20270525T110000
DTSTAMP:20260425T151058
CREATED:20260424T102516Z
LAST-MODIFIED:20260424T102516Z
UID:10001582-1811239200-1811242800@neerbosch.nu
SUMMARY:Leesgroep Beamer
DESCRIPTION:Elke dinsdag om 10:00 komen Marokaanse vrouwen in De Schalmei bij elkaar om te lezen in leesgroep Beamer.
URL:https://neerbosch.nu/activiteit/leesgroep-beamer/2027-05-25/
LOCATION:Wijkcentrum De Schalmei\, Symfoniestraat 204\, Nijmegen\, 6544 TN
ATTACH;FMTTYPE=image/jpeg:https://neerbosch.nu/wp-content/uploads/2026/04/boeken.jpg
END:VEVENT
BEGIN:VEVENT
DTSTART;TZID=Europe/Paris:20270601T100000
DTEND;TZID=Europe/Paris:20270601T110000
DTSTAMP:20260425T151058
CREATED:20260424T102516Z
LAST-MODIFIED:20260424T102516Z
UID:10001583-1811844000-1811847600@neerbosch.nu
SUMMARY:Leesgroep Beamer
DESCRIPTION:Elke dinsdag om 10:00 komen Marokaanse vrouwen in De Schalmei bij elkaar om te lezen in leesgroep Beamer.
URL:https://neerbosch.nu/activiteit/leesgroep-beamer/2027-06-01/
LOCATION:Wijkcentrum De Schalmei\, Symfoniestraat 204\, Nijmegen\, 6544 TN
ATTACH;FMTTYPE=image/jpeg:https://neerbosch.nu/wp-content/uploads/2026/04/boeken.jpg
END:VEVENT
BEGIN:VEVENT
DTSTART;TZID=Europe/Paris:20270608T100000
DTEND;TZID=Europe/Paris:20270608T110000
DTSTAMP:20260425T151058
CREATED:20260424T102516Z
LAST-MODIFIED:20260424T102516Z
UID:10001584-1812448800-1812452400@neerbosch.nu
SUMMARY:Leesgroep Beamer
DESCRIPTION:Elke dinsdag om 10:00 komen Marokaanse vrouwen in De Schalmei bij elkaar om te lezen in leesgroep Beamer.
URL:https://neerbosch.nu/activiteit/leesgroep-beamer/2027-06-08/
LOCATION:Wijkcentrum De Schalmei\, Symfoniestraat 204\, Nijmegen\, 6544 TN
ATTACH;FMTTYPE=image/jpeg:https://neerbosch.nu/wp-content/uploads/2026/04/boeken.jpg
END:VEVENT
BEGIN:VEVENT
DTSTART;TZID=Europe/Paris:20270615T100000
DTEND;TZID=Europe/Paris:20270615T110000
DTSTAMP:20260425T151058
CREATED:20260424T102516Z
LAST-MODIFIED:20260424T102516Z
UID:10001585-1813053600-1813057200@neerbosch.nu
SUMMARY:Leesgroep Beamer
DESCRIPTION:Elke dinsdag om 10:00 komen Marokaanse vrouwen in De Schalmei bij elkaar om te lezen in leesgroep Beamer.
URL:https://neerbosch.nu/activiteit/leesgroep-beamer/2027-06-15/
LOCATION:Wijkcentrum De Schalmei\, Symfoniestraat 204\, Nijmegen\, 6544 TN
ATTACH;FMTTYPE=image/jpeg:https://neerbosch.nu/wp-content/uploads/2026/04/boeken.jpg
END:VEVENT
BEGIN:VEVENT
DTSTART;TZID=Europe/Paris:20270622T100000
DTEND;TZID=Europe/Paris:20270622T110000
DTSTAMP:20260425T151058
CREATED:20260424T102516Z
LAST-MODIFIED:20260424T102516Z
UID:10001586-1813658400-1813662000@neerbosch.nu
SUMMARY:Leesgroep Beamer
DESCRIPTION:Elke dinsdag om 10:00 komen Marokaanse vrouwen in De Schalmei bij elkaar om te lezen in leesgroep Beamer.
URL:https://neerbosch.nu/activiteit/leesgroep-beamer/2027-06-22/
LOCATION:Wijkcentrum De Schalmei\, Symfoniestraat 204\, Nijmegen\, 6544 TN
ATTACH;FMTTYPE=image/jpeg:https://neerbosch.nu/wp-content/uploads/2026/04/boeken.jpg
END:VEVENT
BEGIN:VEVENT
DTSTART;TZID=Europe/Paris:20270629T100000
DTEND;TZID=Europe/Paris:20270629T110000
DTSTAMP:20260425T151058
CREATED:20260424T102516Z
LAST-MODIFIED:20260424T102516Z
UID:10001587-1814263200-1814266800@neerbosch.nu
SUMMARY:Leesgroep Beamer
DESCRIPTION:Elke dinsdag om 10:00 komen Marokaanse vrouwen in De Schalmei bij elkaar om te lezen in leesgroep Beamer.
URL:https://neerbosch.nu/activiteit/leesgroep-beamer/2027-06-29/
LOCATION:Wijkcentrum De Schalmei\, Symfoniestraat 204\, Nijmegen\, 6544 TN
ATTACH;FMTTYPE=image/jpeg:https://neerbosch.nu/wp-content/uploads/2026/04/boeken.jpg
END:VEVENT
END:VCALENDAR