BEGIN:VCALENDAR
VERSION:2.0
PRODID:-//Neerbosch Nu - ECPv6.15.18//NONSGML v1.0//EN
CALSCALE:GREGORIAN
METHOD:PUBLISH
X-ORIGINAL-URL:https://neerbosch.nu
X-WR-CALDESC:Evenementen voor Neerbosch Nu
REFRESH-INTERVAL;VALUE=DURATION:PT1H
X-Robots-Tag:noindex
X-PUBLISHED-TTL:PT1H
BEGIN:VTIMEZONE
TZID:Europe/Paris
BEGIN:DAYLIGHT
TZOFFSETFROM:+0100
TZOFFSETTO:+0200
TZNAME:CEST
DTSTART:20240331T010000
END:DAYLIGHT
BEGIN:STANDARD
TZOFFSETFROM:+0200
TZOFFSETTO:+0100
TZNAME:CET
DTSTART:20241027T010000
END:STANDARD
BEGIN:DAYLIGHT
TZOFFSETFROM:+0100
TZOFFSETTO:+0200
TZNAME:CEST
DTSTART:20250330T010000
END:DAYLIGHT
BEGIN:STANDARD
TZOFFSETFROM:+0200
TZOFFSETTO:+0100
TZNAME:CET
DTSTART:20251026T010000
END:STANDARD
BEGIN:DAYLIGHT
TZOFFSETFROM:+0100
TZOFFSETTO:+0200
TZNAME:CEST
DTSTART:20260329T010000
END:DAYLIGHT
BEGIN:STANDARD
TZOFFSETFROM:+0200
TZOFFSETTO:+0100
TZNAME:CET
DTSTART:20261025T010000
END:STANDARD
END:VTIMEZONE
BEGIN:VEVENT
DTSTART;TZID=Europe/Paris:20251002T110000
DTEND;TZID=Europe/Paris:20251002T120000
DTSTAMP:20260425T234349
CREATED:20250908T183720Z
LAST-MODIFIED:20250908T183720Z
UID:10000029-1759402800-1759406400@neerbosch.nu
SUMMARY:Linedance
DESCRIPTION:Vanaf 2 oktober iedere donderdag van 11:00 tot 12:00 linedance in De Schalmei. Entree €1\,- \n 
URL:https://neerbosch.nu/activiteit/linedance/
LOCATION:Wijkcentrum De Schalmei\, Symfoniestraat 204\, Nijmegen\, 6544 TN
ATTACH;FMTTYPE=image/jpeg:https://neerbosch.nu/wp-content/uploads/2025/09/Header-Line-dance.jpg
END:VEVENT
END:VCALENDAR