BEGIN:VCALENDAR
VERSION:2.0
PRODID:-//Neerbosch Nu - ECPv6.15.18//NONSGML v1.0//EN
CALSCALE:GREGORIAN
METHOD:PUBLISH
X-WR-CALNAME:Neerbosch Nu
X-ORIGINAL-URL:https://neerbosch.nu
X-WR-CALDESC:Evenementen voor Neerbosch Nu
REFRESH-INTERVAL;VALUE=DURATION:PT1H
X-Robots-Tag:noindex
X-PUBLISHED-TTL:PT1H
BEGIN:VTIMEZONE
TZID:Europe/Paris
BEGIN:DAYLIGHT
TZOFFSETFROM:+0100
TZOFFSETTO:+0200
TZNAME:CEST
DTSTART:20250330T010000
END:DAYLIGHT
BEGIN:STANDARD
TZOFFSETFROM:+0200
TZOFFSETTO:+0100
TZNAME:CET
DTSTART:20251026T010000
END:STANDARD
BEGIN:DAYLIGHT
TZOFFSETFROM:+0100
TZOFFSETTO:+0200
TZNAME:CEST
DTSTART:20260329T010000
END:DAYLIGHT
BEGIN:STANDARD
TZOFFSETFROM:+0200
TZOFFSETTO:+0100
TZNAME:CET
DTSTART:20261025T010000
END:STANDARD
BEGIN:DAYLIGHT
TZOFFSETFROM:+0100
TZOFFSETTO:+0200
TZNAME:CEST
DTSTART:20270328T010000
END:DAYLIGHT
BEGIN:STANDARD
TZOFFSETFROM:+0200
TZOFFSETTO:+0100
TZNAME:CET
DTSTART:20271031T010000
END:STANDARD
BEGIN:DAYLIGHT
TZOFFSETFROM:+0100
TZOFFSETTO:+0200
TZNAME:CEST
DTSTART:20280326T010000
END:DAYLIGHT
BEGIN:STANDARD
TZOFFSETFROM:+0200
TZOFFSETTO:+0100
TZNAME:CET
DTSTART:20281029T010000
END:STANDARD
END:VTIMEZONE
BEGIN:VEVENT
DTSTART;TZID=Europe/Paris:20260505T140000
DTEND;TZID=Europe/Paris:20260505T160000
DTSTAMP:20260425T045445
CREATED:20260408T111428Z
LAST-MODIFIED:20260408T111615Z
UID:10000055-1777989600-1777996800@neerbosch.nu
SUMMARY:Creatieve inloop 65+
DESCRIPTION:Iedere twee weken kun je op dinsdag van 14.00 tot 16.00 terecht bij de creatieve inloop voor 65+’ers in het atelier van De Schalmei. Je kunt gewoon binnenlopen om kennis te maken of mee te doen.
URL:https://neerbosch.nu/activiteit/creatieve-inloop-65-5/2026-05-05/
LOCATION:Wijkcentrum De Schalmei\, Symfoniestraat 204\, Nijmegen\, 6544 TN
ATTACH;FMTTYPE=image/jpeg:https://neerbosch.nu/wp-content/uploads/2026/01/knutselen-scaled-e1769631971984.jpg
END:VEVENT
BEGIN:VEVENT
DTSTART;TZID=Europe/Paris:20260519T140000
DTEND;TZID=Europe/Paris:20260519T160000
DTSTAMP:20260425T045445
CREATED:20260408T111428Z
LAST-MODIFIED:20260408T111615Z
UID:10000056-1779199200-1779206400@neerbosch.nu
SUMMARY:Creatieve inloop 65+
DESCRIPTION:Iedere twee weken kun je op dinsdag van 14.00 tot 16.00 terecht bij de creatieve inloop voor 65+’ers in het atelier van De Schalmei. Je kunt gewoon binnenlopen om kennis te maken of mee te doen.
URL:https://neerbosch.nu/activiteit/creatieve-inloop-65-5/2026-05-19/
LOCATION:Wijkcentrum De Schalmei\, Symfoniestraat 204\, Nijmegen\, 6544 TN
ATTACH;FMTTYPE=image/jpeg:https://neerbosch.nu/wp-content/uploads/2026/01/knutselen-scaled-e1769631971984.jpg
END:VEVENT
BEGIN:VEVENT
DTSTART;TZID=Europe/Paris:20260602T140000
DTEND;TZID=Europe/Paris:20260602T160000
DTSTAMP:20260425T045445
CREATED:20260408T111428Z
LAST-MODIFIED:20260408T111615Z
UID:10000057-1780408800-1780416000@neerbosch.nu
SUMMARY:Creatieve inloop 65+
DESCRIPTION:Iedere twee weken kun je op dinsdag van 14.00 tot 16.00 terecht bij de creatieve inloop voor 65+’ers in het atelier van De Schalmei. Je kunt gewoon binnenlopen om kennis te maken of mee te doen.
URL:https://neerbosch.nu/activiteit/creatieve-inloop-65-5/2026-06-02/
LOCATION:Wijkcentrum De Schalmei\, Symfoniestraat 204\, Nijmegen\, 6544 TN
ATTACH;FMTTYPE=image/jpeg:https://neerbosch.nu/wp-content/uploads/2026/01/knutselen-scaled-e1769631971984.jpg
END:VEVENT
BEGIN:VEVENT
DTSTART;TZID=Europe/Paris:20260616T140000
DTEND;TZID=Europe/Paris:20260616T160000
DTSTAMP:20260425T045445
CREATED:20260408T111428Z
LAST-MODIFIED:20260408T111615Z
UID:10000058-1781618400-1781625600@neerbosch.nu
SUMMARY:Creatieve inloop 65+
DESCRIPTION:Iedere twee weken kun je op dinsdag van 14.00 tot 16.00 terecht bij de creatieve inloop voor 65+’ers in het atelier van De Schalmei. Je kunt gewoon binnenlopen om kennis te maken of mee te doen.
URL:https://neerbosch.nu/activiteit/creatieve-inloop-65-5/2026-06-16/
LOCATION:Wijkcentrum De Schalmei\, Symfoniestraat 204\, Nijmegen\, 6544 TN
ATTACH;FMTTYPE=image/jpeg:https://neerbosch.nu/wp-content/uploads/2026/01/knutselen-scaled-e1769631971984.jpg
END:VEVENT
BEGIN:VEVENT
DTSTART;TZID=Europe/Paris:20260630T140000
DTEND;TZID=Europe/Paris:20260630T160000
DTSTAMP:20260425T045445
CREATED:20260408T111428Z
LAST-MODIFIED:20260408T111615Z
UID:10000059-1782828000-1782835200@neerbosch.nu
SUMMARY:Creatieve inloop 65+
DESCRIPTION:Iedere twee weken kun je op dinsdag van 14.00 tot 16.00 terecht bij de creatieve inloop voor 65+’ers in het atelier van De Schalmei. Je kunt gewoon binnenlopen om kennis te maken of mee te doen.
URL:https://neerbosch.nu/activiteit/creatieve-inloop-65-5/2026-06-30/
LOCATION:Wijkcentrum De Schalmei\, Symfoniestraat 204\, Nijmegen\, 6544 TN
ATTACH;FMTTYPE=image/jpeg:https://neerbosch.nu/wp-content/uploads/2026/01/knutselen-scaled-e1769631971984.jpg
END:VEVENT
BEGIN:VEVENT
DTSTART;TZID=Europe/Paris:20260714T140000
DTEND;TZID=Europe/Paris:20260714T160000
DTSTAMP:20260425T045445
CREATED:20260408T111428Z
LAST-MODIFIED:20260408T111615Z
UID:10000060-1784037600-1784044800@neerbosch.nu
SUMMARY:Creatieve inloop 65+
DESCRIPTION:Iedere twee weken kun je op dinsdag van 14.00 tot 16.00 terecht bij de creatieve inloop voor 65+’ers in het atelier van De Schalmei. Je kunt gewoon binnenlopen om kennis te maken of mee te doen.
URL:https://neerbosch.nu/activiteit/creatieve-inloop-65-5/2026-07-14/
LOCATION:Wijkcentrum De Schalmei\, Symfoniestraat 204\, Nijmegen\, 6544 TN
ATTACH;FMTTYPE=image/jpeg:https://neerbosch.nu/wp-content/uploads/2026/01/knutselen-scaled-e1769631971984.jpg
END:VEVENT
BEGIN:VEVENT
DTSTART;TZID=Europe/Paris:20260728T140000
DTEND;TZID=Europe/Paris:20260728T160000
DTSTAMP:20260425T045445
CREATED:20260408T111428Z
LAST-MODIFIED:20260408T111615Z
UID:10000061-1785247200-1785254400@neerbosch.nu
SUMMARY:Creatieve inloop 65+
DESCRIPTION:Iedere twee weken kun je op dinsdag van 14.00 tot 16.00 terecht bij de creatieve inloop voor 65+’ers in het atelier van De Schalmei. Je kunt gewoon binnenlopen om kennis te maken of mee te doen.
URL:https://neerbosch.nu/activiteit/creatieve-inloop-65-5/2026-07-28/
LOCATION:Wijkcentrum De Schalmei\, Symfoniestraat 204\, Nijmegen\, 6544 TN
ATTACH;FMTTYPE=image/jpeg:https://neerbosch.nu/wp-content/uploads/2026/01/knutselen-scaled-e1769631971984.jpg
END:VEVENT
BEGIN:VEVENT
DTSTART;TZID=Europe/Paris:20260811T140000
DTEND;TZID=Europe/Paris:20260811T160000
DTSTAMP:20260425T045445
CREATED:20260408T111428Z
LAST-MODIFIED:20260408T111615Z
UID:10000062-1786456800-1786464000@neerbosch.nu
SUMMARY:Creatieve inloop 65+
DESCRIPTION:Iedere twee weken kun je op dinsdag van 14.00 tot 16.00 terecht bij de creatieve inloop voor 65+’ers in het atelier van De Schalmei. Je kunt gewoon binnenlopen om kennis te maken of mee te doen.
URL:https://neerbosch.nu/activiteit/creatieve-inloop-65-5/2026-08-11/
LOCATION:Wijkcentrum De Schalmei\, Symfoniestraat 204\, Nijmegen\, 6544 TN
ATTACH;FMTTYPE=image/jpeg:https://neerbosch.nu/wp-content/uploads/2026/01/knutselen-scaled-e1769631971984.jpg
END:VEVENT
BEGIN:VEVENT
DTSTART;TZID=Europe/Paris:20260825T140000
DTEND;TZID=Europe/Paris:20260825T160000
DTSTAMP:20260425T045445
CREATED:20260408T111428Z
LAST-MODIFIED:20260408T111615Z
UID:10000063-1787666400-1787673600@neerbosch.nu
SUMMARY:Creatieve inloop 65+
DESCRIPTION:Iedere twee weken kun je op dinsdag van 14.00 tot 16.00 terecht bij de creatieve inloop voor 65+’ers in het atelier van De Schalmei. Je kunt gewoon binnenlopen om kennis te maken of mee te doen.
URL:https://neerbosch.nu/activiteit/creatieve-inloop-65-5/2026-08-25/
LOCATION:Wijkcentrum De Schalmei\, Symfoniestraat 204\, Nijmegen\, 6544 TN
ATTACH;FMTTYPE=image/jpeg:https://neerbosch.nu/wp-content/uploads/2026/01/knutselen-scaled-e1769631971984.jpg
END:VEVENT
BEGIN:VEVENT
DTSTART;TZID=Europe/Paris:20260908T140000
DTEND;TZID=Europe/Paris:20260908T160000
DTSTAMP:20260425T045445
CREATED:20260408T111428Z
LAST-MODIFIED:20260408T111615Z
UID:10000064-1788876000-1788883200@neerbosch.nu
SUMMARY:Creatieve inloop 65+
DESCRIPTION:Iedere twee weken kun je op dinsdag van 14.00 tot 16.00 terecht bij de creatieve inloop voor 65+’ers in het atelier van De Schalmei. Je kunt gewoon binnenlopen om kennis te maken of mee te doen.
URL:https://neerbosch.nu/activiteit/creatieve-inloop-65-5/2026-09-08/
LOCATION:Wijkcentrum De Schalmei\, Symfoniestraat 204\, Nijmegen\, 6544 TN
ATTACH;FMTTYPE=image/jpeg:https://neerbosch.nu/wp-content/uploads/2026/01/knutselen-scaled-e1769631971984.jpg
END:VEVENT
BEGIN:VEVENT
DTSTART;TZID=Europe/Paris:20260922T140000
DTEND;TZID=Europe/Paris:20260922T160000
DTSTAMP:20260425T045445
CREATED:20260408T111428Z
LAST-MODIFIED:20260408T111615Z
UID:10000065-1790085600-1790092800@neerbosch.nu
SUMMARY:Creatieve inloop 65+
DESCRIPTION:Iedere twee weken kun je op dinsdag van 14.00 tot 16.00 terecht bij de creatieve inloop voor 65+’ers in het atelier van De Schalmei. Je kunt gewoon binnenlopen om kennis te maken of mee te doen.
URL:https://neerbosch.nu/activiteit/creatieve-inloop-65-5/2026-09-22/
LOCATION:Wijkcentrum De Schalmei\, Symfoniestraat 204\, Nijmegen\, 6544 TN
ATTACH;FMTTYPE=image/jpeg:https://neerbosch.nu/wp-content/uploads/2026/01/knutselen-scaled-e1769631971984.jpg
END:VEVENT
BEGIN:VEVENT
DTSTART;TZID=Europe/Paris:20261006T140000
DTEND;TZID=Europe/Paris:20261006T160000
DTSTAMP:20260425T045445
CREATED:20260408T111428Z
LAST-MODIFIED:20260408T111615Z
UID:10000066-1791295200-1791302400@neerbosch.nu
SUMMARY:Creatieve inloop 65+
DESCRIPTION:Iedere twee weken kun je op dinsdag van 14.00 tot 16.00 terecht bij de creatieve inloop voor 65+’ers in het atelier van De Schalmei. Je kunt gewoon binnenlopen om kennis te maken of mee te doen.
URL:https://neerbosch.nu/activiteit/creatieve-inloop-65-5/2026-10-06/
LOCATION:Wijkcentrum De Schalmei\, Symfoniestraat 204\, Nijmegen\, 6544 TN
ATTACH;FMTTYPE=image/jpeg:https://neerbosch.nu/wp-content/uploads/2026/01/knutselen-scaled-e1769631971984.jpg
END:VEVENT
BEGIN:VEVENT
DTSTART;TZID=Europe/Paris:20261020T140000
DTEND;TZID=Europe/Paris:20261020T160000
DTSTAMP:20260425T045445
CREATED:20260408T111428Z
LAST-MODIFIED:20260408T111615Z
UID:10000067-1792504800-1792512000@neerbosch.nu
SUMMARY:Creatieve inloop 65+
DESCRIPTION:Iedere twee weken kun je op dinsdag van 14.00 tot 16.00 terecht bij de creatieve inloop voor 65+’ers in het atelier van De Schalmei. Je kunt gewoon binnenlopen om kennis te maken of mee te doen.
URL:https://neerbosch.nu/activiteit/creatieve-inloop-65-5/2026-10-20/
LOCATION:Wijkcentrum De Schalmei\, Symfoniestraat 204\, Nijmegen\, 6544 TN
ATTACH;FMTTYPE=image/jpeg:https://neerbosch.nu/wp-content/uploads/2026/01/knutselen-scaled-e1769631971984.jpg
END:VEVENT
BEGIN:VEVENT
DTSTART;TZID=Europe/Paris:20261103T140000
DTEND;TZID=Europe/Paris:20261103T160000
DTSTAMP:20260425T045445
CREATED:20260408T111428Z
LAST-MODIFIED:20260408T111615Z
UID:10000068-1793714400-1793721600@neerbosch.nu
SUMMARY:Creatieve inloop 65+
DESCRIPTION:Iedere twee weken kun je op dinsdag van 14.00 tot 16.00 terecht bij de creatieve inloop voor 65+’ers in het atelier van De Schalmei. Je kunt gewoon binnenlopen om kennis te maken of mee te doen.
URL:https://neerbosch.nu/activiteit/creatieve-inloop-65-5/2026-11-03/
LOCATION:Wijkcentrum De Schalmei\, Symfoniestraat 204\, Nijmegen\, 6544 TN
ATTACH;FMTTYPE=image/jpeg:https://neerbosch.nu/wp-content/uploads/2026/01/knutselen-scaled-e1769631971984.jpg
END:VEVENT
BEGIN:VEVENT
DTSTART;TZID=Europe/Paris:20261117T140000
DTEND;TZID=Europe/Paris:20261117T160000
DTSTAMP:20260425T045445
CREATED:20260408T111428Z
LAST-MODIFIED:20260408T111615Z
UID:10000069-1794924000-1794931200@neerbosch.nu
SUMMARY:Creatieve inloop 65+
DESCRIPTION:Iedere twee weken kun je op dinsdag van 14.00 tot 16.00 terecht bij de creatieve inloop voor 65+’ers in het atelier van De Schalmei. Je kunt gewoon binnenlopen om kennis te maken of mee te doen.
URL:https://neerbosch.nu/activiteit/creatieve-inloop-65-5/2026-11-17/
LOCATION:Wijkcentrum De Schalmei\, Symfoniestraat 204\, Nijmegen\, 6544 TN
ATTACH;FMTTYPE=image/jpeg:https://neerbosch.nu/wp-content/uploads/2026/01/knutselen-scaled-e1769631971984.jpg
END:VEVENT
BEGIN:VEVENT
DTSTART;TZID=Europe/Paris:20261201T140000
DTEND;TZID=Europe/Paris:20261201T160000
DTSTAMP:20260425T045445
CREATED:20260408T111428Z
LAST-MODIFIED:20260408T111615Z
UID:10000070-1796133600-1796140800@neerbosch.nu
SUMMARY:Creatieve inloop 65+
DESCRIPTION:Iedere twee weken kun je op dinsdag van 14.00 tot 16.00 terecht bij de creatieve inloop voor 65+’ers in het atelier van De Schalmei. Je kunt gewoon binnenlopen om kennis te maken of mee te doen.
URL:https://neerbosch.nu/activiteit/creatieve-inloop-65-5/2026-12-01/
LOCATION:Wijkcentrum De Schalmei\, Symfoniestraat 204\, Nijmegen\, 6544 TN
ATTACH;FMTTYPE=image/jpeg:https://neerbosch.nu/wp-content/uploads/2026/01/knutselen-scaled-e1769631971984.jpg
END:VEVENT
BEGIN:VEVENT
DTSTART;TZID=Europe/Paris:20261215T140000
DTEND;TZID=Europe/Paris:20261215T160000
DTSTAMP:20260425T045445
CREATED:20260408T111428Z
LAST-MODIFIED:20260408T111615Z
UID:10000071-1797343200-1797350400@neerbosch.nu
SUMMARY:Creatieve inloop 65+
DESCRIPTION:Iedere twee weken kun je op dinsdag van 14.00 tot 16.00 terecht bij de creatieve inloop voor 65+’ers in het atelier van De Schalmei. Je kunt gewoon binnenlopen om kennis te maken of mee te doen.
URL:https://neerbosch.nu/activiteit/creatieve-inloop-65-5/2026-12-15/
LOCATION:Wijkcentrum De Schalmei\, Symfoniestraat 204\, Nijmegen\, 6544 TN
ATTACH;FMTTYPE=image/jpeg:https://neerbosch.nu/wp-content/uploads/2026/01/knutselen-scaled-e1769631971984.jpg
END:VEVENT
BEGIN:VEVENT
DTSTART;TZID=Europe/Paris:20261229T140000
DTEND;TZID=Europe/Paris:20261229T160000
DTSTAMP:20260425T045445
CREATED:20260408T111428Z
LAST-MODIFIED:20260408T111615Z
UID:10000072-1798552800-1798560000@neerbosch.nu
SUMMARY:Creatieve inloop 65+
DESCRIPTION:Iedere twee weken kun je op dinsdag van 14.00 tot 16.00 terecht bij de creatieve inloop voor 65+’ers in het atelier van De Schalmei. Je kunt gewoon binnenlopen om kennis te maken of mee te doen.
URL:https://neerbosch.nu/activiteit/creatieve-inloop-65-5/2026-12-29/
LOCATION:Wijkcentrum De Schalmei\, Symfoniestraat 204\, Nijmegen\, 6544 TN
ATTACH;FMTTYPE=image/jpeg:https://neerbosch.nu/wp-content/uploads/2026/01/knutselen-scaled-e1769631971984.jpg
END:VEVENT
BEGIN:VEVENT
DTSTART;TZID=Europe/Paris:20270112T140000
DTEND;TZID=Europe/Paris:20270112T160000
DTSTAMP:20260425T045445
CREATED:20260408T111428Z
LAST-MODIFIED:20260408T111615Z
UID:10000073-1799762400-1799769600@neerbosch.nu
SUMMARY:Creatieve inloop 65+
DESCRIPTION:Iedere twee weken kun je op dinsdag van 14.00 tot 16.00 terecht bij de creatieve inloop voor 65+’ers in het atelier van De Schalmei. Je kunt gewoon binnenlopen om kennis te maken of mee te doen.
URL:https://neerbosch.nu/activiteit/creatieve-inloop-65-5/2027-01-12/
LOCATION:Wijkcentrum De Schalmei\, Symfoniestraat 204\, Nijmegen\, 6544 TN
ATTACH;FMTTYPE=image/jpeg:https://neerbosch.nu/wp-content/uploads/2026/01/knutselen-scaled-e1769631971984.jpg
END:VEVENT
BEGIN:VEVENT
DTSTART;TZID=Europe/Paris:20270126T140000
DTEND;TZID=Europe/Paris:20270126T160000
DTSTAMP:20260425T045445
CREATED:20260408T111428Z
LAST-MODIFIED:20260408T111615Z
UID:10000074-1800972000-1800979200@neerbosch.nu
SUMMARY:Creatieve inloop 65+
DESCRIPTION:Iedere twee weken kun je op dinsdag van 14.00 tot 16.00 terecht bij de creatieve inloop voor 65+’ers in het atelier van De Schalmei. Je kunt gewoon binnenlopen om kennis te maken of mee te doen.
URL:https://neerbosch.nu/activiteit/creatieve-inloop-65-5/2027-01-26/
LOCATION:Wijkcentrum De Schalmei\, Symfoniestraat 204\, Nijmegen\, 6544 TN
ATTACH;FMTTYPE=image/jpeg:https://neerbosch.nu/wp-content/uploads/2026/01/knutselen-scaled-e1769631971984.jpg
END:VEVENT
BEGIN:VEVENT
DTSTART;TZID=Europe/Paris:20270209T140000
DTEND;TZID=Europe/Paris:20270209T160000
DTSTAMP:20260425T045445
CREATED:20260408T111428Z
LAST-MODIFIED:20260408T111615Z
UID:10000075-1802181600-1802188800@neerbosch.nu
SUMMARY:Creatieve inloop 65+
DESCRIPTION:Iedere twee weken kun je op dinsdag van 14.00 tot 16.00 terecht bij de creatieve inloop voor 65+’ers in het atelier van De Schalmei. Je kunt gewoon binnenlopen om kennis te maken of mee te doen.
URL:https://neerbosch.nu/activiteit/creatieve-inloop-65-5/2027-02-09/
LOCATION:Wijkcentrum De Schalmei\, Symfoniestraat 204\, Nijmegen\, 6544 TN
ATTACH;FMTTYPE=image/jpeg:https://neerbosch.nu/wp-content/uploads/2026/01/knutselen-scaled-e1769631971984.jpg
END:VEVENT
BEGIN:VEVENT
DTSTART;TZID=Europe/Paris:20270223T140000
DTEND;TZID=Europe/Paris:20270223T160000
DTSTAMP:20260425T045445
CREATED:20260408T111428Z
LAST-MODIFIED:20260408T111615Z
UID:10000076-1803391200-1803398400@neerbosch.nu
SUMMARY:Creatieve inloop 65+
DESCRIPTION:Iedere twee weken kun je op dinsdag van 14.00 tot 16.00 terecht bij de creatieve inloop voor 65+’ers in het atelier van De Schalmei. Je kunt gewoon binnenlopen om kennis te maken of mee te doen.
URL:https://neerbosch.nu/activiteit/creatieve-inloop-65-5/2027-02-23/
LOCATION:Wijkcentrum De Schalmei\, Symfoniestraat 204\, Nijmegen\, 6544 TN
ATTACH;FMTTYPE=image/jpeg:https://neerbosch.nu/wp-content/uploads/2026/01/knutselen-scaled-e1769631971984.jpg
END:VEVENT
BEGIN:VEVENT
DTSTART;TZID=Europe/Paris:20270309T140000
DTEND;TZID=Europe/Paris:20270309T160000
DTSTAMP:20260425T045445
CREATED:20260408T111428Z
LAST-MODIFIED:20260408T111615Z
UID:10000077-1804600800-1804608000@neerbosch.nu
SUMMARY:Creatieve inloop 65+
DESCRIPTION:Iedere twee weken kun je op dinsdag van 14.00 tot 16.00 terecht bij de creatieve inloop voor 65+’ers in het atelier van De Schalmei. Je kunt gewoon binnenlopen om kennis te maken of mee te doen.
URL:https://neerbosch.nu/activiteit/creatieve-inloop-65-5/2027-03-09/
LOCATION:Wijkcentrum De Schalmei\, Symfoniestraat 204\, Nijmegen\, 6544 TN
ATTACH;FMTTYPE=image/jpeg:https://neerbosch.nu/wp-content/uploads/2026/01/knutselen-scaled-e1769631971984.jpg
END:VEVENT
BEGIN:VEVENT
DTSTART;TZID=Europe/Paris:20270323T140000
DTEND;TZID=Europe/Paris:20270323T160000
DTSTAMP:20260425T045445
CREATED:20260408T111428Z
LAST-MODIFIED:20260408T111615Z
UID:10000078-1805810400-1805817600@neerbosch.nu
SUMMARY:Creatieve inloop 65+
DESCRIPTION:Iedere twee weken kun je op dinsdag van 14.00 tot 16.00 terecht bij de creatieve inloop voor 65+’ers in het atelier van De Schalmei. Je kunt gewoon binnenlopen om kennis te maken of mee te doen.
URL:https://neerbosch.nu/activiteit/creatieve-inloop-65-5/2027-03-23/
LOCATION:Wijkcentrum De Schalmei\, Symfoniestraat 204\, Nijmegen\, 6544 TN
ATTACH;FMTTYPE=image/jpeg:https://neerbosch.nu/wp-content/uploads/2026/01/knutselen-scaled-e1769631971984.jpg
END:VEVENT
BEGIN:VEVENT
DTSTART;TZID=Europe/Paris:20270406T140000
DTEND;TZID=Europe/Paris:20270406T160000
DTSTAMP:20260425T045445
CREATED:20260408T111428Z
LAST-MODIFIED:20260408T111615Z
UID:10000079-1807020000-1807027200@neerbosch.nu
SUMMARY:Creatieve inloop 65+
DESCRIPTION:Iedere twee weken kun je op dinsdag van 14.00 tot 16.00 terecht bij de creatieve inloop voor 65+’ers in het atelier van De Schalmei. Je kunt gewoon binnenlopen om kennis te maken of mee te doen.
URL:https://neerbosch.nu/activiteit/creatieve-inloop-65-5/2027-04-06/
LOCATION:Wijkcentrum De Schalmei\, Symfoniestraat 204\, Nijmegen\, 6544 TN
ATTACH;FMTTYPE=image/jpeg:https://neerbosch.nu/wp-content/uploads/2026/01/knutselen-scaled-e1769631971984.jpg
END:VEVENT
BEGIN:VEVENT
DTSTART;TZID=Europe/Paris:20270420T140000
DTEND;TZID=Europe/Paris:20270420T160000
DTSTAMP:20260425T045445
CREATED:20260408T111428Z
LAST-MODIFIED:20260408T111615Z
UID:10000080-1808229600-1808236800@neerbosch.nu
SUMMARY:Creatieve inloop 65+
DESCRIPTION:Iedere twee weken kun je op dinsdag van 14.00 tot 16.00 terecht bij de creatieve inloop voor 65+’ers in het atelier van De Schalmei. Je kunt gewoon binnenlopen om kennis te maken of mee te doen.
URL:https://neerbosch.nu/activiteit/creatieve-inloop-65-5/2027-04-20/
LOCATION:Wijkcentrum De Schalmei\, Symfoniestraat 204\, Nijmegen\, 6544 TN
ATTACH;FMTTYPE=image/jpeg:https://neerbosch.nu/wp-content/uploads/2026/01/knutselen-scaled-e1769631971984.jpg
END:VEVENT
BEGIN:VEVENT
DTSTART;TZID=Europe/Paris:20270504T140000
DTEND;TZID=Europe/Paris:20270504T160000
DTSTAMP:20260425T045445
CREATED:20260408T111428Z
LAST-MODIFIED:20260408T111615Z
UID:10000081-1809439200-1809446400@neerbosch.nu
SUMMARY:Creatieve inloop 65+
DESCRIPTION:Iedere twee weken kun je op dinsdag van 14.00 tot 16.00 terecht bij de creatieve inloop voor 65+’ers in het atelier van De Schalmei. Je kunt gewoon binnenlopen om kennis te maken of mee te doen.
URL:https://neerbosch.nu/activiteit/creatieve-inloop-65-5/2027-05-04/
LOCATION:Wijkcentrum De Schalmei\, Symfoniestraat 204\, Nijmegen\, 6544 TN
ATTACH;FMTTYPE=image/jpeg:https://neerbosch.nu/wp-content/uploads/2026/01/knutselen-scaled-e1769631971984.jpg
END:VEVENT
BEGIN:VEVENT
DTSTART;TZID=Europe/Paris:20270518T140000
DTEND;TZID=Europe/Paris:20270518T160000
DTSTAMP:20260425T045445
CREATED:20260408T111428Z
LAST-MODIFIED:20260408T111615Z
UID:10000082-1810648800-1810656000@neerbosch.nu
SUMMARY:Creatieve inloop 65+
DESCRIPTION:Iedere twee weken kun je op dinsdag van 14.00 tot 16.00 terecht bij de creatieve inloop voor 65+’ers in het atelier van De Schalmei. Je kunt gewoon binnenlopen om kennis te maken of mee te doen.
URL:https://neerbosch.nu/activiteit/creatieve-inloop-65-5/2027-05-18/
LOCATION:Wijkcentrum De Schalmei\, Symfoniestraat 204\, Nijmegen\, 6544 TN
ATTACH;FMTTYPE=image/jpeg:https://neerbosch.nu/wp-content/uploads/2026/01/knutselen-scaled-e1769631971984.jpg
END:VEVENT
BEGIN:VEVENT
DTSTART;TZID=Europe/Paris:20270601T140000
DTEND;TZID=Europe/Paris:20270601T160000
DTSTAMP:20260425T045445
CREATED:20260408T111428Z
LAST-MODIFIED:20260408T111615Z
UID:10000083-1811858400-1811865600@neerbosch.nu
SUMMARY:Creatieve inloop 65+
DESCRIPTION:Iedere twee weken kun je op dinsdag van 14.00 tot 16.00 terecht bij de creatieve inloop voor 65+’ers in het atelier van De Schalmei. Je kunt gewoon binnenlopen om kennis te maken of mee te doen.
URL:https://neerbosch.nu/activiteit/creatieve-inloop-65-5/2027-06-01/
LOCATION:Wijkcentrum De Schalmei\, Symfoniestraat 204\, Nijmegen\, 6544 TN
ATTACH;FMTTYPE=image/jpeg:https://neerbosch.nu/wp-content/uploads/2026/01/knutselen-scaled-e1769631971984.jpg
END:VEVENT
BEGIN:VEVENT
DTSTART;TZID=Europe/Paris:20270615T140000
DTEND;TZID=Europe/Paris:20270615T160000
DTSTAMP:20260425T045445
CREATED:20260408T111428Z
LAST-MODIFIED:20260408T111615Z
UID:10000084-1813068000-1813075200@neerbosch.nu
SUMMARY:Creatieve inloop 65+
DESCRIPTION:Iedere twee weken kun je op dinsdag van 14.00 tot 16.00 terecht bij de creatieve inloop voor 65+’ers in het atelier van De Schalmei. Je kunt gewoon binnenlopen om kennis te maken of mee te doen.
URL:https://neerbosch.nu/activiteit/creatieve-inloop-65-5/2027-06-15/
LOCATION:Wijkcentrum De Schalmei\, Symfoniestraat 204\, Nijmegen\, 6544 TN
ATTACH;FMTTYPE=image/jpeg:https://neerbosch.nu/wp-content/uploads/2026/01/knutselen-scaled-e1769631971984.jpg
END:VEVENT
END:VCALENDAR