BEGIN:VCALENDAR
VERSION:2.0
PRODID:-//Neerbosch Nu - ECPv6.15.18//NONSGML v1.0//EN
CALSCALE:GREGORIAN
METHOD:PUBLISH
X-ORIGINAL-URL:https://neerbosch.nu
X-WR-CALDESC:Evenementen voor Neerbosch Nu
REFRESH-INTERVAL;VALUE=DURATION:PT1H
X-Robots-Tag:noindex
X-PUBLISHED-TTL:PT1H
BEGIN:VTIMEZONE
TZID:Europe/Paris
BEGIN:DAYLIGHT
TZOFFSETFROM:+0100
TZOFFSETTO:+0200
TZNAME:CEST
DTSTART:20250330T010000
END:DAYLIGHT
BEGIN:STANDARD
TZOFFSETFROM:+0200
TZOFFSETTO:+0100
TZNAME:CET
DTSTART:20251026T010000
END:STANDARD
BEGIN:DAYLIGHT
TZOFFSETFROM:+0100
TZOFFSETTO:+0200
TZNAME:CEST
DTSTART:20260329T010000
END:DAYLIGHT
BEGIN:STANDARD
TZOFFSETFROM:+0200
TZOFFSETTO:+0100
TZNAME:CET
DTSTART:20261025T010000
END:STANDARD
BEGIN:DAYLIGHT
TZOFFSETFROM:+0100
TZOFFSETTO:+0200
TZNAME:CEST
DTSTART:20270328T010000
END:DAYLIGHT
BEGIN:STANDARD
TZOFFSETFROM:+0200
TZOFFSETTO:+0100
TZNAME:CET
DTSTART:20271031T010000
END:STANDARD
END:VTIMEZONE
BEGIN:VEVENT
DTSTART;TZID=Europe/Paris:20260902T100000
DTEND;TZID=Europe/Paris:20260902T140000
DTSTAMP:20260425T133247
CREATED:20260408T113720Z
LAST-MODIFIED:20260408T113821Z
UID:10000108-1788343200-1788357600@neerbosch.nu
SUMMARY:Soepie doen?
DESCRIPTION:Elke eerste woensdag van de maand kun je rond de lunch een soepie doen bij De Schalmei. Mee koken kan vanaf 10:00\, maar alleen aansluiten voor de soep mag ook om 12:00. Kosten €1\,50 voor een kop soep met brood.
URL:https://neerbosch.nu/activiteit/soepie-doen/2026-09-02/
ATTACH;FMTTYPE=image/jpeg:https://neerbosch.nu/wp-content/uploads/2026/04/Soepie-doen-header.jpg
END:VEVENT
BEGIN:VEVENT
DTSTART;TZID=Europe/Paris:20260902T180000
DTEND;TZID=Europe/Paris:20260902T200000
DTSTAMP:20260425T133247
CREATED:20260408T112816Z
LAST-MODIFIED:20260408T113908Z
UID:10000096-1788372000-1788379200@neerbosch.nu
SUMMARY:Een bordje d'r bij in de Schalmei
DESCRIPTION:Elke twee weken koken vrijwilligers een heerlijke warme maaltijd voor buurtbewoners. Iedereen is welkom!
URL:https://neerbosch.nu/activiteit/een-bordje-dr-bij-in-de-schalmei-2/2026-09-02/
ATTACH;FMTTYPE=image/png:https://neerbosch.nu/wp-content/uploads/2026/02/Buurt-aan-tafel-7-header.png
END:VEVENT
END:VCALENDAR