BEGIN:VCALENDAR
VERSION:2.0
PRODID:-//Neerbosch Nu - ECPv6.15.18//NONSGML v1.0//EN
CALSCALE:GREGORIAN
METHOD:PUBLISH
X-WR-CALNAME:Neerbosch Nu
X-ORIGINAL-URL:https://neerbosch.nu
X-WR-CALDESC:Evenementen voor Neerbosch Nu
REFRESH-INTERVAL;VALUE=DURATION:PT1H
X-Robots-Tag:noindex
X-PUBLISHED-TTL:PT1H
BEGIN:VTIMEZONE
TZID:Europe/Paris
BEGIN:DAYLIGHT
TZOFFSETFROM:+0100
TZOFFSETTO:+0200
TZNAME:CEST
DTSTART:20250330T010000
END:DAYLIGHT
BEGIN:STANDARD
TZOFFSETFROM:+0200
TZOFFSETTO:+0100
TZNAME:CET
DTSTART:20251026T010000
END:STANDARD
BEGIN:DAYLIGHT
TZOFFSETFROM:+0100
TZOFFSETTO:+0200
TZNAME:CEST
DTSTART:20260329T010000
END:DAYLIGHT
BEGIN:STANDARD
TZOFFSETFROM:+0200
TZOFFSETTO:+0100
TZNAME:CET
DTSTART:20261025T010000
END:STANDARD
BEGIN:DAYLIGHT
TZOFFSETFROM:+0100
TZOFFSETTO:+0200
TZNAME:CEST
DTSTART:20270328T010000
END:DAYLIGHT
BEGIN:STANDARD
TZOFFSETFROM:+0200
TZOFFSETTO:+0100
TZNAME:CET
DTSTART:20271031T010000
END:STANDARD
BEGIN:DAYLIGHT
TZOFFSETFROM:+0100
TZOFFSETTO:+0200
TZNAME:CEST
DTSTART:20280326T010000
END:DAYLIGHT
BEGIN:STANDARD
TZOFFSETFROM:+0200
TZOFFSETTO:+0100
TZNAME:CET
DTSTART:20281029T010000
END:STANDARD
END:VTIMEZONE
BEGIN:VEVENT
DTSTART;TZID=Europe/Paris:20260713T090000
DTEND;TZID=Europe/Paris:20260713T100000
DTSTAMP:20260425T030132
CREATED:20260424T094707Z
LAST-MODIFIED:20260424T095704Z
UID:10000758-1783933200-1783936800@neerbosch.nu
SUMMARY:Seniorengym
DESCRIPTION:Elke maandag om 9:00 seniorengym in De Schalmei
URL:https://neerbosch.nu/activiteit/seniorengym/2026-07-13/
LOCATION:Wijkcentrum De Schalmei\, Symfoniestraat 204\, Nijmegen\, 6544 TN
ATTACH;FMTTYPE=image/jpeg:https://neerbosch.nu/wp-content/uploads/2026/04/Gym-scaled.jpg
END:VEVENT
BEGIN:VEVENT
DTSTART;TZID=Europe/Paris:20260720T090000
DTEND;TZID=Europe/Paris:20260720T100000
DTSTAMP:20260425T030132
CREATED:20260424T094707Z
LAST-MODIFIED:20260424T095704Z
UID:10000759-1784538000-1784541600@neerbosch.nu
SUMMARY:Seniorengym
DESCRIPTION:Elke maandag om 9:00 seniorengym in De Schalmei
URL:https://neerbosch.nu/activiteit/seniorengym/2026-07-20/
LOCATION:Wijkcentrum De Schalmei\, Symfoniestraat 204\, Nijmegen\, 6544 TN
ATTACH;FMTTYPE=image/jpeg:https://neerbosch.nu/wp-content/uploads/2026/04/Gym-scaled.jpg
END:VEVENT
BEGIN:VEVENT
DTSTART;TZID=Europe/Paris:20260727T090000
DTEND;TZID=Europe/Paris:20260727T100000
DTSTAMP:20260425T030132
CREATED:20260424T094707Z
LAST-MODIFIED:20260424T095704Z
UID:10000760-1785142800-1785146400@neerbosch.nu
SUMMARY:Seniorengym
DESCRIPTION:Elke maandag om 9:00 seniorengym in De Schalmei
URL:https://neerbosch.nu/activiteit/seniorengym/2026-07-27/
LOCATION:Wijkcentrum De Schalmei\, Symfoniestraat 204\, Nijmegen\, 6544 TN
ATTACH;FMTTYPE=image/jpeg:https://neerbosch.nu/wp-content/uploads/2026/04/Gym-scaled.jpg
END:VEVENT
BEGIN:VEVENT
DTSTART;TZID=Europe/Paris:20260803T090000
DTEND;TZID=Europe/Paris:20260803T100000
DTSTAMP:20260425T030132
CREATED:20260424T094707Z
LAST-MODIFIED:20260424T095704Z
UID:10000761-1785747600-1785751200@neerbosch.nu
SUMMARY:Seniorengym
DESCRIPTION:Elke maandag om 9:00 seniorengym in De Schalmei
URL:https://neerbosch.nu/activiteit/seniorengym/2026-08-03/
LOCATION:Wijkcentrum De Schalmei\, Symfoniestraat 204\, Nijmegen\, 6544 TN
ATTACH;FMTTYPE=image/jpeg:https://neerbosch.nu/wp-content/uploads/2026/04/Gym-scaled.jpg
END:VEVENT
BEGIN:VEVENT
DTSTART;TZID=Europe/Paris:20260810T090000
DTEND;TZID=Europe/Paris:20260810T100000
DTSTAMP:20260425T030132
CREATED:20260424T094707Z
LAST-MODIFIED:20260424T095704Z
UID:10000762-1786352400-1786356000@neerbosch.nu
SUMMARY:Seniorengym
DESCRIPTION:Elke maandag om 9:00 seniorengym in De Schalmei
URL:https://neerbosch.nu/activiteit/seniorengym/2026-08-10/
LOCATION:Wijkcentrum De Schalmei\, Symfoniestraat 204\, Nijmegen\, 6544 TN
ATTACH;FMTTYPE=image/jpeg:https://neerbosch.nu/wp-content/uploads/2026/04/Gym-scaled.jpg
END:VEVENT
BEGIN:VEVENT
DTSTART;TZID=Europe/Paris:20260817T090000
DTEND;TZID=Europe/Paris:20260817T100000
DTSTAMP:20260425T030132
CREATED:20260424T094707Z
LAST-MODIFIED:20260424T095704Z
UID:10000763-1786957200-1786960800@neerbosch.nu
SUMMARY:Seniorengym
DESCRIPTION:Elke maandag om 9:00 seniorengym in De Schalmei
URL:https://neerbosch.nu/activiteit/seniorengym/2026-08-17/
LOCATION:Wijkcentrum De Schalmei\, Symfoniestraat 204\, Nijmegen\, 6544 TN
ATTACH;FMTTYPE=image/jpeg:https://neerbosch.nu/wp-content/uploads/2026/04/Gym-scaled.jpg
END:VEVENT
BEGIN:VEVENT
DTSTART;TZID=Europe/Paris:20260824T090000
DTEND;TZID=Europe/Paris:20260824T100000
DTSTAMP:20260425T030132
CREATED:20260424T094707Z
LAST-MODIFIED:20260424T095704Z
UID:10000764-1787562000-1787565600@neerbosch.nu
SUMMARY:Seniorengym
DESCRIPTION:Elke maandag om 9:00 seniorengym in De Schalmei
URL:https://neerbosch.nu/activiteit/seniorengym/2026-08-24/
LOCATION:Wijkcentrum De Schalmei\, Symfoniestraat 204\, Nijmegen\, 6544 TN
ATTACH;FMTTYPE=image/jpeg:https://neerbosch.nu/wp-content/uploads/2026/04/Gym-scaled.jpg
END:VEVENT
BEGIN:VEVENT
DTSTART;TZID=Europe/Paris:20260831T090000
DTEND;TZID=Europe/Paris:20260831T100000
DTSTAMP:20260425T030132
CREATED:20260424T094707Z
LAST-MODIFIED:20260424T095704Z
UID:10000765-1788166800-1788170400@neerbosch.nu
SUMMARY:Seniorengym
DESCRIPTION:Elke maandag om 9:00 seniorengym in De Schalmei
URL:https://neerbosch.nu/activiteit/seniorengym/2026-08-31/
LOCATION:Wijkcentrum De Schalmei\, Symfoniestraat 204\, Nijmegen\, 6544 TN
ATTACH;FMTTYPE=image/jpeg:https://neerbosch.nu/wp-content/uploads/2026/04/Gym-scaled.jpg
END:VEVENT
BEGIN:VEVENT
DTSTART;TZID=Europe/Paris:20260907T090000
DTEND;TZID=Europe/Paris:20260907T100000
DTSTAMP:20260425T030132
CREATED:20260424T094707Z
LAST-MODIFIED:20260424T095704Z
UID:10000766-1788771600-1788775200@neerbosch.nu
SUMMARY:Seniorengym
DESCRIPTION:Elke maandag om 9:00 seniorengym in De Schalmei
URL:https://neerbosch.nu/activiteit/seniorengym/2026-09-07/
LOCATION:Wijkcentrum De Schalmei\, Symfoniestraat 204\, Nijmegen\, 6544 TN
ATTACH;FMTTYPE=image/jpeg:https://neerbosch.nu/wp-content/uploads/2026/04/Gym-scaled.jpg
END:VEVENT
BEGIN:VEVENT
DTSTART;TZID=Europe/Paris:20260914T090000
DTEND;TZID=Europe/Paris:20260914T100000
DTSTAMP:20260425T030132
CREATED:20260424T094707Z
LAST-MODIFIED:20260424T095704Z
UID:10000767-1789376400-1789380000@neerbosch.nu
SUMMARY:Seniorengym
DESCRIPTION:Elke maandag om 9:00 seniorengym in De Schalmei
URL:https://neerbosch.nu/activiteit/seniorengym/2026-09-14/
LOCATION:Wijkcentrum De Schalmei\, Symfoniestraat 204\, Nijmegen\, 6544 TN
ATTACH;FMTTYPE=image/jpeg:https://neerbosch.nu/wp-content/uploads/2026/04/Gym-scaled.jpg
END:VEVENT
BEGIN:VEVENT
DTSTART;TZID=Europe/Paris:20260921T090000
DTEND;TZID=Europe/Paris:20260921T100000
DTSTAMP:20260425T030132
CREATED:20260424T094707Z
LAST-MODIFIED:20260424T095704Z
UID:10000768-1789981200-1789984800@neerbosch.nu
SUMMARY:Seniorengym
DESCRIPTION:Elke maandag om 9:00 seniorengym in De Schalmei
URL:https://neerbosch.nu/activiteit/seniorengym/2026-09-21/
LOCATION:Wijkcentrum De Schalmei\, Symfoniestraat 204\, Nijmegen\, 6544 TN
ATTACH;FMTTYPE=image/jpeg:https://neerbosch.nu/wp-content/uploads/2026/04/Gym-scaled.jpg
END:VEVENT
BEGIN:VEVENT
DTSTART;TZID=Europe/Paris:20260928T090000
DTEND;TZID=Europe/Paris:20260928T100000
DTSTAMP:20260425T030132
CREATED:20260424T094707Z
LAST-MODIFIED:20260424T095704Z
UID:10000769-1790586000-1790589600@neerbosch.nu
SUMMARY:Seniorengym
DESCRIPTION:Elke maandag om 9:00 seniorengym in De Schalmei
URL:https://neerbosch.nu/activiteit/seniorengym/2026-09-28/
LOCATION:Wijkcentrum De Schalmei\, Symfoniestraat 204\, Nijmegen\, 6544 TN
ATTACH;FMTTYPE=image/jpeg:https://neerbosch.nu/wp-content/uploads/2026/04/Gym-scaled.jpg
END:VEVENT
BEGIN:VEVENT
DTSTART;TZID=Europe/Paris:20261005T090000
DTEND;TZID=Europe/Paris:20261005T100000
DTSTAMP:20260425T030132
CREATED:20260424T094707Z
LAST-MODIFIED:20260424T095704Z
UID:10000770-1791190800-1791194400@neerbosch.nu
SUMMARY:Seniorengym
DESCRIPTION:Elke maandag om 9:00 seniorengym in De Schalmei
URL:https://neerbosch.nu/activiteit/seniorengym/2026-10-05/
LOCATION:Wijkcentrum De Schalmei\, Symfoniestraat 204\, Nijmegen\, 6544 TN
ATTACH;FMTTYPE=image/jpeg:https://neerbosch.nu/wp-content/uploads/2026/04/Gym-scaled.jpg
END:VEVENT
BEGIN:VEVENT
DTSTART;TZID=Europe/Paris:20261012T090000
DTEND;TZID=Europe/Paris:20261012T100000
DTSTAMP:20260425T030132
CREATED:20260424T094707Z
LAST-MODIFIED:20260424T095704Z
UID:10000771-1791795600-1791799200@neerbosch.nu
SUMMARY:Seniorengym
DESCRIPTION:Elke maandag om 9:00 seniorengym in De Schalmei
URL:https://neerbosch.nu/activiteit/seniorengym/2026-10-12/
LOCATION:Wijkcentrum De Schalmei\, Symfoniestraat 204\, Nijmegen\, 6544 TN
ATTACH;FMTTYPE=image/jpeg:https://neerbosch.nu/wp-content/uploads/2026/04/Gym-scaled.jpg
END:VEVENT
BEGIN:VEVENT
DTSTART;TZID=Europe/Paris:20261019T090000
DTEND;TZID=Europe/Paris:20261019T100000
DTSTAMP:20260425T030132
CREATED:20260424T094707Z
LAST-MODIFIED:20260424T095704Z
UID:10000772-1792400400-1792404000@neerbosch.nu
SUMMARY:Seniorengym
DESCRIPTION:Elke maandag om 9:00 seniorengym in De Schalmei
URL:https://neerbosch.nu/activiteit/seniorengym/2026-10-19/
LOCATION:Wijkcentrum De Schalmei\, Symfoniestraat 204\, Nijmegen\, 6544 TN
ATTACH;FMTTYPE=image/jpeg:https://neerbosch.nu/wp-content/uploads/2026/04/Gym-scaled.jpg
END:VEVENT
BEGIN:VEVENT
DTSTART;TZID=Europe/Paris:20261026T090000
DTEND;TZID=Europe/Paris:20261026T100000
DTSTAMP:20260425T030132
CREATED:20260424T094707Z
LAST-MODIFIED:20260424T095704Z
UID:10000773-1793005200-1793008800@neerbosch.nu
SUMMARY:Seniorengym
DESCRIPTION:Elke maandag om 9:00 seniorengym in De Schalmei
URL:https://neerbosch.nu/activiteit/seniorengym/2026-10-26/
LOCATION:Wijkcentrum De Schalmei\, Symfoniestraat 204\, Nijmegen\, 6544 TN
ATTACH;FMTTYPE=image/jpeg:https://neerbosch.nu/wp-content/uploads/2026/04/Gym-scaled.jpg
END:VEVENT
BEGIN:VEVENT
DTSTART;TZID=Europe/Paris:20261102T090000
DTEND;TZID=Europe/Paris:20261102T100000
DTSTAMP:20260425T030132
CREATED:20260424T094707Z
LAST-MODIFIED:20260424T095704Z
UID:10000774-1793610000-1793613600@neerbosch.nu
SUMMARY:Seniorengym
DESCRIPTION:Elke maandag om 9:00 seniorengym in De Schalmei
URL:https://neerbosch.nu/activiteit/seniorengym/2026-11-02/
LOCATION:Wijkcentrum De Schalmei\, Symfoniestraat 204\, Nijmegen\, 6544 TN
ATTACH;FMTTYPE=image/jpeg:https://neerbosch.nu/wp-content/uploads/2026/04/Gym-scaled.jpg
END:VEVENT
BEGIN:VEVENT
DTSTART;TZID=Europe/Paris:20261109T090000
DTEND;TZID=Europe/Paris:20261109T100000
DTSTAMP:20260425T030132
CREATED:20260424T094707Z
LAST-MODIFIED:20260424T095704Z
UID:10000775-1794214800-1794218400@neerbosch.nu
SUMMARY:Seniorengym
DESCRIPTION:Elke maandag om 9:00 seniorengym in De Schalmei
URL:https://neerbosch.nu/activiteit/seniorengym/2026-11-09/
LOCATION:Wijkcentrum De Schalmei\, Symfoniestraat 204\, Nijmegen\, 6544 TN
ATTACH;FMTTYPE=image/jpeg:https://neerbosch.nu/wp-content/uploads/2026/04/Gym-scaled.jpg
END:VEVENT
BEGIN:VEVENT
DTSTART;TZID=Europe/Paris:20261116T090000
DTEND;TZID=Europe/Paris:20261116T100000
DTSTAMP:20260425T030132
CREATED:20260424T094707Z
LAST-MODIFIED:20260424T095704Z
UID:10000776-1794819600-1794823200@neerbosch.nu
SUMMARY:Seniorengym
DESCRIPTION:Elke maandag om 9:00 seniorengym in De Schalmei
URL:https://neerbosch.nu/activiteit/seniorengym/2026-11-16/
LOCATION:Wijkcentrum De Schalmei\, Symfoniestraat 204\, Nijmegen\, 6544 TN
ATTACH;FMTTYPE=image/jpeg:https://neerbosch.nu/wp-content/uploads/2026/04/Gym-scaled.jpg
END:VEVENT
BEGIN:VEVENT
DTSTART;TZID=Europe/Paris:20261123T090000
DTEND;TZID=Europe/Paris:20261123T100000
DTSTAMP:20260425T030132
CREATED:20260424T094707Z
LAST-MODIFIED:20260424T095704Z
UID:10000777-1795424400-1795428000@neerbosch.nu
SUMMARY:Seniorengym
DESCRIPTION:Elke maandag om 9:00 seniorengym in De Schalmei
URL:https://neerbosch.nu/activiteit/seniorengym/2026-11-23/
LOCATION:Wijkcentrum De Schalmei\, Symfoniestraat 204\, Nijmegen\, 6544 TN
ATTACH;FMTTYPE=image/jpeg:https://neerbosch.nu/wp-content/uploads/2026/04/Gym-scaled.jpg
END:VEVENT
BEGIN:VEVENT
DTSTART;TZID=Europe/Paris:20261130T090000
DTEND;TZID=Europe/Paris:20261130T100000
DTSTAMP:20260425T030132
CREATED:20260424T094707Z
LAST-MODIFIED:20260424T095704Z
UID:10000778-1796029200-1796032800@neerbosch.nu
SUMMARY:Seniorengym
DESCRIPTION:Elke maandag om 9:00 seniorengym in De Schalmei
URL:https://neerbosch.nu/activiteit/seniorengym/2026-11-30/
LOCATION:Wijkcentrum De Schalmei\, Symfoniestraat 204\, Nijmegen\, 6544 TN
ATTACH;FMTTYPE=image/jpeg:https://neerbosch.nu/wp-content/uploads/2026/04/Gym-scaled.jpg
END:VEVENT
BEGIN:VEVENT
DTSTART;TZID=Europe/Paris:20261207T090000
DTEND;TZID=Europe/Paris:20261207T100000
DTSTAMP:20260425T030132
CREATED:20260424T094707Z
LAST-MODIFIED:20260424T095704Z
UID:10000779-1796634000-1796637600@neerbosch.nu
SUMMARY:Seniorengym
DESCRIPTION:Elke maandag om 9:00 seniorengym in De Schalmei
URL:https://neerbosch.nu/activiteit/seniorengym/2026-12-07/
LOCATION:Wijkcentrum De Schalmei\, Symfoniestraat 204\, Nijmegen\, 6544 TN
ATTACH;FMTTYPE=image/jpeg:https://neerbosch.nu/wp-content/uploads/2026/04/Gym-scaled.jpg
END:VEVENT
BEGIN:VEVENT
DTSTART;TZID=Europe/Paris:20261214T090000
DTEND;TZID=Europe/Paris:20261214T100000
DTSTAMP:20260425T030132
CREATED:20260424T094707Z
LAST-MODIFIED:20260424T095704Z
UID:10000780-1797238800-1797242400@neerbosch.nu
SUMMARY:Seniorengym
DESCRIPTION:Elke maandag om 9:00 seniorengym in De Schalmei
URL:https://neerbosch.nu/activiteit/seniorengym/2026-12-14/
LOCATION:Wijkcentrum De Schalmei\, Symfoniestraat 204\, Nijmegen\, 6544 TN
ATTACH;FMTTYPE=image/jpeg:https://neerbosch.nu/wp-content/uploads/2026/04/Gym-scaled.jpg
END:VEVENT
BEGIN:VEVENT
DTSTART;TZID=Europe/Paris:20261221T090000
DTEND;TZID=Europe/Paris:20261221T100000
DTSTAMP:20260425T030132
CREATED:20260424T094707Z
LAST-MODIFIED:20260424T095704Z
UID:10000781-1797843600-1797847200@neerbosch.nu
SUMMARY:Seniorengym
DESCRIPTION:Elke maandag om 9:00 seniorengym in De Schalmei
URL:https://neerbosch.nu/activiteit/seniorengym/2026-12-21/
LOCATION:Wijkcentrum De Schalmei\, Symfoniestraat 204\, Nijmegen\, 6544 TN
ATTACH;FMTTYPE=image/jpeg:https://neerbosch.nu/wp-content/uploads/2026/04/Gym-scaled.jpg
END:VEVENT
BEGIN:VEVENT
DTSTART;TZID=Europe/Paris:20261228T090000
DTEND;TZID=Europe/Paris:20261228T100000
DTSTAMP:20260425T030132
CREATED:20260424T094707Z
LAST-MODIFIED:20260424T095704Z
UID:10000782-1798448400-1798452000@neerbosch.nu
SUMMARY:Seniorengym
DESCRIPTION:Elke maandag om 9:00 seniorengym in De Schalmei
URL:https://neerbosch.nu/activiteit/seniorengym/2026-12-28/
LOCATION:Wijkcentrum De Schalmei\, Symfoniestraat 204\, Nijmegen\, 6544 TN
ATTACH;FMTTYPE=image/jpeg:https://neerbosch.nu/wp-content/uploads/2026/04/Gym-scaled.jpg
END:VEVENT
BEGIN:VEVENT
DTSTART;TZID=Europe/Paris:20270104T090000
DTEND;TZID=Europe/Paris:20270104T100000
DTSTAMP:20260425T030132
CREATED:20260424T094707Z
LAST-MODIFIED:20260424T095704Z
UID:10000783-1799053200-1799056800@neerbosch.nu
SUMMARY:Seniorengym
DESCRIPTION:Elke maandag om 9:00 seniorengym in De Schalmei
URL:https://neerbosch.nu/activiteit/seniorengym/2027-01-04/
LOCATION:Wijkcentrum De Schalmei\, Symfoniestraat 204\, Nijmegen\, 6544 TN
ATTACH;FMTTYPE=image/jpeg:https://neerbosch.nu/wp-content/uploads/2026/04/Gym-scaled.jpg
END:VEVENT
BEGIN:VEVENT
DTSTART;TZID=Europe/Paris:20270111T090000
DTEND;TZID=Europe/Paris:20270111T100000
DTSTAMP:20260425T030132
CREATED:20260424T094707Z
LAST-MODIFIED:20260424T095704Z
UID:10000784-1799658000-1799661600@neerbosch.nu
SUMMARY:Seniorengym
DESCRIPTION:Elke maandag om 9:00 seniorengym in De Schalmei
URL:https://neerbosch.nu/activiteit/seniorengym/2027-01-11/
LOCATION:Wijkcentrum De Schalmei\, Symfoniestraat 204\, Nijmegen\, 6544 TN
ATTACH;FMTTYPE=image/jpeg:https://neerbosch.nu/wp-content/uploads/2026/04/Gym-scaled.jpg
END:VEVENT
BEGIN:VEVENT
DTSTART;TZID=Europe/Paris:20270118T090000
DTEND;TZID=Europe/Paris:20270118T100000
DTSTAMP:20260425T030132
CREATED:20260424T094707Z
LAST-MODIFIED:20260424T095704Z
UID:10000785-1800262800-1800266400@neerbosch.nu
SUMMARY:Seniorengym
DESCRIPTION:Elke maandag om 9:00 seniorengym in De Schalmei
URL:https://neerbosch.nu/activiteit/seniorengym/2027-01-18/
LOCATION:Wijkcentrum De Schalmei\, Symfoniestraat 204\, Nijmegen\, 6544 TN
ATTACH;FMTTYPE=image/jpeg:https://neerbosch.nu/wp-content/uploads/2026/04/Gym-scaled.jpg
END:VEVENT
BEGIN:VEVENT
DTSTART;TZID=Europe/Paris:20270125T090000
DTEND;TZID=Europe/Paris:20270125T100000
DTSTAMP:20260425T030132
CREATED:20260424T094707Z
LAST-MODIFIED:20260424T095704Z
UID:10000786-1800867600-1800871200@neerbosch.nu
SUMMARY:Seniorengym
DESCRIPTION:Elke maandag om 9:00 seniorengym in De Schalmei
URL:https://neerbosch.nu/activiteit/seniorengym/2027-01-25/
LOCATION:Wijkcentrum De Schalmei\, Symfoniestraat 204\, Nijmegen\, 6544 TN
ATTACH;FMTTYPE=image/jpeg:https://neerbosch.nu/wp-content/uploads/2026/04/Gym-scaled.jpg
END:VEVENT
BEGIN:VEVENT
DTSTART;TZID=Europe/Paris:20270201T090000
DTEND;TZID=Europe/Paris:20270201T100000
DTSTAMP:20260425T030132
CREATED:20260424T094707Z
LAST-MODIFIED:20260424T095704Z
UID:10000787-1801472400-1801476000@neerbosch.nu
SUMMARY:Seniorengym
DESCRIPTION:Elke maandag om 9:00 seniorengym in De Schalmei
URL:https://neerbosch.nu/activiteit/seniorengym/2027-02-01/
LOCATION:Wijkcentrum De Schalmei\, Symfoniestraat 204\, Nijmegen\, 6544 TN
ATTACH;FMTTYPE=image/jpeg:https://neerbosch.nu/wp-content/uploads/2026/04/Gym-scaled.jpg
END:VEVENT
END:VCALENDAR