BEGIN:VCALENDAR
VERSION:2.0
PRODID:-//Neerbosch Nu - ECPv6.15.18//NONSGML v1.0//EN
CALSCALE:GREGORIAN
METHOD:PUBLISH
X-ORIGINAL-URL:https://neerbosch.nu
X-WR-CALDESC:Evenementen voor Neerbosch Nu
REFRESH-INTERVAL;VALUE=DURATION:PT1H
X-Robots-Tag:noindex
X-PUBLISHED-TTL:PT1H
BEGIN:VTIMEZONE
TZID:Europe/Paris
BEGIN:DAYLIGHT
TZOFFSETFROM:+0100
TZOFFSETTO:+0200
TZNAME:CEST
DTSTART:20260329T010000
END:DAYLIGHT
BEGIN:STANDARD
TZOFFSETFROM:+0200
TZOFFSETTO:+0100
TZNAME:CET
DTSTART:20261025T010000
END:STANDARD
BEGIN:DAYLIGHT
TZOFFSETFROM:+0100
TZOFFSETTO:+0200
TZNAME:CEST
DTSTART:20270328T010000
END:DAYLIGHT
BEGIN:STANDARD
TZOFFSETFROM:+0200
TZOFFSETTO:+0100
TZNAME:CET
DTSTART:20271031T010000
END:STANDARD
BEGIN:DAYLIGHT
TZOFFSETFROM:+0100
TZOFFSETTO:+0200
TZNAME:CEST
DTSTART:20280326T010000
END:DAYLIGHT
BEGIN:STANDARD
TZOFFSETFROM:+0200
TZOFFSETTO:+0100
TZNAME:CET
DTSTART:20281029T010000
END:STANDARD
BEGIN:DAYLIGHT
TZOFFSETFROM:+0100
TZOFFSETTO:+0200
TZNAME:CEST
DTSTART:20290325T010000
END:DAYLIGHT
BEGIN:STANDARD
TZOFFSETFROM:+0200
TZOFFSETTO:+0100
TZNAME:CET
DTSTART:20291028T010000
END:STANDARD
END:VTIMEZONE
BEGIN:VEVENT
DTSTART;TZID=Europe/Paris:20270906T090000
DTEND;TZID=Europe/Paris:20270906T100000
DTSTAMP:20260425T164717
CREATED:20260424T094707Z
LAST-MODIFIED:20260424T095704Z
UID:10000818-1820221200-1820224800@neerbosch.nu
SUMMARY:Seniorengym
DESCRIPTION:Elke maandag om 9:00 seniorengym in De Schalmei
URL:https://neerbosch.nu/activiteit/seniorengym/2027-09-06/
LOCATION:Wijkcentrum De Schalmei\, Symfoniestraat 204\, Nijmegen\, 6544 TN
ATTACH;FMTTYPE=image/jpeg:https://neerbosch.nu/wp-content/uploads/2026/04/Gym-scaled.jpg
END:VEVENT
BEGIN:VEVENT
DTSTART;TZID=Europe/Paris:20270913T090000
DTEND;TZID=Europe/Paris:20270913T100000
DTSTAMP:20260425T164717
CREATED:20260424T094707Z
LAST-MODIFIED:20260424T095704Z
UID:10000819-1820826000-1820829600@neerbosch.nu
SUMMARY:Seniorengym
DESCRIPTION:Elke maandag om 9:00 seniorengym in De Schalmei
URL:https://neerbosch.nu/activiteit/seniorengym/2027-09-13/
LOCATION:Wijkcentrum De Schalmei\, Symfoniestraat 204\, Nijmegen\, 6544 TN
ATTACH;FMTTYPE=image/jpeg:https://neerbosch.nu/wp-content/uploads/2026/04/Gym-scaled.jpg
END:VEVENT
BEGIN:VEVENT
DTSTART;TZID=Europe/Paris:20270920T090000
DTEND;TZID=Europe/Paris:20270920T100000
DTSTAMP:20260425T164717
CREATED:20260424T094707Z
LAST-MODIFIED:20260424T095704Z
UID:10000820-1821430800-1821434400@neerbosch.nu
SUMMARY:Seniorengym
DESCRIPTION:Elke maandag om 9:00 seniorengym in De Schalmei
URL:https://neerbosch.nu/activiteit/seniorengym/2027-09-20/
LOCATION:Wijkcentrum De Schalmei\, Symfoniestraat 204\, Nijmegen\, 6544 TN
ATTACH;FMTTYPE=image/jpeg:https://neerbosch.nu/wp-content/uploads/2026/04/Gym-scaled.jpg
END:VEVENT
BEGIN:VEVENT
DTSTART;TZID=Europe/Paris:20270927T090000
DTEND;TZID=Europe/Paris:20270927T100000
DTSTAMP:20260425T164717
CREATED:20260424T094707Z
LAST-MODIFIED:20260424T095704Z
UID:10000821-1822035600-1822039200@neerbosch.nu
SUMMARY:Seniorengym
DESCRIPTION:Elke maandag om 9:00 seniorengym in De Schalmei
URL:https://neerbosch.nu/activiteit/seniorengym/2027-09-27/
LOCATION:Wijkcentrum De Schalmei\, Symfoniestraat 204\, Nijmegen\, 6544 TN
ATTACH;FMTTYPE=image/jpeg:https://neerbosch.nu/wp-content/uploads/2026/04/Gym-scaled.jpg
END:VEVENT
BEGIN:VEVENT
DTSTART;TZID=Europe/Paris:20271004T090000
DTEND;TZID=Europe/Paris:20271004T100000
DTSTAMP:20260425T164717
CREATED:20260424T094707Z
LAST-MODIFIED:20260424T095704Z
UID:10000822-1822640400-1822644000@neerbosch.nu
SUMMARY:Seniorengym
DESCRIPTION:Elke maandag om 9:00 seniorengym in De Schalmei
URL:https://neerbosch.nu/activiteit/seniorengym/2027-10-04/
LOCATION:Wijkcentrum De Schalmei\, Symfoniestraat 204\, Nijmegen\, 6544 TN
ATTACH;FMTTYPE=image/jpeg:https://neerbosch.nu/wp-content/uploads/2026/04/Gym-scaled.jpg
END:VEVENT
BEGIN:VEVENT
DTSTART;TZID=Europe/Paris:20271011T090000
DTEND;TZID=Europe/Paris:20271011T100000
DTSTAMP:20260425T164717
CREATED:20260424T094707Z
LAST-MODIFIED:20260424T095704Z
UID:10000823-1823245200-1823248800@neerbosch.nu
SUMMARY:Seniorengym
DESCRIPTION:Elke maandag om 9:00 seniorengym in De Schalmei
URL:https://neerbosch.nu/activiteit/seniorengym/2027-10-11/
LOCATION:Wijkcentrum De Schalmei\, Symfoniestraat 204\, Nijmegen\, 6544 TN
ATTACH;FMTTYPE=image/jpeg:https://neerbosch.nu/wp-content/uploads/2026/04/Gym-scaled.jpg
END:VEVENT
BEGIN:VEVENT
DTSTART;TZID=Europe/Paris:20271018T090000
DTEND;TZID=Europe/Paris:20271018T100000
DTSTAMP:20260425T164717
CREATED:20260424T094707Z
LAST-MODIFIED:20260424T095704Z
UID:10000824-1823850000-1823853600@neerbosch.nu
SUMMARY:Seniorengym
DESCRIPTION:Elke maandag om 9:00 seniorengym in De Schalmei
URL:https://neerbosch.nu/activiteit/seniorengym/2027-10-18/
LOCATION:Wijkcentrum De Schalmei\, Symfoniestraat 204\, Nijmegen\, 6544 TN
ATTACH;FMTTYPE=image/jpeg:https://neerbosch.nu/wp-content/uploads/2026/04/Gym-scaled.jpg
END:VEVENT
BEGIN:VEVENT
DTSTART;TZID=Europe/Paris:20271025T090000
DTEND;TZID=Europe/Paris:20271025T100000
DTSTAMP:20260425T164717
CREATED:20260424T094707Z
LAST-MODIFIED:20260424T095704Z
UID:10000825-1824454800-1824458400@neerbosch.nu
SUMMARY:Seniorengym
DESCRIPTION:Elke maandag om 9:00 seniorengym in De Schalmei
URL:https://neerbosch.nu/activiteit/seniorengym/2027-10-25/
LOCATION:Wijkcentrum De Schalmei\, Symfoniestraat 204\, Nijmegen\, 6544 TN
ATTACH;FMTTYPE=image/jpeg:https://neerbosch.nu/wp-content/uploads/2026/04/Gym-scaled.jpg
END:VEVENT
BEGIN:VEVENT
DTSTART;TZID=Europe/Paris:20271101T090000
DTEND;TZID=Europe/Paris:20271101T100000
DTSTAMP:20260425T164717
CREATED:20260424T094707Z
LAST-MODIFIED:20260424T095704Z
UID:10000826-1825059600-1825063200@neerbosch.nu
SUMMARY:Seniorengym
DESCRIPTION:Elke maandag om 9:00 seniorengym in De Schalmei
URL:https://neerbosch.nu/activiteit/seniorengym/2027-11-01/
LOCATION:Wijkcentrum De Schalmei\, Symfoniestraat 204\, Nijmegen\, 6544 TN
ATTACH;FMTTYPE=image/jpeg:https://neerbosch.nu/wp-content/uploads/2026/04/Gym-scaled.jpg
END:VEVENT
BEGIN:VEVENT
DTSTART;TZID=Europe/Paris:20271108T090000
DTEND;TZID=Europe/Paris:20271108T100000
DTSTAMP:20260425T164717
CREATED:20260424T094707Z
LAST-MODIFIED:20260424T095704Z
UID:10000827-1825664400-1825668000@neerbosch.nu
SUMMARY:Seniorengym
DESCRIPTION:Elke maandag om 9:00 seniorengym in De Schalmei
URL:https://neerbosch.nu/activiteit/seniorengym/2027-11-08/
LOCATION:Wijkcentrum De Schalmei\, Symfoniestraat 204\, Nijmegen\, 6544 TN
ATTACH;FMTTYPE=image/jpeg:https://neerbosch.nu/wp-content/uploads/2026/04/Gym-scaled.jpg
END:VEVENT
BEGIN:VEVENT
DTSTART;TZID=Europe/Paris:20271115T090000
DTEND;TZID=Europe/Paris:20271115T100000
DTSTAMP:20260425T164717
CREATED:20260424T094707Z
LAST-MODIFIED:20260424T095704Z
UID:10000828-1826269200-1826272800@neerbosch.nu
SUMMARY:Seniorengym
DESCRIPTION:Elke maandag om 9:00 seniorengym in De Schalmei
URL:https://neerbosch.nu/activiteit/seniorengym/2027-11-15/
LOCATION:Wijkcentrum De Schalmei\, Symfoniestraat 204\, Nijmegen\, 6544 TN
ATTACH;FMTTYPE=image/jpeg:https://neerbosch.nu/wp-content/uploads/2026/04/Gym-scaled.jpg
END:VEVENT
BEGIN:VEVENT
DTSTART;TZID=Europe/Paris:20271122T090000
DTEND;TZID=Europe/Paris:20271122T100000
DTSTAMP:20260425T164717
CREATED:20260424T094707Z
LAST-MODIFIED:20260424T095704Z
UID:10000829-1826874000-1826877600@neerbosch.nu
SUMMARY:Seniorengym
DESCRIPTION:Elke maandag om 9:00 seniorengym in De Schalmei
URL:https://neerbosch.nu/activiteit/seniorengym/2027-11-22/
LOCATION:Wijkcentrum De Schalmei\, Symfoniestraat 204\, Nijmegen\, 6544 TN
ATTACH;FMTTYPE=image/jpeg:https://neerbosch.nu/wp-content/uploads/2026/04/Gym-scaled.jpg
END:VEVENT
BEGIN:VEVENT
DTSTART;TZID=Europe/Paris:20271129T090000
DTEND;TZID=Europe/Paris:20271129T100000
DTSTAMP:20260425T164717
CREATED:20260424T094707Z
LAST-MODIFIED:20260424T095704Z
UID:10000830-1827478800-1827482400@neerbosch.nu
SUMMARY:Seniorengym
DESCRIPTION:Elke maandag om 9:00 seniorengym in De Schalmei
URL:https://neerbosch.nu/activiteit/seniorengym/2027-11-29/
LOCATION:Wijkcentrum De Schalmei\, Symfoniestraat 204\, Nijmegen\, 6544 TN
ATTACH;FMTTYPE=image/jpeg:https://neerbosch.nu/wp-content/uploads/2026/04/Gym-scaled.jpg
END:VEVENT
BEGIN:VEVENT
DTSTART;TZID=Europe/Paris:20271206T090000
DTEND;TZID=Europe/Paris:20271206T100000
DTSTAMP:20260425T164717
CREATED:20260424T094707Z
LAST-MODIFIED:20260424T095704Z
UID:10000831-1828083600-1828087200@neerbosch.nu
SUMMARY:Seniorengym
DESCRIPTION:Elke maandag om 9:00 seniorengym in De Schalmei
URL:https://neerbosch.nu/activiteit/seniorengym/2027-12-06/
LOCATION:Wijkcentrum De Schalmei\, Symfoniestraat 204\, Nijmegen\, 6544 TN
ATTACH;FMTTYPE=image/jpeg:https://neerbosch.nu/wp-content/uploads/2026/04/Gym-scaled.jpg
END:VEVENT
BEGIN:VEVENT
DTSTART;TZID=Europe/Paris:20271213T090000
DTEND;TZID=Europe/Paris:20271213T100000
DTSTAMP:20260425T164717
CREATED:20260424T094707Z
LAST-MODIFIED:20260424T095704Z
UID:10000832-1828688400-1828692000@neerbosch.nu
SUMMARY:Seniorengym
DESCRIPTION:Elke maandag om 9:00 seniorengym in De Schalmei
URL:https://neerbosch.nu/activiteit/seniorengym/2027-12-13/
LOCATION:Wijkcentrum De Schalmei\, Symfoniestraat 204\, Nijmegen\, 6544 TN
ATTACH;FMTTYPE=image/jpeg:https://neerbosch.nu/wp-content/uploads/2026/04/Gym-scaled.jpg
END:VEVENT
BEGIN:VEVENT
DTSTART;TZID=Europe/Paris:20271220T090000
DTEND;TZID=Europe/Paris:20271220T100000
DTSTAMP:20260425T164717
CREATED:20260424T094707Z
LAST-MODIFIED:20260424T095704Z
UID:10000833-1829293200-1829296800@neerbosch.nu
SUMMARY:Seniorengym
DESCRIPTION:Elke maandag om 9:00 seniorengym in De Schalmei
URL:https://neerbosch.nu/activiteit/seniorengym/2027-12-20/
LOCATION:Wijkcentrum De Schalmei\, Symfoniestraat 204\, Nijmegen\, 6544 TN
ATTACH;FMTTYPE=image/jpeg:https://neerbosch.nu/wp-content/uploads/2026/04/Gym-scaled.jpg
END:VEVENT
BEGIN:VEVENT
DTSTART;TZID=Europe/Paris:20271227T090000
DTEND;TZID=Europe/Paris:20271227T100000
DTSTAMP:20260425T164717
CREATED:20260424T094707Z
LAST-MODIFIED:20260424T095704Z
UID:10000834-1829898000-1829901600@neerbosch.nu
SUMMARY:Seniorengym
DESCRIPTION:Elke maandag om 9:00 seniorengym in De Schalmei
URL:https://neerbosch.nu/activiteit/seniorengym/2027-12-27/
LOCATION:Wijkcentrum De Schalmei\, Symfoniestraat 204\, Nijmegen\, 6544 TN
ATTACH;FMTTYPE=image/jpeg:https://neerbosch.nu/wp-content/uploads/2026/04/Gym-scaled.jpg
END:VEVENT
BEGIN:VEVENT
DTSTART;TZID=Europe/Paris:20280103T090000
DTEND;TZID=Europe/Paris:20280103T100000
DTSTAMP:20260425T164717
CREATED:20260424T094707Z
LAST-MODIFIED:20260424T095704Z
UID:10000835-1830502800-1830506400@neerbosch.nu
SUMMARY:Seniorengym
DESCRIPTION:Elke maandag om 9:00 seniorengym in De Schalmei
URL:https://neerbosch.nu/activiteit/seniorengym/2028-01-03/
LOCATION:Wijkcentrum De Schalmei\, Symfoniestraat 204\, Nijmegen\, 6544 TN
ATTACH;FMTTYPE=image/jpeg:https://neerbosch.nu/wp-content/uploads/2026/04/Gym-scaled.jpg
END:VEVENT
BEGIN:VEVENT
DTSTART;TZID=Europe/Paris:20280110T090000
DTEND;TZID=Europe/Paris:20280110T100000
DTSTAMP:20260425T164717
CREATED:20260424T094707Z
LAST-MODIFIED:20260424T095704Z
UID:10000836-1831107600-1831111200@neerbosch.nu
SUMMARY:Seniorengym
DESCRIPTION:Elke maandag om 9:00 seniorengym in De Schalmei
URL:https://neerbosch.nu/activiteit/seniorengym/2028-01-10/
LOCATION:Wijkcentrum De Schalmei\, Symfoniestraat 204\, Nijmegen\, 6544 TN
ATTACH;FMTTYPE=image/jpeg:https://neerbosch.nu/wp-content/uploads/2026/04/Gym-scaled.jpg
END:VEVENT
BEGIN:VEVENT
DTSTART;TZID=Europe/Paris:20280117T090000
DTEND;TZID=Europe/Paris:20280117T100000
DTSTAMP:20260425T164717
CREATED:20260424T094707Z
LAST-MODIFIED:20260424T095704Z
UID:10000837-1831712400-1831716000@neerbosch.nu
SUMMARY:Seniorengym
DESCRIPTION:Elke maandag om 9:00 seniorengym in De Schalmei
URL:https://neerbosch.nu/activiteit/seniorengym/2028-01-17/
LOCATION:Wijkcentrum De Schalmei\, Symfoniestraat 204\, Nijmegen\, 6544 TN
ATTACH;FMTTYPE=image/jpeg:https://neerbosch.nu/wp-content/uploads/2026/04/Gym-scaled.jpg
END:VEVENT
BEGIN:VEVENT
DTSTART;TZID=Europe/Paris:20280124T090000
DTEND;TZID=Europe/Paris:20280124T100000
DTSTAMP:20260425T164717
CREATED:20260424T094707Z
LAST-MODIFIED:20260424T095704Z
UID:10000838-1832317200-1832320800@neerbosch.nu
SUMMARY:Seniorengym
DESCRIPTION:Elke maandag om 9:00 seniorengym in De Schalmei
URL:https://neerbosch.nu/activiteit/seniorengym/2028-01-24/
LOCATION:Wijkcentrum De Schalmei\, Symfoniestraat 204\, Nijmegen\, 6544 TN
ATTACH;FMTTYPE=image/jpeg:https://neerbosch.nu/wp-content/uploads/2026/04/Gym-scaled.jpg
END:VEVENT
BEGIN:VEVENT
DTSTART;TZID=Europe/Paris:20280131T090000
DTEND;TZID=Europe/Paris:20280131T100000
DTSTAMP:20260425T164717
CREATED:20260424T094707Z
LAST-MODIFIED:20260424T095704Z
UID:10000839-1832922000-1832925600@neerbosch.nu
SUMMARY:Seniorengym
DESCRIPTION:Elke maandag om 9:00 seniorengym in De Schalmei
URL:https://neerbosch.nu/activiteit/seniorengym/2028-01-31/
LOCATION:Wijkcentrum De Schalmei\, Symfoniestraat 204\, Nijmegen\, 6544 TN
ATTACH;FMTTYPE=image/jpeg:https://neerbosch.nu/wp-content/uploads/2026/04/Gym-scaled.jpg
END:VEVENT
BEGIN:VEVENT
DTSTART;TZID=Europe/Paris:20280207T090000
DTEND;TZID=Europe/Paris:20280207T100000
DTSTAMP:20260425T164717
CREATED:20260424T094707Z
LAST-MODIFIED:20260424T095704Z
UID:10000840-1833526800-1833530400@neerbosch.nu
SUMMARY:Seniorengym
DESCRIPTION:Elke maandag om 9:00 seniorengym in De Schalmei
URL:https://neerbosch.nu/activiteit/seniorengym/2028-02-07/
LOCATION:Wijkcentrum De Schalmei\, Symfoniestraat 204\, Nijmegen\, 6544 TN
ATTACH;FMTTYPE=image/jpeg:https://neerbosch.nu/wp-content/uploads/2026/04/Gym-scaled.jpg
END:VEVENT
BEGIN:VEVENT
DTSTART;TZID=Europe/Paris:20280214T090000
DTEND;TZID=Europe/Paris:20280214T100000
DTSTAMP:20260425T164717
CREATED:20260424T094707Z
LAST-MODIFIED:20260424T095704Z
UID:10000841-1834131600-1834135200@neerbosch.nu
SUMMARY:Seniorengym
DESCRIPTION:Elke maandag om 9:00 seniorengym in De Schalmei
URL:https://neerbosch.nu/activiteit/seniorengym/2028-02-14/
LOCATION:Wijkcentrum De Schalmei\, Symfoniestraat 204\, Nijmegen\, 6544 TN
ATTACH;FMTTYPE=image/jpeg:https://neerbosch.nu/wp-content/uploads/2026/04/Gym-scaled.jpg
END:VEVENT
BEGIN:VEVENT
DTSTART;TZID=Europe/Paris:20280221T090000
DTEND;TZID=Europe/Paris:20280221T100000
DTSTAMP:20260425T164717
CREATED:20260424T094707Z
LAST-MODIFIED:20260424T095704Z
UID:10000842-1834736400-1834740000@neerbosch.nu
SUMMARY:Seniorengym
DESCRIPTION:Elke maandag om 9:00 seniorengym in De Schalmei
URL:https://neerbosch.nu/activiteit/seniorengym/2028-02-21/
LOCATION:Wijkcentrum De Schalmei\, Symfoniestraat 204\, Nijmegen\, 6544 TN
ATTACH;FMTTYPE=image/jpeg:https://neerbosch.nu/wp-content/uploads/2026/04/Gym-scaled.jpg
END:VEVENT
BEGIN:VEVENT
DTSTART;TZID=Europe/Paris:20280228T090000
DTEND;TZID=Europe/Paris:20280228T100000
DTSTAMP:20260425T164717
CREATED:20260424T094707Z
LAST-MODIFIED:20260424T095704Z
UID:10000843-1835341200-1835344800@neerbosch.nu
SUMMARY:Seniorengym
DESCRIPTION:Elke maandag om 9:00 seniorengym in De Schalmei
URL:https://neerbosch.nu/activiteit/seniorengym/2028-02-28/
LOCATION:Wijkcentrum De Schalmei\, Symfoniestraat 204\, Nijmegen\, 6544 TN
ATTACH;FMTTYPE=image/jpeg:https://neerbosch.nu/wp-content/uploads/2026/04/Gym-scaled.jpg
END:VEVENT
BEGIN:VEVENT
DTSTART;TZID=Europe/Paris:20280306T090000
DTEND;TZID=Europe/Paris:20280306T100000
DTSTAMP:20260425T164717
CREATED:20260424T094707Z
LAST-MODIFIED:20260424T095704Z
UID:10000844-1835946000-1835949600@neerbosch.nu
SUMMARY:Seniorengym
DESCRIPTION:Elke maandag om 9:00 seniorengym in De Schalmei
URL:https://neerbosch.nu/activiteit/seniorengym/2028-03-06/
LOCATION:Wijkcentrum De Schalmei\, Symfoniestraat 204\, Nijmegen\, 6544 TN
ATTACH;FMTTYPE=image/jpeg:https://neerbosch.nu/wp-content/uploads/2026/04/Gym-scaled.jpg
END:VEVENT
BEGIN:VEVENT
DTSTART;TZID=Europe/Paris:20280313T090000
DTEND;TZID=Europe/Paris:20280313T100000
DTSTAMP:20260425T164717
CREATED:20260424T094707Z
LAST-MODIFIED:20260424T095704Z
UID:10000845-1836550800-1836554400@neerbosch.nu
SUMMARY:Seniorengym
DESCRIPTION:Elke maandag om 9:00 seniorengym in De Schalmei
URL:https://neerbosch.nu/activiteit/seniorengym/2028-03-13/
LOCATION:Wijkcentrum De Schalmei\, Symfoniestraat 204\, Nijmegen\, 6544 TN
ATTACH;FMTTYPE=image/jpeg:https://neerbosch.nu/wp-content/uploads/2026/04/Gym-scaled.jpg
END:VEVENT
BEGIN:VEVENT
DTSTART;TZID=Europe/Paris:20280320T090000
DTEND;TZID=Europe/Paris:20280320T100000
DTSTAMP:20260425T164717
CREATED:20260424T094707Z
LAST-MODIFIED:20260424T095704Z
UID:10000846-1837155600-1837159200@neerbosch.nu
SUMMARY:Seniorengym
DESCRIPTION:Elke maandag om 9:00 seniorengym in De Schalmei
URL:https://neerbosch.nu/activiteit/seniorengym/2028-03-20/
LOCATION:Wijkcentrum De Schalmei\, Symfoniestraat 204\, Nijmegen\, 6544 TN
ATTACH;FMTTYPE=image/jpeg:https://neerbosch.nu/wp-content/uploads/2026/04/Gym-scaled.jpg
END:VEVENT
BEGIN:VEVENT
DTSTART;TZID=Europe/Paris:20280327T090000
DTEND;TZID=Europe/Paris:20280327T100000
DTSTAMP:20260425T164717
CREATED:20260424T094707Z
LAST-MODIFIED:20260424T095704Z
UID:10000847-1837760400-1837764000@neerbosch.nu
SUMMARY:Seniorengym
DESCRIPTION:Elke maandag om 9:00 seniorengym in De Schalmei
URL:https://neerbosch.nu/activiteit/seniorengym/2028-03-27/
LOCATION:Wijkcentrum De Schalmei\, Symfoniestraat 204\, Nijmegen\, 6544 TN
ATTACH;FMTTYPE=image/jpeg:https://neerbosch.nu/wp-content/uploads/2026/04/Gym-scaled.jpg
END:VEVENT
END:VCALENDAR