BEGIN:VCALENDAR
VERSION:2.0
PRODID:-//Neerbosch Nu - ECPv6.15.18//NONSGML v1.0//EN
CALSCALE:GREGORIAN
METHOD:PUBLISH
X-ORIGINAL-URL:https://neerbosch.nu
X-WR-CALDESC:Evenementen voor Neerbosch Nu
REFRESH-INTERVAL;VALUE=DURATION:PT1H
X-Robots-Tag:noindex
X-PUBLISHED-TTL:PT1H
BEGIN:VTIMEZONE
TZID:Europe/Paris
BEGIN:DAYLIGHT
TZOFFSETFROM:+0100
TZOFFSETTO:+0200
TZNAME:CEST
DTSTART:20240331T010000
END:DAYLIGHT
BEGIN:STANDARD
TZOFFSETFROM:+0200
TZOFFSETTO:+0100
TZNAME:CET
DTSTART:20241027T010000
END:STANDARD
BEGIN:DAYLIGHT
TZOFFSETFROM:+0100
TZOFFSETTO:+0200
TZNAME:CEST
DTSTART:20250330T010000
END:DAYLIGHT
BEGIN:STANDARD
TZOFFSETFROM:+0200
TZOFFSETTO:+0100
TZNAME:CET
DTSTART:20251026T010000
END:STANDARD
BEGIN:DAYLIGHT
TZOFFSETFROM:+0100
TZOFFSETTO:+0200
TZNAME:CEST
DTSTART:20260329T010000
END:DAYLIGHT
BEGIN:STANDARD
TZOFFSETFROM:+0200
TZOFFSETTO:+0100
TZNAME:CET
DTSTART:20261025T010000
END:STANDARD
END:VTIMEZONE
BEGIN:VEVENT
DTSTART;TZID=Europe/Paris:20251031T180000
DTEND;TZID=Europe/Paris:20251031T210000
DTSTAMP:20260425T032046
CREATED:20251003T125723Z
LAST-MODIFIED:20251003T125821Z
UID:10000032-1761933600-1761944400@neerbosch.nu
SUMMARY:Sjano The conjuring - Halloween spooktocht
DESCRIPTION:31 oktober\, de jaarlijkse Halloween spooktocht van Sjano met dit jaar als thema The conjuring. \nStartpunt KC TOON \nEntree €2\,-\, voorverkoop bij Ugala III op 28\, 29 en 30 oktober van 17:00 tot 19:00 \n4-8 jaar: 18:00-18:45 \n8-12 jaar: 19:00-19:45 \n12+: 20:00-20:45 \n  \nEntree €2\,-\, voorverkoop bij Ugala III op 28\, 29 en 30 oktober van 17:00 tot 19:00 \n 
URL:https://neerbosch.nu/activiteit/sjano-the-conjuring-halloween-spooktocht/
LOCATION:Kindcentrum Toon\, Symfoniestraat 210\, Nijmegen\, 6544 TN
ATTACH;FMTTYPE=image/jpeg:https://neerbosch.nu/wp-content/uploads/2025/10/Sjano-haloween-Header.jpg
END:VEVENT
BEGIN:VEVENT
DTSTART;TZID=Europe/Paris:20250809T000000
DTEND;TZID=Europe/Paris:20250814T235959
DTSTAMP:20260425T032047
CREATED:20250618T150354Z
LAST-MODIFIED:20250618T150547Z
UID:10000022-1754697600-1755215999@neerbosch.nu
SUMMARY:Sjano's bouwdorp
DESCRIPTION:Sjano’s bouwdorp\, van 9 t/m 14 augustus in de natuurspeeltuin TamTam aan de Symfoniestraat. \nOok dit jaar organiseert Sjano weer het bouwdorp\, dit keer op een nieuwe locatie. Het thema van het bouwdorp is dit jaar: Hollywood. Kinderen van 4 t/m 12 jaar mogen lekker hutten bouwen\, voor kleuters is er een part terrein. \nDagkaart €5\,-/€7\,50 \nWeekkaart €12\,50/ €20\,-
URL:https://neerbosch.nu/activiteit/sjanos-bouwdorp/
LOCATION:natuurspeeltuin Tam Tam\, Symfoniestraat\, Nijmegen\, Netherlands
ATTACH;FMTTYPE=image/jpeg:https://neerbosch.nu/wp-content/uploads/2025/06/Bouwdorp-header.jpg
END:VEVENT
END:VCALENDAR