BEGIN:VCALENDAR
VERSION:2.0
PRODID:-//Neerbosch Nu - ECPv6.15.18//NONSGML v1.0//EN
CALSCALE:GREGORIAN
METHOD:PUBLISH
X-ORIGINAL-URL:https://neerbosch.nu
X-WR-CALDESC:Evenementen voor Neerbosch Nu
REFRESH-INTERVAL;VALUE=DURATION:PT1H
X-Robots-Tag:noindex
X-PUBLISHED-TTL:PT1H
BEGIN:VTIMEZONE
TZID:Europe/Paris
BEGIN:DAYLIGHT
TZOFFSETFROM:+0100
TZOFFSETTO:+0200
TZNAME:CEST
DTSTART:20250330T010000
END:DAYLIGHT
BEGIN:STANDARD
TZOFFSETFROM:+0200
TZOFFSETTO:+0100
TZNAME:CET
DTSTART:20251026T010000
END:STANDARD
BEGIN:DAYLIGHT
TZOFFSETFROM:+0100
TZOFFSETTO:+0200
TZNAME:CEST
DTSTART:20260329T010000
END:DAYLIGHT
BEGIN:STANDARD
TZOFFSETFROM:+0200
TZOFFSETTO:+0100
TZNAME:CET
DTSTART:20261025T010000
END:STANDARD
BEGIN:DAYLIGHT
TZOFFSETFROM:+0100
TZOFFSETTO:+0200
TZNAME:CEST
DTSTART:20270328T010000
END:DAYLIGHT
BEGIN:STANDARD
TZOFFSETFROM:+0200
TZOFFSETTO:+0100
TZNAME:CET
DTSTART:20271031T010000
END:STANDARD
BEGIN:DAYLIGHT
TZOFFSETFROM:+0100
TZOFFSETTO:+0200
TZNAME:CEST
DTSTART:20280326T010000
END:DAYLIGHT
BEGIN:STANDARD
TZOFFSETFROM:+0200
TZOFFSETTO:+0100
TZNAME:CET
DTSTART:20281029T010000
END:STANDARD
BEGIN:DAYLIGHT
TZOFFSETFROM:+0100
TZOFFSETTO:+0200
TZNAME:CEST
DTSTART:20290325T010000
END:DAYLIGHT
BEGIN:STANDARD
TZOFFSETFROM:+0200
TZOFFSETTO:+0100
TZNAME:CET
DTSTART:20291028T010000
END:STANDARD
END:VTIMEZONE
BEGIN:VEVENT
DTSTART;TZID=Europe/Paris:20260506T100000
DTEND;TZID=Europe/Paris:20260506T140000
DTSTAMP:20260425T043532
CREATED:20260408T113720Z
LAST-MODIFIED:20260408T113821Z
UID:10000104-1778061600-1778076000@neerbosch.nu
SUMMARY:Soepie doen?
DESCRIPTION:Elke eerste woensdag van de maand kun je rond de lunch een soepie doen bij De Schalmei. Mee koken kan vanaf 10:00\, maar alleen aansluiten voor de soep mag ook om 12:00. Kosten €1\,50 voor een kop soep met brood.
URL:https://neerbosch.nu/activiteit/soepie-doen/2026-05-06/
ATTACH;FMTTYPE=image/jpeg:https://neerbosch.nu/wp-content/uploads/2026/04/Soepie-doen-header.jpg
END:VEVENT
BEGIN:VEVENT
DTSTART;TZID=Europe/Paris:20260603T100000
DTEND;TZID=Europe/Paris:20260603T140000
DTSTAMP:20260425T043532
CREATED:20260408T113720Z
LAST-MODIFIED:20260408T113821Z
UID:10000105-1780480800-1780495200@neerbosch.nu
SUMMARY:Soepie doen?
DESCRIPTION:Elke eerste woensdag van de maand kun je rond de lunch een soepie doen bij De Schalmei. Mee koken kan vanaf 10:00\, maar alleen aansluiten voor de soep mag ook om 12:00. Kosten €1\,50 voor een kop soep met brood.
URL:https://neerbosch.nu/activiteit/soepie-doen/2026-06-03/
ATTACH;FMTTYPE=image/jpeg:https://neerbosch.nu/wp-content/uploads/2026/04/Soepie-doen-header.jpg
END:VEVENT
BEGIN:VEVENT
DTSTART;TZID=Europe/Paris:20260701T100000
DTEND;TZID=Europe/Paris:20260701T140000
DTSTAMP:20260425T043532
CREATED:20260408T113720Z
LAST-MODIFIED:20260408T113821Z
UID:10000106-1782900000-1782914400@neerbosch.nu
SUMMARY:Soepie doen?
DESCRIPTION:Elke eerste woensdag van de maand kun je rond de lunch een soepie doen bij De Schalmei. Mee koken kan vanaf 10:00\, maar alleen aansluiten voor de soep mag ook om 12:00. Kosten €1\,50 voor een kop soep met brood.
URL:https://neerbosch.nu/activiteit/soepie-doen/2026-07-01/
ATTACH;FMTTYPE=image/jpeg:https://neerbosch.nu/wp-content/uploads/2026/04/Soepie-doen-header.jpg
END:VEVENT
BEGIN:VEVENT
DTSTART;TZID=Europe/Paris:20260805T100000
DTEND;TZID=Europe/Paris:20260805T140000
DTSTAMP:20260425T043532
CREATED:20260408T113720Z
LAST-MODIFIED:20260408T113821Z
UID:10000107-1785924000-1785938400@neerbosch.nu
SUMMARY:Soepie doen?
DESCRIPTION:Elke eerste woensdag van de maand kun je rond de lunch een soepie doen bij De Schalmei. Mee koken kan vanaf 10:00\, maar alleen aansluiten voor de soep mag ook om 12:00. Kosten €1\,50 voor een kop soep met brood.
URL:https://neerbosch.nu/activiteit/soepie-doen/2026-08-05/
ATTACH;FMTTYPE=image/jpeg:https://neerbosch.nu/wp-content/uploads/2026/04/Soepie-doen-header.jpg
END:VEVENT
BEGIN:VEVENT
DTSTART;TZID=Europe/Paris:20260902T100000
DTEND;TZID=Europe/Paris:20260902T140000
DTSTAMP:20260425T043532
CREATED:20260408T113720Z
LAST-MODIFIED:20260408T113821Z
UID:10000108-1788343200-1788357600@neerbosch.nu
SUMMARY:Soepie doen?
DESCRIPTION:Elke eerste woensdag van de maand kun je rond de lunch een soepie doen bij De Schalmei. Mee koken kan vanaf 10:00\, maar alleen aansluiten voor de soep mag ook om 12:00. Kosten €1\,50 voor een kop soep met brood.
URL:https://neerbosch.nu/activiteit/soepie-doen/2026-09-02/
ATTACH;FMTTYPE=image/jpeg:https://neerbosch.nu/wp-content/uploads/2026/04/Soepie-doen-header.jpg
END:VEVENT
BEGIN:VEVENT
DTSTART;TZID=Europe/Paris:20261007T100000
DTEND;TZID=Europe/Paris:20261007T140000
DTSTAMP:20260425T043532
CREATED:20260408T113720Z
LAST-MODIFIED:20260408T113821Z
UID:10000109-1791367200-1791381600@neerbosch.nu
SUMMARY:Soepie doen?
DESCRIPTION:Elke eerste woensdag van de maand kun je rond de lunch een soepie doen bij De Schalmei. Mee koken kan vanaf 10:00\, maar alleen aansluiten voor de soep mag ook om 12:00. Kosten €1\,50 voor een kop soep met brood.
URL:https://neerbosch.nu/activiteit/soepie-doen/2026-10-07/
ATTACH;FMTTYPE=image/jpeg:https://neerbosch.nu/wp-content/uploads/2026/04/Soepie-doen-header.jpg
END:VEVENT
BEGIN:VEVENT
DTSTART;TZID=Europe/Paris:20261104T100000
DTEND;TZID=Europe/Paris:20261104T140000
DTSTAMP:20260425T043532
CREATED:20260408T113720Z
LAST-MODIFIED:20260408T113821Z
UID:10000110-1793786400-1793800800@neerbosch.nu
SUMMARY:Soepie doen?
DESCRIPTION:Elke eerste woensdag van de maand kun je rond de lunch een soepie doen bij De Schalmei. Mee koken kan vanaf 10:00\, maar alleen aansluiten voor de soep mag ook om 12:00. Kosten €1\,50 voor een kop soep met brood.
URL:https://neerbosch.nu/activiteit/soepie-doen/2026-11-04/
ATTACH;FMTTYPE=image/jpeg:https://neerbosch.nu/wp-content/uploads/2026/04/Soepie-doen-header.jpg
END:VEVENT
BEGIN:VEVENT
DTSTART;TZID=Europe/Paris:20261202T100000
DTEND;TZID=Europe/Paris:20261202T140000
DTSTAMP:20260425T043532
CREATED:20260408T113720Z
LAST-MODIFIED:20260408T113821Z
UID:10000111-1796205600-1796220000@neerbosch.nu
SUMMARY:Soepie doen?
DESCRIPTION:Elke eerste woensdag van de maand kun je rond de lunch een soepie doen bij De Schalmei. Mee koken kan vanaf 10:00\, maar alleen aansluiten voor de soep mag ook om 12:00. Kosten €1\,50 voor een kop soep met brood.
URL:https://neerbosch.nu/activiteit/soepie-doen/2026-12-02/
ATTACH;FMTTYPE=image/jpeg:https://neerbosch.nu/wp-content/uploads/2026/04/Soepie-doen-header.jpg
END:VEVENT
BEGIN:VEVENT
DTSTART;TZID=Europe/Paris:20270106T100000
DTEND;TZID=Europe/Paris:20270106T140000
DTSTAMP:20260425T043532
CREATED:20260408T113720Z
LAST-MODIFIED:20260408T113821Z
UID:10000112-1799229600-1799244000@neerbosch.nu
SUMMARY:Soepie doen?
DESCRIPTION:Elke eerste woensdag van de maand kun je rond de lunch een soepie doen bij De Schalmei. Mee koken kan vanaf 10:00\, maar alleen aansluiten voor de soep mag ook om 12:00. Kosten €1\,50 voor een kop soep met brood.
URL:https://neerbosch.nu/activiteit/soepie-doen/2027-01-06/
ATTACH;FMTTYPE=image/jpeg:https://neerbosch.nu/wp-content/uploads/2026/04/Soepie-doen-header.jpg
END:VEVENT
BEGIN:VEVENT
DTSTART;TZID=Europe/Paris:20270203T100000
DTEND;TZID=Europe/Paris:20270203T140000
DTSTAMP:20260425T043532
CREATED:20260408T113720Z
LAST-MODIFIED:20260408T113821Z
UID:10000113-1801648800-1801663200@neerbosch.nu
SUMMARY:Soepie doen?
DESCRIPTION:Elke eerste woensdag van de maand kun je rond de lunch een soepie doen bij De Schalmei. Mee koken kan vanaf 10:00\, maar alleen aansluiten voor de soep mag ook om 12:00. Kosten €1\,50 voor een kop soep met brood.
URL:https://neerbosch.nu/activiteit/soepie-doen/2027-02-03/
ATTACH;FMTTYPE=image/jpeg:https://neerbosch.nu/wp-content/uploads/2026/04/Soepie-doen-header.jpg
END:VEVENT
BEGIN:VEVENT
DTSTART;TZID=Europe/Paris:20270303T100000
DTEND;TZID=Europe/Paris:20270303T140000
DTSTAMP:20260425T043532
CREATED:20260408T113720Z
LAST-MODIFIED:20260408T113821Z
UID:10000114-1804068000-1804082400@neerbosch.nu
SUMMARY:Soepie doen?
DESCRIPTION:Elke eerste woensdag van de maand kun je rond de lunch een soepie doen bij De Schalmei. Mee koken kan vanaf 10:00\, maar alleen aansluiten voor de soep mag ook om 12:00. Kosten €1\,50 voor een kop soep met brood.
URL:https://neerbosch.nu/activiteit/soepie-doen/2027-03-03/
ATTACH;FMTTYPE=image/jpeg:https://neerbosch.nu/wp-content/uploads/2026/04/Soepie-doen-header.jpg
END:VEVENT
BEGIN:VEVENT
DTSTART;TZID=Europe/Paris:20270407T100000
DTEND;TZID=Europe/Paris:20270407T140000
DTSTAMP:20260425T043532
CREATED:20260408T113720Z
LAST-MODIFIED:20260408T113821Z
UID:10000115-1807092000-1807106400@neerbosch.nu
SUMMARY:Soepie doen?
DESCRIPTION:Elke eerste woensdag van de maand kun je rond de lunch een soepie doen bij De Schalmei. Mee koken kan vanaf 10:00\, maar alleen aansluiten voor de soep mag ook om 12:00. Kosten €1\,50 voor een kop soep met brood.
URL:https://neerbosch.nu/activiteit/soepie-doen/2027-04-07/
ATTACH;FMTTYPE=image/jpeg:https://neerbosch.nu/wp-content/uploads/2026/04/Soepie-doen-header.jpg
END:VEVENT
BEGIN:VEVENT
DTSTART;TZID=Europe/Paris:20270505T100000
DTEND;TZID=Europe/Paris:20270505T140000
DTSTAMP:20260425T043532
CREATED:20260408T113720Z
LAST-MODIFIED:20260408T113821Z
UID:10000116-1809511200-1809525600@neerbosch.nu
SUMMARY:Soepie doen?
DESCRIPTION:Elke eerste woensdag van de maand kun je rond de lunch een soepie doen bij De Schalmei. Mee koken kan vanaf 10:00\, maar alleen aansluiten voor de soep mag ook om 12:00. Kosten €1\,50 voor een kop soep met brood.
URL:https://neerbosch.nu/activiteit/soepie-doen/2027-05-05/
ATTACH;FMTTYPE=image/jpeg:https://neerbosch.nu/wp-content/uploads/2026/04/Soepie-doen-header.jpg
END:VEVENT
BEGIN:VEVENT
DTSTART;TZID=Europe/Paris:20270602T100000
DTEND;TZID=Europe/Paris:20270602T140000
DTSTAMP:20260425T043532
CREATED:20260408T113720Z
LAST-MODIFIED:20260408T113821Z
UID:10000117-1811930400-1811944800@neerbosch.nu
SUMMARY:Soepie doen?
DESCRIPTION:Elke eerste woensdag van de maand kun je rond de lunch een soepie doen bij De Schalmei. Mee koken kan vanaf 10:00\, maar alleen aansluiten voor de soep mag ook om 12:00. Kosten €1\,50 voor een kop soep met brood.
URL:https://neerbosch.nu/activiteit/soepie-doen/2027-06-02/
ATTACH;FMTTYPE=image/jpeg:https://neerbosch.nu/wp-content/uploads/2026/04/Soepie-doen-header.jpg
END:VEVENT
BEGIN:VEVENT
DTSTART;TZID=Europe/Paris:20270707T100000
DTEND;TZID=Europe/Paris:20270707T140000
DTSTAMP:20260425T043532
CREATED:20260408T113720Z
LAST-MODIFIED:20260408T113821Z
UID:10000118-1814954400-1814968800@neerbosch.nu
SUMMARY:Soepie doen?
DESCRIPTION:Elke eerste woensdag van de maand kun je rond de lunch een soepie doen bij De Schalmei. Mee koken kan vanaf 10:00\, maar alleen aansluiten voor de soep mag ook om 12:00. Kosten €1\,50 voor een kop soep met brood.
URL:https://neerbosch.nu/activiteit/soepie-doen/2027-07-07/
ATTACH;FMTTYPE=image/jpeg:https://neerbosch.nu/wp-content/uploads/2026/04/Soepie-doen-header.jpg
END:VEVENT
BEGIN:VEVENT
DTSTART;TZID=Europe/Paris:20270804T100000
DTEND;TZID=Europe/Paris:20270804T140000
DTSTAMP:20260425T043532
CREATED:20260408T113720Z
LAST-MODIFIED:20260408T113821Z
UID:10000119-1817373600-1817388000@neerbosch.nu
SUMMARY:Soepie doen?
DESCRIPTION:Elke eerste woensdag van de maand kun je rond de lunch een soepie doen bij De Schalmei. Mee koken kan vanaf 10:00\, maar alleen aansluiten voor de soep mag ook om 12:00. Kosten €1\,50 voor een kop soep met brood.
URL:https://neerbosch.nu/activiteit/soepie-doen/2027-08-04/
ATTACH;FMTTYPE=image/jpeg:https://neerbosch.nu/wp-content/uploads/2026/04/Soepie-doen-header.jpg
END:VEVENT
BEGIN:VEVENT
DTSTART;TZID=Europe/Paris:20270901T100000
DTEND;TZID=Europe/Paris:20270901T140000
DTSTAMP:20260425T043532
CREATED:20260408T113720Z
LAST-MODIFIED:20260408T113821Z
UID:10000120-1819792800-1819807200@neerbosch.nu
SUMMARY:Soepie doen?
DESCRIPTION:Elke eerste woensdag van de maand kun je rond de lunch een soepie doen bij De Schalmei. Mee koken kan vanaf 10:00\, maar alleen aansluiten voor de soep mag ook om 12:00. Kosten €1\,50 voor een kop soep met brood.
URL:https://neerbosch.nu/activiteit/soepie-doen/2027-09-01/
ATTACH;FMTTYPE=image/jpeg:https://neerbosch.nu/wp-content/uploads/2026/04/Soepie-doen-header.jpg
END:VEVENT
BEGIN:VEVENT
DTSTART;TZID=Europe/Paris:20271006T100000
DTEND;TZID=Europe/Paris:20271006T140000
DTSTAMP:20260425T043532
CREATED:20260408T113720Z
LAST-MODIFIED:20260408T113821Z
UID:10000121-1822816800-1822831200@neerbosch.nu
SUMMARY:Soepie doen?
DESCRIPTION:Elke eerste woensdag van de maand kun je rond de lunch een soepie doen bij De Schalmei. Mee koken kan vanaf 10:00\, maar alleen aansluiten voor de soep mag ook om 12:00. Kosten €1\,50 voor een kop soep met brood.
URL:https://neerbosch.nu/activiteit/soepie-doen/2027-10-06/
ATTACH;FMTTYPE=image/jpeg:https://neerbosch.nu/wp-content/uploads/2026/04/Soepie-doen-header.jpg
END:VEVENT
BEGIN:VEVENT
DTSTART;TZID=Europe/Paris:20271103T100000
DTEND;TZID=Europe/Paris:20271103T140000
DTSTAMP:20260425T043532
CREATED:20260408T113720Z
LAST-MODIFIED:20260408T113821Z
UID:10000122-1825236000-1825250400@neerbosch.nu
SUMMARY:Soepie doen?
DESCRIPTION:Elke eerste woensdag van de maand kun je rond de lunch een soepie doen bij De Schalmei. Mee koken kan vanaf 10:00\, maar alleen aansluiten voor de soep mag ook om 12:00. Kosten €1\,50 voor een kop soep met brood.
URL:https://neerbosch.nu/activiteit/soepie-doen/2027-11-03/
ATTACH;FMTTYPE=image/jpeg:https://neerbosch.nu/wp-content/uploads/2026/04/Soepie-doen-header.jpg
END:VEVENT
BEGIN:VEVENT
DTSTART;TZID=Europe/Paris:20271201T100000
DTEND;TZID=Europe/Paris:20271201T140000
DTSTAMP:20260425T043532
CREATED:20260408T113720Z
LAST-MODIFIED:20260408T113821Z
UID:10000123-1827655200-1827669600@neerbosch.nu
SUMMARY:Soepie doen?
DESCRIPTION:Elke eerste woensdag van de maand kun je rond de lunch een soepie doen bij De Schalmei. Mee koken kan vanaf 10:00\, maar alleen aansluiten voor de soep mag ook om 12:00. Kosten €1\,50 voor een kop soep met brood.
URL:https://neerbosch.nu/activiteit/soepie-doen/2027-12-01/
ATTACH;FMTTYPE=image/jpeg:https://neerbosch.nu/wp-content/uploads/2026/04/Soepie-doen-header.jpg
END:VEVENT
BEGIN:VEVENT
DTSTART;TZID=Europe/Paris:20280105T100000
DTEND;TZID=Europe/Paris:20280105T140000
DTSTAMP:20260425T043532
CREATED:20260408T113720Z
LAST-MODIFIED:20260408T113821Z
UID:10000124-1830679200-1830693600@neerbosch.nu
SUMMARY:Soepie doen?
DESCRIPTION:Elke eerste woensdag van de maand kun je rond de lunch een soepie doen bij De Schalmei. Mee koken kan vanaf 10:00\, maar alleen aansluiten voor de soep mag ook om 12:00. Kosten €1\,50 voor een kop soep met brood.
URL:https://neerbosch.nu/activiteit/soepie-doen/2028-01-05/
ATTACH;FMTTYPE=image/jpeg:https://neerbosch.nu/wp-content/uploads/2026/04/Soepie-doen-header.jpg
END:VEVENT
BEGIN:VEVENT
DTSTART;TZID=Europe/Paris:20280202T100000
DTEND;TZID=Europe/Paris:20280202T140000
DTSTAMP:20260425T043532
CREATED:20260408T113720Z
LAST-MODIFIED:20260408T113821Z
UID:10000125-1833098400-1833112800@neerbosch.nu
SUMMARY:Soepie doen?
DESCRIPTION:Elke eerste woensdag van de maand kun je rond de lunch een soepie doen bij De Schalmei. Mee koken kan vanaf 10:00\, maar alleen aansluiten voor de soep mag ook om 12:00. Kosten €1\,50 voor een kop soep met brood.
URL:https://neerbosch.nu/activiteit/soepie-doen/2028-02-02/
ATTACH;FMTTYPE=image/jpeg:https://neerbosch.nu/wp-content/uploads/2026/04/Soepie-doen-header.jpg
END:VEVENT
BEGIN:VEVENT
DTSTART;TZID=Europe/Paris:20280301T100000
DTEND;TZID=Europe/Paris:20280301T140000
DTSTAMP:20260425T043532
CREATED:20260408T113720Z
LAST-MODIFIED:20260408T113821Z
UID:10000126-1835517600-1835532000@neerbosch.nu
SUMMARY:Soepie doen?
DESCRIPTION:Elke eerste woensdag van de maand kun je rond de lunch een soepie doen bij De Schalmei. Mee koken kan vanaf 10:00\, maar alleen aansluiten voor de soep mag ook om 12:00. Kosten €1\,50 voor een kop soep met brood.
URL:https://neerbosch.nu/activiteit/soepie-doen/2028-03-01/
ATTACH;FMTTYPE=image/jpeg:https://neerbosch.nu/wp-content/uploads/2026/04/Soepie-doen-header.jpg
END:VEVENT
BEGIN:VEVENT
DTSTART;TZID=Europe/Paris:20280405T100000
DTEND;TZID=Europe/Paris:20280405T140000
DTSTAMP:20260425T043532
CREATED:20260408T113720Z
LAST-MODIFIED:20260408T113821Z
UID:10000127-1838541600-1838556000@neerbosch.nu
SUMMARY:Soepie doen?
DESCRIPTION:Elke eerste woensdag van de maand kun je rond de lunch een soepie doen bij De Schalmei. Mee koken kan vanaf 10:00\, maar alleen aansluiten voor de soep mag ook om 12:00. Kosten €1\,50 voor een kop soep met brood.
URL:https://neerbosch.nu/activiteit/soepie-doen/2028-04-05/
ATTACH;FMTTYPE=image/jpeg:https://neerbosch.nu/wp-content/uploads/2026/04/Soepie-doen-header.jpg
END:VEVENT
BEGIN:VEVENT
DTSTART;TZID=Europe/Paris:20280503T100000
DTEND;TZID=Europe/Paris:20280503T140000
DTSTAMP:20260425T043532
CREATED:20260408T113720Z
LAST-MODIFIED:20260408T113821Z
UID:10000128-1840960800-1840975200@neerbosch.nu
SUMMARY:Soepie doen?
DESCRIPTION:Elke eerste woensdag van de maand kun je rond de lunch een soepie doen bij De Schalmei. Mee koken kan vanaf 10:00\, maar alleen aansluiten voor de soep mag ook om 12:00. Kosten €1\,50 voor een kop soep met brood.
URL:https://neerbosch.nu/activiteit/soepie-doen/2028-05-03/
ATTACH;FMTTYPE=image/jpeg:https://neerbosch.nu/wp-content/uploads/2026/04/Soepie-doen-header.jpg
END:VEVENT
BEGIN:VEVENT
DTSTART;TZID=Europe/Paris:20280607T100000
DTEND;TZID=Europe/Paris:20280607T140000
DTSTAMP:20260425T043532
CREATED:20260408T113720Z
LAST-MODIFIED:20260408T113821Z
UID:10000129-1843984800-1843999200@neerbosch.nu
SUMMARY:Soepie doen?
DESCRIPTION:Elke eerste woensdag van de maand kun je rond de lunch een soepie doen bij De Schalmei. Mee koken kan vanaf 10:00\, maar alleen aansluiten voor de soep mag ook om 12:00. Kosten €1\,50 voor een kop soep met brood.
URL:https://neerbosch.nu/activiteit/soepie-doen/2028-06-07/
ATTACH;FMTTYPE=image/jpeg:https://neerbosch.nu/wp-content/uploads/2026/04/Soepie-doen-header.jpg
END:VEVENT
BEGIN:VEVENT
DTSTART;TZID=Europe/Paris:20280705T100000
DTEND;TZID=Europe/Paris:20280705T140000
DTSTAMP:20260425T043532
CREATED:20260408T113720Z
LAST-MODIFIED:20260408T113821Z
UID:10000130-1846404000-1846418400@neerbosch.nu
SUMMARY:Soepie doen?
DESCRIPTION:Elke eerste woensdag van de maand kun je rond de lunch een soepie doen bij De Schalmei. Mee koken kan vanaf 10:00\, maar alleen aansluiten voor de soep mag ook om 12:00. Kosten €1\,50 voor een kop soep met brood.
URL:https://neerbosch.nu/activiteit/soepie-doen/2028-07-05/
ATTACH;FMTTYPE=image/jpeg:https://neerbosch.nu/wp-content/uploads/2026/04/Soepie-doen-header.jpg
END:VEVENT
BEGIN:VEVENT
DTSTART;TZID=Europe/Paris:20280802T100000
DTEND;TZID=Europe/Paris:20280802T140000
DTSTAMP:20260425T043532
CREATED:20260408T113720Z
LAST-MODIFIED:20260408T113821Z
UID:10000131-1848823200-1848837600@neerbosch.nu
SUMMARY:Soepie doen?
DESCRIPTION:Elke eerste woensdag van de maand kun je rond de lunch een soepie doen bij De Schalmei. Mee koken kan vanaf 10:00\, maar alleen aansluiten voor de soep mag ook om 12:00. Kosten €1\,50 voor een kop soep met brood.
URL:https://neerbosch.nu/activiteit/soepie-doen/2028-08-02/
ATTACH;FMTTYPE=image/jpeg:https://neerbosch.nu/wp-content/uploads/2026/04/Soepie-doen-header.jpg
END:VEVENT
BEGIN:VEVENT
DTSTART;TZID=Europe/Paris:20280906T100000
DTEND;TZID=Europe/Paris:20280906T140000
DTSTAMP:20260425T043532
CREATED:20260408T113720Z
LAST-MODIFIED:20260408T113821Z
UID:10000132-1851847200-1851861600@neerbosch.nu
SUMMARY:Soepie doen?
DESCRIPTION:Elke eerste woensdag van de maand kun je rond de lunch een soepie doen bij De Schalmei. Mee koken kan vanaf 10:00\, maar alleen aansluiten voor de soep mag ook om 12:00. Kosten €1\,50 voor een kop soep met brood.
URL:https://neerbosch.nu/activiteit/soepie-doen/2028-09-06/
ATTACH;FMTTYPE=image/jpeg:https://neerbosch.nu/wp-content/uploads/2026/04/Soepie-doen-header.jpg
END:VEVENT
BEGIN:VEVENT
DTSTART;TZID=Europe/Paris:20281004T100000
DTEND;TZID=Europe/Paris:20281004T140000
DTSTAMP:20260425T043532
CREATED:20260408T113720Z
LAST-MODIFIED:20260408T113821Z
UID:10000133-1854266400-1854280800@neerbosch.nu
SUMMARY:Soepie doen?
DESCRIPTION:Elke eerste woensdag van de maand kun je rond de lunch een soepie doen bij De Schalmei. Mee koken kan vanaf 10:00\, maar alleen aansluiten voor de soep mag ook om 12:00. Kosten €1\,50 voor een kop soep met brood.
URL:https://neerbosch.nu/activiteit/soepie-doen/2028-10-04/
ATTACH;FMTTYPE=image/jpeg:https://neerbosch.nu/wp-content/uploads/2026/04/Soepie-doen-header.jpg
END:VEVENT
END:VCALENDAR