BEGIN:VCALENDAR
VERSION:2.0
PRODID:-//Neerbosch Nu - ECPv6.15.18//NONSGML v1.0//EN
CALSCALE:GREGORIAN
METHOD:PUBLISH
X-ORIGINAL-URL:https://neerbosch.nu
X-WR-CALDESC:Evenementen voor Neerbosch Nu
REFRESH-INTERVAL;VALUE=DURATION:PT1H
X-Robots-Tag:noindex
X-PUBLISHED-TTL:PT1H
BEGIN:VTIMEZONE
TZID:Europe/Paris
BEGIN:DAYLIGHT
TZOFFSETFROM:+0100
TZOFFSETTO:+0200
TZNAME:CEST
DTSTART:20270328T010000
END:DAYLIGHT
BEGIN:STANDARD
TZOFFSETFROM:+0200
TZOFFSETTO:+0100
TZNAME:CET
DTSTART:20271031T010000
END:STANDARD
BEGIN:DAYLIGHT
TZOFFSETFROM:+0100
TZOFFSETTO:+0200
TZNAME:CEST
DTSTART:20280326T010000
END:DAYLIGHT
BEGIN:STANDARD
TZOFFSETFROM:+0200
TZOFFSETTO:+0100
TZNAME:CET
DTSTART:20281029T010000
END:STANDARD
BEGIN:DAYLIGHT
TZOFFSETFROM:+0100
TZOFFSETTO:+0200
TZNAME:CEST
DTSTART:20290325T010000
END:DAYLIGHT
BEGIN:STANDARD
TZOFFSETFROM:+0200
TZOFFSETTO:+0100
TZNAME:CET
DTSTART:20291028T010000
END:STANDARD
BEGIN:DAYLIGHT
TZOFFSETFROM:+0100
TZOFFSETTO:+0200
TZNAME:CEST
DTSTART:20300331T010000
END:DAYLIGHT
BEGIN:STANDARD
TZOFFSETFROM:+0200
TZOFFSETTO:+0100
TZNAME:CET
DTSTART:20301027T010000
END:STANDARD
BEGIN:DAYLIGHT
TZOFFSETFROM:+0100
TZOFFSETTO:+0200
TZNAME:CEST
DTSTART:20310330T010000
END:DAYLIGHT
BEGIN:STANDARD
TZOFFSETFROM:+0200
TZOFFSETTO:+0100
TZNAME:CET
DTSTART:20311026T010000
END:STANDARD
BEGIN:DAYLIGHT
TZOFFSETFROM:+0100
TZOFFSETTO:+0200
TZNAME:CEST
DTSTART:20320328T010000
END:DAYLIGHT
BEGIN:STANDARD
TZOFFSETFROM:+0200
TZOFFSETTO:+0100
TZNAME:CET
DTSTART:20321031T010000
END:STANDARD
END:VTIMEZONE
BEGIN:VEVENT
DTSTART;TZID=Europe/Paris:20281101T100000
DTEND;TZID=Europe/Paris:20281101T140000
DTSTAMP:20260425T165510
CREATED:20260408T113720Z
LAST-MODIFIED:20260408T113821Z
UID:10000134-1856685600-1856700000@neerbosch.nu
SUMMARY:Soepie doen?
DESCRIPTION:Elke eerste woensdag van de maand kun je rond de lunch een soepie doen bij De Schalmei. Mee koken kan vanaf 10:00\, maar alleen aansluiten voor de soep mag ook om 12:00. Kosten €1\,50 voor een kop soep met brood.
URL:https://neerbosch.nu/activiteit/soepie-doen/2028-11-01/
ATTACH;FMTTYPE=image/jpeg:https://neerbosch.nu/wp-content/uploads/2026/04/Soepie-doen-header.jpg
END:VEVENT
BEGIN:VEVENT
DTSTART;TZID=Europe/Paris:20281206T100000
DTEND;TZID=Europe/Paris:20281206T140000
DTSTAMP:20260425T165510
CREATED:20260408T113720Z
LAST-MODIFIED:20260408T113821Z
UID:10000135-1859709600-1859724000@neerbosch.nu
SUMMARY:Soepie doen?
DESCRIPTION:Elke eerste woensdag van de maand kun je rond de lunch een soepie doen bij De Schalmei. Mee koken kan vanaf 10:00\, maar alleen aansluiten voor de soep mag ook om 12:00. Kosten €1\,50 voor een kop soep met brood.
URL:https://neerbosch.nu/activiteit/soepie-doen/2028-12-06/
ATTACH;FMTTYPE=image/jpeg:https://neerbosch.nu/wp-content/uploads/2026/04/Soepie-doen-header.jpg
END:VEVENT
BEGIN:VEVENT
DTSTART;TZID=Europe/Paris:20290103T100000
DTEND;TZID=Europe/Paris:20290103T140000
DTSTAMP:20260425T165510
CREATED:20260408T113720Z
LAST-MODIFIED:20260408T113821Z
UID:10000136-1862128800-1862143200@neerbosch.nu
SUMMARY:Soepie doen?
DESCRIPTION:Elke eerste woensdag van de maand kun je rond de lunch een soepie doen bij De Schalmei. Mee koken kan vanaf 10:00\, maar alleen aansluiten voor de soep mag ook om 12:00. Kosten €1\,50 voor een kop soep met brood.
URL:https://neerbosch.nu/activiteit/soepie-doen/2029-01-03/
ATTACH;FMTTYPE=image/jpeg:https://neerbosch.nu/wp-content/uploads/2026/04/Soepie-doen-header.jpg
END:VEVENT
BEGIN:VEVENT
DTSTART;TZID=Europe/Paris:20290207T100000
DTEND;TZID=Europe/Paris:20290207T140000
DTSTAMP:20260425T165510
CREATED:20260408T113720Z
LAST-MODIFIED:20260408T113821Z
UID:10000137-1865152800-1865167200@neerbosch.nu
SUMMARY:Soepie doen?
DESCRIPTION:Elke eerste woensdag van de maand kun je rond de lunch een soepie doen bij De Schalmei. Mee koken kan vanaf 10:00\, maar alleen aansluiten voor de soep mag ook om 12:00. Kosten €1\,50 voor een kop soep met brood.
URL:https://neerbosch.nu/activiteit/soepie-doen/2029-02-07/
ATTACH;FMTTYPE=image/jpeg:https://neerbosch.nu/wp-content/uploads/2026/04/Soepie-doen-header.jpg
END:VEVENT
BEGIN:VEVENT
DTSTART;TZID=Europe/Paris:20290307T100000
DTEND;TZID=Europe/Paris:20290307T140000
DTSTAMP:20260425T165510
CREATED:20260408T113720Z
LAST-MODIFIED:20260408T113821Z
UID:10000138-1867572000-1867586400@neerbosch.nu
SUMMARY:Soepie doen?
DESCRIPTION:Elke eerste woensdag van de maand kun je rond de lunch een soepie doen bij De Schalmei. Mee koken kan vanaf 10:00\, maar alleen aansluiten voor de soep mag ook om 12:00. Kosten €1\,50 voor een kop soep met brood.
URL:https://neerbosch.nu/activiteit/soepie-doen/2029-03-07/
ATTACH;FMTTYPE=image/jpeg:https://neerbosch.nu/wp-content/uploads/2026/04/Soepie-doen-header.jpg
END:VEVENT
BEGIN:VEVENT
DTSTART;TZID=Europe/Paris:20290404T100000
DTEND;TZID=Europe/Paris:20290404T140000
DTSTAMP:20260425T165510
CREATED:20260408T113720Z
LAST-MODIFIED:20260408T113821Z
UID:10000139-1869991200-1870005600@neerbosch.nu
SUMMARY:Soepie doen?
DESCRIPTION:Elke eerste woensdag van de maand kun je rond de lunch een soepie doen bij De Schalmei. Mee koken kan vanaf 10:00\, maar alleen aansluiten voor de soep mag ook om 12:00. Kosten €1\,50 voor een kop soep met brood.
URL:https://neerbosch.nu/activiteit/soepie-doen/2029-04-04/
ATTACH;FMTTYPE=image/jpeg:https://neerbosch.nu/wp-content/uploads/2026/04/Soepie-doen-header.jpg
END:VEVENT
BEGIN:VEVENT
DTSTART;TZID=Europe/Paris:20290502T100000
DTEND;TZID=Europe/Paris:20290502T140000
DTSTAMP:20260425T165510
CREATED:20260408T113720Z
LAST-MODIFIED:20260408T113821Z
UID:10000140-1872410400-1872424800@neerbosch.nu
SUMMARY:Soepie doen?
DESCRIPTION:Elke eerste woensdag van de maand kun je rond de lunch een soepie doen bij De Schalmei. Mee koken kan vanaf 10:00\, maar alleen aansluiten voor de soep mag ook om 12:00. Kosten €1\,50 voor een kop soep met brood.
URL:https://neerbosch.nu/activiteit/soepie-doen/2029-05-02/
ATTACH;FMTTYPE=image/jpeg:https://neerbosch.nu/wp-content/uploads/2026/04/Soepie-doen-header.jpg
END:VEVENT
BEGIN:VEVENT
DTSTART;TZID=Europe/Paris:20290606T100000
DTEND;TZID=Europe/Paris:20290606T140000
DTSTAMP:20260425T165510
CREATED:20260408T113720Z
LAST-MODIFIED:20260408T113821Z
UID:10000141-1875434400-1875448800@neerbosch.nu
SUMMARY:Soepie doen?
DESCRIPTION:Elke eerste woensdag van de maand kun je rond de lunch een soepie doen bij De Schalmei. Mee koken kan vanaf 10:00\, maar alleen aansluiten voor de soep mag ook om 12:00. Kosten €1\,50 voor een kop soep met brood.
URL:https://neerbosch.nu/activiteit/soepie-doen/2029-06-06/
ATTACH;FMTTYPE=image/jpeg:https://neerbosch.nu/wp-content/uploads/2026/04/Soepie-doen-header.jpg
END:VEVENT
BEGIN:VEVENT
DTSTART;TZID=Europe/Paris:20290704T100000
DTEND;TZID=Europe/Paris:20290704T140000
DTSTAMP:20260425T165510
CREATED:20260408T113720Z
LAST-MODIFIED:20260408T113821Z
UID:10000142-1877853600-1877868000@neerbosch.nu
SUMMARY:Soepie doen?
DESCRIPTION:Elke eerste woensdag van de maand kun je rond de lunch een soepie doen bij De Schalmei. Mee koken kan vanaf 10:00\, maar alleen aansluiten voor de soep mag ook om 12:00. Kosten €1\,50 voor een kop soep met brood.
URL:https://neerbosch.nu/activiteit/soepie-doen/2029-07-04/
ATTACH;FMTTYPE=image/jpeg:https://neerbosch.nu/wp-content/uploads/2026/04/Soepie-doen-header.jpg
END:VEVENT
BEGIN:VEVENT
DTSTART;TZID=Europe/Paris:20290801T100000
DTEND;TZID=Europe/Paris:20290801T140000
DTSTAMP:20260425T165510
CREATED:20260408T113720Z
LAST-MODIFIED:20260408T113821Z
UID:10000143-1880272800-1880287200@neerbosch.nu
SUMMARY:Soepie doen?
DESCRIPTION:Elke eerste woensdag van de maand kun je rond de lunch een soepie doen bij De Schalmei. Mee koken kan vanaf 10:00\, maar alleen aansluiten voor de soep mag ook om 12:00. Kosten €1\,50 voor een kop soep met brood.
URL:https://neerbosch.nu/activiteit/soepie-doen/2029-08-01/
ATTACH;FMTTYPE=image/jpeg:https://neerbosch.nu/wp-content/uploads/2026/04/Soepie-doen-header.jpg
END:VEVENT
BEGIN:VEVENT
DTSTART;TZID=Europe/Paris:20290905T100000
DTEND;TZID=Europe/Paris:20290905T140000
DTSTAMP:20260425T165510
CREATED:20260408T113720Z
LAST-MODIFIED:20260408T113821Z
UID:10000144-1883296800-1883311200@neerbosch.nu
SUMMARY:Soepie doen?
DESCRIPTION:Elke eerste woensdag van de maand kun je rond de lunch een soepie doen bij De Schalmei. Mee koken kan vanaf 10:00\, maar alleen aansluiten voor de soep mag ook om 12:00. Kosten €1\,50 voor een kop soep met brood.
URL:https://neerbosch.nu/activiteit/soepie-doen/2029-09-05/
ATTACH;FMTTYPE=image/jpeg:https://neerbosch.nu/wp-content/uploads/2026/04/Soepie-doen-header.jpg
END:VEVENT
BEGIN:VEVENT
DTSTART;TZID=Europe/Paris:20291003T100000
DTEND;TZID=Europe/Paris:20291003T140000
DTSTAMP:20260425T165510
CREATED:20260408T113720Z
LAST-MODIFIED:20260408T113821Z
UID:10000145-1885716000-1885730400@neerbosch.nu
SUMMARY:Soepie doen?
DESCRIPTION:Elke eerste woensdag van de maand kun je rond de lunch een soepie doen bij De Schalmei. Mee koken kan vanaf 10:00\, maar alleen aansluiten voor de soep mag ook om 12:00. Kosten €1\,50 voor een kop soep met brood.
URL:https://neerbosch.nu/activiteit/soepie-doen/2029-10-03/
ATTACH;FMTTYPE=image/jpeg:https://neerbosch.nu/wp-content/uploads/2026/04/Soepie-doen-header.jpg
END:VEVENT
BEGIN:VEVENT
DTSTART;TZID=Europe/Paris:20291107T100000
DTEND;TZID=Europe/Paris:20291107T140000
DTSTAMP:20260425T165510
CREATED:20260408T113720Z
LAST-MODIFIED:20260408T113821Z
UID:10000146-1888740000-1888754400@neerbosch.nu
SUMMARY:Soepie doen?
DESCRIPTION:Elke eerste woensdag van de maand kun je rond de lunch een soepie doen bij De Schalmei. Mee koken kan vanaf 10:00\, maar alleen aansluiten voor de soep mag ook om 12:00. Kosten €1\,50 voor een kop soep met brood.
URL:https://neerbosch.nu/activiteit/soepie-doen/2029-11-07/
ATTACH;FMTTYPE=image/jpeg:https://neerbosch.nu/wp-content/uploads/2026/04/Soepie-doen-header.jpg
END:VEVENT
BEGIN:VEVENT
DTSTART;TZID=Europe/Paris:20291205T100000
DTEND;TZID=Europe/Paris:20291205T140000
DTSTAMP:20260425T165510
CREATED:20260408T113720Z
LAST-MODIFIED:20260408T113821Z
UID:10000147-1891159200-1891173600@neerbosch.nu
SUMMARY:Soepie doen?
DESCRIPTION:Elke eerste woensdag van de maand kun je rond de lunch een soepie doen bij De Schalmei. Mee koken kan vanaf 10:00\, maar alleen aansluiten voor de soep mag ook om 12:00. Kosten €1\,50 voor een kop soep met brood.
URL:https://neerbosch.nu/activiteit/soepie-doen/2029-12-05/
ATTACH;FMTTYPE=image/jpeg:https://neerbosch.nu/wp-content/uploads/2026/04/Soepie-doen-header.jpg
END:VEVENT
BEGIN:VEVENT
DTSTART;TZID=Europe/Paris:20300102T100000
DTEND;TZID=Europe/Paris:20300102T140000
DTSTAMP:20260425T165510
CREATED:20260408T113720Z
LAST-MODIFIED:20260408T113821Z
UID:10000148-1893578400-1893592800@neerbosch.nu
SUMMARY:Soepie doen?
DESCRIPTION:Elke eerste woensdag van de maand kun je rond de lunch een soepie doen bij De Schalmei. Mee koken kan vanaf 10:00\, maar alleen aansluiten voor de soep mag ook om 12:00. Kosten €1\,50 voor een kop soep met brood.
URL:https://neerbosch.nu/activiteit/soepie-doen/2030-01-02/
ATTACH;FMTTYPE=image/jpeg:https://neerbosch.nu/wp-content/uploads/2026/04/Soepie-doen-header.jpg
END:VEVENT
BEGIN:VEVENT
DTSTART;TZID=Europe/Paris:20300206T100000
DTEND;TZID=Europe/Paris:20300206T140000
DTSTAMP:20260425T165510
CREATED:20260408T113720Z
LAST-MODIFIED:20260408T113821Z
UID:10000149-1896602400-1896616800@neerbosch.nu
SUMMARY:Soepie doen?
DESCRIPTION:Elke eerste woensdag van de maand kun je rond de lunch een soepie doen bij De Schalmei. Mee koken kan vanaf 10:00\, maar alleen aansluiten voor de soep mag ook om 12:00. Kosten €1\,50 voor een kop soep met brood.
URL:https://neerbosch.nu/activiteit/soepie-doen/2030-02-06/
ATTACH;FMTTYPE=image/jpeg:https://neerbosch.nu/wp-content/uploads/2026/04/Soepie-doen-header.jpg
END:VEVENT
BEGIN:VEVENT
DTSTART;TZID=Europe/Paris:20300306T100000
DTEND;TZID=Europe/Paris:20300306T140000
DTSTAMP:20260425T165510
CREATED:20260408T113720Z
LAST-MODIFIED:20260408T113821Z
UID:10000150-1899021600-1899036000@neerbosch.nu
SUMMARY:Soepie doen?
DESCRIPTION:Elke eerste woensdag van de maand kun je rond de lunch een soepie doen bij De Schalmei. Mee koken kan vanaf 10:00\, maar alleen aansluiten voor de soep mag ook om 12:00. Kosten €1\,50 voor een kop soep met brood.
URL:https://neerbosch.nu/activiteit/soepie-doen/2030-03-06/
ATTACH;FMTTYPE=image/jpeg:https://neerbosch.nu/wp-content/uploads/2026/04/Soepie-doen-header.jpg
END:VEVENT
BEGIN:VEVENT
DTSTART;TZID=Europe/Paris:20300403T100000
DTEND;TZID=Europe/Paris:20300403T140000
DTSTAMP:20260425T165510
CREATED:20260408T113720Z
LAST-MODIFIED:20260408T113821Z
UID:10000151-1901440800-1901455200@neerbosch.nu
SUMMARY:Soepie doen?
DESCRIPTION:Elke eerste woensdag van de maand kun je rond de lunch een soepie doen bij De Schalmei. Mee koken kan vanaf 10:00\, maar alleen aansluiten voor de soep mag ook om 12:00. Kosten €1\,50 voor een kop soep met brood.
URL:https://neerbosch.nu/activiteit/soepie-doen/2030-04-03/
ATTACH;FMTTYPE=image/jpeg:https://neerbosch.nu/wp-content/uploads/2026/04/Soepie-doen-header.jpg
END:VEVENT
BEGIN:VEVENT
DTSTART;TZID=Europe/Paris:20300501T100000
DTEND;TZID=Europe/Paris:20300501T140000
DTSTAMP:20260425T165510
CREATED:20260408T113720Z
LAST-MODIFIED:20260408T113821Z
UID:10000152-1903860000-1903874400@neerbosch.nu
SUMMARY:Soepie doen?
DESCRIPTION:Elke eerste woensdag van de maand kun je rond de lunch een soepie doen bij De Schalmei. Mee koken kan vanaf 10:00\, maar alleen aansluiten voor de soep mag ook om 12:00. Kosten €1\,50 voor een kop soep met brood.
URL:https://neerbosch.nu/activiteit/soepie-doen/2030-05-01/
ATTACH;FMTTYPE=image/jpeg:https://neerbosch.nu/wp-content/uploads/2026/04/Soepie-doen-header.jpg
END:VEVENT
BEGIN:VEVENT
DTSTART;TZID=Europe/Paris:20300605T100000
DTEND;TZID=Europe/Paris:20300605T140000
DTSTAMP:20260425T165510
CREATED:20260408T113720Z
LAST-MODIFIED:20260408T113821Z
UID:10000153-1906884000-1906898400@neerbosch.nu
SUMMARY:Soepie doen?
DESCRIPTION:Elke eerste woensdag van de maand kun je rond de lunch een soepie doen bij De Schalmei. Mee koken kan vanaf 10:00\, maar alleen aansluiten voor de soep mag ook om 12:00. Kosten €1\,50 voor een kop soep met brood.
URL:https://neerbosch.nu/activiteit/soepie-doen/2030-06-05/
ATTACH;FMTTYPE=image/jpeg:https://neerbosch.nu/wp-content/uploads/2026/04/Soepie-doen-header.jpg
END:VEVENT
BEGIN:VEVENT
DTSTART;TZID=Europe/Paris:20300703T100000
DTEND;TZID=Europe/Paris:20300703T140000
DTSTAMP:20260425T165510
CREATED:20260408T113720Z
LAST-MODIFIED:20260408T113821Z
UID:10000154-1909303200-1909317600@neerbosch.nu
SUMMARY:Soepie doen?
DESCRIPTION:Elke eerste woensdag van de maand kun je rond de lunch een soepie doen bij De Schalmei. Mee koken kan vanaf 10:00\, maar alleen aansluiten voor de soep mag ook om 12:00. Kosten €1\,50 voor een kop soep met brood.
URL:https://neerbosch.nu/activiteit/soepie-doen/2030-07-03/
ATTACH;FMTTYPE=image/jpeg:https://neerbosch.nu/wp-content/uploads/2026/04/Soepie-doen-header.jpg
END:VEVENT
BEGIN:VEVENT
DTSTART;TZID=Europe/Paris:20300807T100000
DTEND;TZID=Europe/Paris:20300807T140000
DTSTAMP:20260425T165510
CREATED:20260408T113720Z
LAST-MODIFIED:20260408T113821Z
UID:10000155-1912327200-1912341600@neerbosch.nu
SUMMARY:Soepie doen?
DESCRIPTION:Elke eerste woensdag van de maand kun je rond de lunch een soepie doen bij De Schalmei. Mee koken kan vanaf 10:00\, maar alleen aansluiten voor de soep mag ook om 12:00. Kosten €1\,50 voor een kop soep met brood.
URL:https://neerbosch.nu/activiteit/soepie-doen/2030-08-07/
ATTACH;FMTTYPE=image/jpeg:https://neerbosch.nu/wp-content/uploads/2026/04/Soepie-doen-header.jpg
END:VEVENT
BEGIN:VEVENT
DTSTART;TZID=Europe/Paris:20300904T100000
DTEND;TZID=Europe/Paris:20300904T140000
DTSTAMP:20260425T165510
CREATED:20260408T113720Z
LAST-MODIFIED:20260408T113821Z
UID:10000156-1914746400-1914760800@neerbosch.nu
SUMMARY:Soepie doen?
DESCRIPTION:Elke eerste woensdag van de maand kun je rond de lunch een soepie doen bij De Schalmei. Mee koken kan vanaf 10:00\, maar alleen aansluiten voor de soep mag ook om 12:00. Kosten €1\,50 voor een kop soep met brood.
URL:https://neerbosch.nu/activiteit/soepie-doen/2030-09-04/
ATTACH;FMTTYPE=image/jpeg:https://neerbosch.nu/wp-content/uploads/2026/04/Soepie-doen-header.jpg
END:VEVENT
BEGIN:VEVENT
DTSTART;TZID=Europe/Paris:20301002T100000
DTEND;TZID=Europe/Paris:20301002T140000
DTSTAMP:20260425T165510
CREATED:20260408T113720Z
LAST-MODIFIED:20260408T113821Z
UID:10000157-1917165600-1917180000@neerbosch.nu
SUMMARY:Soepie doen?
DESCRIPTION:Elke eerste woensdag van de maand kun je rond de lunch een soepie doen bij De Schalmei. Mee koken kan vanaf 10:00\, maar alleen aansluiten voor de soep mag ook om 12:00. Kosten €1\,50 voor een kop soep met brood.
URL:https://neerbosch.nu/activiteit/soepie-doen/2030-10-02/
ATTACH;FMTTYPE=image/jpeg:https://neerbosch.nu/wp-content/uploads/2026/04/Soepie-doen-header.jpg
END:VEVENT
BEGIN:VEVENT
DTSTART;TZID=Europe/Paris:20301106T100000
DTEND;TZID=Europe/Paris:20301106T140000
DTSTAMP:20260425T165510
CREATED:20260408T113720Z
LAST-MODIFIED:20260408T113821Z
UID:10000158-1920189600-1920204000@neerbosch.nu
SUMMARY:Soepie doen?
DESCRIPTION:Elke eerste woensdag van de maand kun je rond de lunch een soepie doen bij De Schalmei. Mee koken kan vanaf 10:00\, maar alleen aansluiten voor de soep mag ook om 12:00. Kosten €1\,50 voor een kop soep met brood.
URL:https://neerbosch.nu/activiteit/soepie-doen/2030-11-06/
ATTACH;FMTTYPE=image/jpeg:https://neerbosch.nu/wp-content/uploads/2026/04/Soepie-doen-header.jpg
END:VEVENT
BEGIN:VEVENT
DTSTART;TZID=Europe/Paris:20301204T100000
DTEND;TZID=Europe/Paris:20301204T140000
DTSTAMP:20260425T165510
CREATED:20260408T113720Z
LAST-MODIFIED:20260408T113821Z
UID:10000159-1922608800-1922623200@neerbosch.nu
SUMMARY:Soepie doen?
DESCRIPTION:Elke eerste woensdag van de maand kun je rond de lunch een soepie doen bij De Schalmei. Mee koken kan vanaf 10:00\, maar alleen aansluiten voor de soep mag ook om 12:00. Kosten €1\,50 voor een kop soep met brood.
URL:https://neerbosch.nu/activiteit/soepie-doen/2030-12-04/
ATTACH;FMTTYPE=image/jpeg:https://neerbosch.nu/wp-content/uploads/2026/04/Soepie-doen-header.jpg
END:VEVENT
BEGIN:VEVENT
DTSTART;TZID=Europe/Paris:20310101T100000
DTEND;TZID=Europe/Paris:20310101T140000
DTSTAMP:20260425T165510
CREATED:20260408T113720Z
LAST-MODIFIED:20260408T113821Z
UID:10000160-1925028000-1925042400@neerbosch.nu
SUMMARY:Soepie doen?
DESCRIPTION:Elke eerste woensdag van de maand kun je rond de lunch een soepie doen bij De Schalmei. Mee koken kan vanaf 10:00\, maar alleen aansluiten voor de soep mag ook om 12:00. Kosten €1\,50 voor een kop soep met brood.
URL:https://neerbosch.nu/activiteit/soepie-doen/2031-01-01/
ATTACH;FMTTYPE=image/jpeg:https://neerbosch.nu/wp-content/uploads/2026/04/Soepie-doen-header.jpg
END:VEVENT
BEGIN:VEVENT
DTSTART;TZID=Europe/Paris:20310205T100000
DTEND;TZID=Europe/Paris:20310205T140000
DTSTAMP:20260425T165510
CREATED:20260408T113720Z
LAST-MODIFIED:20260408T113821Z
UID:10000161-1928052000-1928066400@neerbosch.nu
SUMMARY:Soepie doen?
DESCRIPTION:Elke eerste woensdag van de maand kun je rond de lunch een soepie doen bij De Schalmei. Mee koken kan vanaf 10:00\, maar alleen aansluiten voor de soep mag ook om 12:00. Kosten €1\,50 voor een kop soep met brood.
URL:https://neerbosch.nu/activiteit/soepie-doen/2031-02-05/
ATTACH;FMTTYPE=image/jpeg:https://neerbosch.nu/wp-content/uploads/2026/04/Soepie-doen-header.jpg
END:VEVENT
BEGIN:VEVENT
DTSTART;TZID=Europe/Paris:20310305T100000
DTEND;TZID=Europe/Paris:20310305T140000
DTSTAMP:20260425T165510
CREATED:20260408T113720Z
LAST-MODIFIED:20260408T113821Z
UID:10000162-1930471200-1930485600@neerbosch.nu
SUMMARY:Soepie doen?
DESCRIPTION:Elke eerste woensdag van de maand kun je rond de lunch een soepie doen bij De Schalmei. Mee koken kan vanaf 10:00\, maar alleen aansluiten voor de soep mag ook om 12:00. Kosten €1\,50 voor een kop soep met brood.
URL:https://neerbosch.nu/activiteit/soepie-doen/2031-03-05/
ATTACH;FMTTYPE=image/jpeg:https://neerbosch.nu/wp-content/uploads/2026/04/Soepie-doen-header.jpg
END:VEVENT
BEGIN:VEVENT
DTSTART;TZID=Europe/Paris:20310402T100000
DTEND;TZID=Europe/Paris:20310402T140000
DTSTAMP:20260425T165510
CREATED:20260408T113720Z
LAST-MODIFIED:20260408T113821Z
UID:10000163-1932890400-1932904800@neerbosch.nu
SUMMARY:Soepie doen?
DESCRIPTION:Elke eerste woensdag van de maand kun je rond de lunch een soepie doen bij De Schalmei. Mee koken kan vanaf 10:00\, maar alleen aansluiten voor de soep mag ook om 12:00. Kosten €1\,50 voor een kop soep met brood.
URL:https://neerbosch.nu/activiteit/soepie-doen/2031-04-02/
ATTACH;FMTTYPE=image/jpeg:https://neerbosch.nu/wp-content/uploads/2026/04/Soepie-doen-header.jpg
END:VEVENT
END:VCALENDAR