BEGIN:VCALENDAR
VERSION:2.0
PRODID:-//Neerbosch Nu - ECPv6.15.18//NONSGML v1.0//EN
CALSCALE:GREGORIAN
METHOD:PUBLISH
X-ORIGINAL-URL:https://neerbosch.nu
X-WR-CALDESC:Evenementen voor Neerbosch Nu
REFRESH-INTERVAL;VALUE=DURATION:PT1H
X-Robots-Tag:noindex
X-PUBLISHED-TTL:PT1H
BEGIN:VTIMEZONE
TZID:Europe/Paris
BEGIN:DAYLIGHT
TZOFFSETFROM:+0100
TZOFFSETTO:+0200
TZNAME:CEST
DTSTART:20250330T010000
END:DAYLIGHT
BEGIN:STANDARD
TZOFFSETFROM:+0200
TZOFFSETTO:+0100
TZNAME:CET
DTSTART:20251026T010000
END:STANDARD
BEGIN:DAYLIGHT
TZOFFSETFROM:+0100
TZOFFSETTO:+0200
TZNAME:CEST
DTSTART:20260329T010000
END:DAYLIGHT
BEGIN:STANDARD
TZOFFSETFROM:+0200
TZOFFSETTO:+0100
TZNAME:CET
DTSTART:20261025T010000
END:STANDARD
BEGIN:DAYLIGHT
TZOFFSETFROM:+0100
TZOFFSETTO:+0200
TZNAME:CEST
DTSTART:20270328T010000
END:DAYLIGHT
BEGIN:STANDARD
TZOFFSETFROM:+0200
TZOFFSETTO:+0100
TZNAME:CET
DTSTART:20271031T010000
END:STANDARD
BEGIN:DAYLIGHT
TZOFFSETFROM:+0100
TZOFFSETTO:+0200
TZNAME:CEST
DTSTART:20280326T010000
END:DAYLIGHT
BEGIN:STANDARD
TZOFFSETFROM:+0200
TZOFFSETTO:+0100
TZNAME:CET
DTSTART:20281029T010000
END:STANDARD
END:VTIMEZONE
BEGIN:VEVENT
DTSTART;TZID=Europe/Paris:20261130T193000
DTEND;TZID=Europe/Paris:20261130T213000
DTSTAMP:20260425T133305
CREATED:20260424T100201Z
LAST-MODIFIED:20260424T100201Z
UID:10001298-1796067000-1796074200@neerbosch.nu
SUMMARY:Salonorkest Symfonia
DESCRIPTION:Op maandagavond om 19:30 oefent salonorkest Symphonia in De Schalmei. Zij zoeken nieuwe muzikanten. \nSalonorkest Symphonia is een orkest voor amateur-musici die voor hun plezier met muziek bezig willen zijn.\nWe hebben een uitgebreid repertoire dat bestaat uit licht klassieke\, populaire muziek\, zoals melodieën uit opera’s en operettes\, bekende walsen\, marsen\, tango’s\, liederen.
URL:https://neerbosch.nu/activiteit/salonorkest-symfonia/2026-11-30/
LOCATION:Wijkcentrum De Schalmei\, Symfoniestraat 204\, Nijmegen\, 6544 TN
ATTACH;FMTTYPE=image/jpeg:https://neerbosch.nu/wp-content/uploads/2026/04/viool-scaled.jpg
END:VEVENT
BEGIN:VEVENT
DTSTART;TZID=Europe/Paris:20261207T193000
DTEND;TZID=Europe/Paris:20261207T213000
DTSTAMP:20260425T133305
CREATED:20260424T100201Z
LAST-MODIFIED:20260424T100201Z
UID:10001299-1796671800-1796679000@neerbosch.nu
SUMMARY:Salonorkest Symfonia
DESCRIPTION:Op maandagavond om 19:30 oefent salonorkest Symphonia in De Schalmei. Zij zoeken nieuwe muzikanten. \nSalonorkest Symphonia is een orkest voor amateur-musici die voor hun plezier met muziek bezig willen zijn.\nWe hebben een uitgebreid repertoire dat bestaat uit licht klassieke\, populaire muziek\, zoals melodieën uit opera’s en operettes\, bekende walsen\, marsen\, tango’s\, liederen.
URL:https://neerbosch.nu/activiteit/salonorkest-symfonia/2026-12-07/
LOCATION:Wijkcentrum De Schalmei\, Symfoniestraat 204\, Nijmegen\, 6544 TN
ATTACH;FMTTYPE=image/jpeg:https://neerbosch.nu/wp-content/uploads/2026/04/viool-scaled.jpg
END:VEVENT
BEGIN:VEVENT
DTSTART;TZID=Europe/Paris:20261214T193000
DTEND;TZID=Europe/Paris:20261214T213000
DTSTAMP:20260425T133305
CREATED:20260424T100201Z
LAST-MODIFIED:20260424T100201Z
UID:10001300-1797276600-1797283800@neerbosch.nu
SUMMARY:Salonorkest Symfonia
DESCRIPTION:Op maandagavond om 19:30 oefent salonorkest Symphonia in De Schalmei. Zij zoeken nieuwe muzikanten. \nSalonorkest Symphonia is een orkest voor amateur-musici die voor hun plezier met muziek bezig willen zijn.\nWe hebben een uitgebreid repertoire dat bestaat uit licht klassieke\, populaire muziek\, zoals melodieën uit opera’s en operettes\, bekende walsen\, marsen\, tango’s\, liederen.
URL:https://neerbosch.nu/activiteit/salonorkest-symfonia/2026-12-14/
LOCATION:Wijkcentrum De Schalmei\, Symfoniestraat 204\, Nijmegen\, 6544 TN
ATTACH;FMTTYPE=image/jpeg:https://neerbosch.nu/wp-content/uploads/2026/04/viool-scaled.jpg
END:VEVENT
BEGIN:VEVENT
DTSTART;TZID=Europe/Paris:20261221T193000
DTEND;TZID=Europe/Paris:20261221T213000
DTSTAMP:20260425T133305
CREATED:20260424T100201Z
LAST-MODIFIED:20260424T100201Z
UID:10001301-1797881400-1797888600@neerbosch.nu
SUMMARY:Salonorkest Symfonia
DESCRIPTION:Op maandagavond om 19:30 oefent salonorkest Symphonia in De Schalmei. Zij zoeken nieuwe muzikanten. \nSalonorkest Symphonia is een orkest voor amateur-musici die voor hun plezier met muziek bezig willen zijn.\nWe hebben een uitgebreid repertoire dat bestaat uit licht klassieke\, populaire muziek\, zoals melodieën uit opera’s en operettes\, bekende walsen\, marsen\, tango’s\, liederen.
URL:https://neerbosch.nu/activiteit/salonorkest-symfonia/2026-12-21/
LOCATION:Wijkcentrum De Schalmei\, Symfoniestraat 204\, Nijmegen\, 6544 TN
ATTACH;FMTTYPE=image/jpeg:https://neerbosch.nu/wp-content/uploads/2026/04/viool-scaled.jpg
END:VEVENT
BEGIN:VEVENT
DTSTART;TZID=Europe/Paris:20261228T193000
DTEND;TZID=Europe/Paris:20261228T213000
DTSTAMP:20260425T133305
CREATED:20260424T100201Z
LAST-MODIFIED:20260424T100201Z
UID:10001302-1798486200-1798493400@neerbosch.nu
SUMMARY:Salonorkest Symfonia
DESCRIPTION:Op maandagavond om 19:30 oefent salonorkest Symphonia in De Schalmei. Zij zoeken nieuwe muzikanten. \nSalonorkest Symphonia is een orkest voor amateur-musici die voor hun plezier met muziek bezig willen zijn.\nWe hebben een uitgebreid repertoire dat bestaat uit licht klassieke\, populaire muziek\, zoals melodieën uit opera’s en operettes\, bekende walsen\, marsen\, tango’s\, liederen.
URL:https://neerbosch.nu/activiteit/salonorkest-symfonia/2026-12-28/
LOCATION:Wijkcentrum De Schalmei\, Symfoniestraat 204\, Nijmegen\, 6544 TN
ATTACH;FMTTYPE=image/jpeg:https://neerbosch.nu/wp-content/uploads/2026/04/viool-scaled.jpg
END:VEVENT
BEGIN:VEVENT
DTSTART;TZID=Europe/Paris:20270104T193000
DTEND;TZID=Europe/Paris:20270104T213000
DTSTAMP:20260425T133305
CREATED:20260424T100201Z
LAST-MODIFIED:20260424T100201Z
UID:10001303-1799091000-1799098200@neerbosch.nu
SUMMARY:Salonorkest Symfonia
DESCRIPTION:Op maandagavond om 19:30 oefent salonorkest Symphonia in De Schalmei. Zij zoeken nieuwe muzikanten. \nSalonorkest Symphonia is een orkest voor amateur-musici die voor hun plezier met muziek bezig willen zijn.\nWe hebben een uitgebreid repertoire dat bestaat uit licht klassieke\, populaire muziek\, zoals melodieën uit opera’s en operettes\, bekende walsen\, marsen\, tango’s\, liederen.
URL:https://neerbosch.nu/activiteit/salonorkest-symfonia/2027-01-04/
LOCATION:Wijkcentrum De Schalmei\, Symfoniestraat 204\, Nijmegen\, 6544 TN
ATTACH;FMTTYPE=image/jpeg:https://neerbosch.nu/wp-content/uploads/2026/04/viool-scaled.jpg
END:VEVENT
BEGIN:VEVENT
DTSTART;TZID=Europe/Paris:20270111T193000
DTEND;TZID=Europe/Paris:20270111T213000
DTSTAMP:20260425T133305
CREATED:20260424T100201Z
LAST-MODIFIED:20260424T100201Z
UID:10001304-1799695800-1799703000@neerbosch.nu
SUMMARY:Salonorkest Symfonia
DESCRIPTION:Op maandagavond om 19:30 oefent salonorkest Symphonia in De Schalmei. Zij zoeken nieuwe muzikanten. \nSalonorkest Symphonia is een orkest voor amateur-musici die voor hun plezier met muziek bezig willen zijn.\nWe hebben een uitgebreid repertoire dat bestaat uit licht klassieke\, populaire muziek\, zoals melodieën uit opera’s en operettes\, bekende walsen\, marsen\, tango’s\, liederen.
URL:https://neerbosch.nu/activiteit/salonorkest-symfonia/2027-01-11/
LOCATION:Wijkcentrum De Schalmei\, Symfoniestraat 204\, Nijmegen\, 6544 TN
ATTACH;FMTTYPE=image/jpeg:https://neerbosch.nu/wp-content/uploads/2026/04/viool-scaled.jpg
END:VEVENT
BEGIN:VEVENT
DTSTART;TZID=Europe/Paris:20270118T193000
DTEND;TZID=Europe/Paris:20270118T213000
DTSTAMP:20260425T133305
CREATED:20260424T100201Z
LAST-MODIFIED:20260424T100201Z
UID:10001305-1800300600-1800307800@neerbosch.nu
SUMMARY:Salonorkest Symfonia
DESCRIPTION:Op maandagavond om 19:30 oefent salonorkest Symphonia in De Schalmei. Zij zoeken nieuwe muzikanten. \nSalonorkest Symphonia is een orkest voor amateur-musici die voor hun plezier met muziek bezig willen zijn.\nWe hebben een uitgebreid repertoire dat bestaat uit licht klassieke\, populaire muziek\, zoals melodieën uit opera’s en operettes\, bekende walsen\, marsen\, tango’s\, liederen.
URL:https://neerbosch.nu/activiteit/salonorkest-symfonia/2027-01-18/
LOCATION:Wijkcentrum De Schalmei\, Symfoniestraat 204\, Nijmegen\, 6544 TN
ATTACH;FMTTYPE=image/jpeg:https://neerbosch.nu/wp-content/uploads/2026/04/viool-scaled.jpg
END:VEVENT
BEGIN:VEVENT
DTSTART;TZID=Europe/Paris:20270125T193000
DTEND;TZID=Europe/Paris:20270125T213000
DTSTAMP:20260425T133305
CREATED:20260424T100201Z
LAST-MODIFIED:20260424T100201Z
UID:10001306-1800905400-1800912600@neerbosch.nu
SUMMARY:Salonorkest Symfonia
DESCRIPTION:Op maandagavond om 19:30 oefent salonorkest Symphonia in De Schalmei. Zij zoeken nieuwe muzikanten. \nSalonorkest Symphonia is een orkest voor amateur-musici die voor hun plezier met muziek bezig willen zijn.\nWe hebben een uitgebreid repertoire dat bestaat uit licht klassieke\, populaire muziek\, zoals melodieën uit opera’s en operettes\, bekende walsen\, marsen\, tango’s\, liederen.
URL:https://neerbosch.nu/activiteit/salonorkest-symfonia/2027-01-25/
LOCATION:Wijkcentrum De Schalmei\, Symfoniestraat 204\, Nijmegen\, 6544 TN
ATTACH;FMTTYPE=image/jpeg:https://neerbosch.nu/wp-content/uploads/2026/04/viool-scaled.jpg
END:VEVENT
BEGIN:VEVENT
DTSTART;TZID=Europe/Paris:20270201T193000
DTEND;TZID=Europe/Paris:20270201T213000
DTSTAMP:20260425T133305
CREATED:20260424T100201Z
LAST-MODIFIED:20260424T100201Z
UID:10001307-1801510200-1801517400@neerbosch.nu
SUMMARY:Salonorkest Symfonia
DESCRIPTION:Op maandagavond om 19:30 oefent salonorkest Symphonia in De Schalmei. Zij zoeken nieuwe muzikanten. \nSalonorkest Symphonia is een orkest voor amateur-musici die voor hun plezier met muziek bezig willen zijn.\nWe hebben een uitgebreid repertoire dat bestaat uit licht klassieke\, populaire muziek\, zoals melodieën uit opera’s en operettes\, bekende walsen\, marsen\, tango’s\, liederen.
URL:https://neerbosch.nu/activiteit/salonorkest-symfonia/2027-02-01/
LOCATION:Wijkcentrum De Schalmei\, Symfoniestraat 204\, Nijmegen\, 6544 TN
ATTACH;FMTTYPE=image/jpeg:https://neerbosch.nu/wp-content/uploads/2026/04/viool-scaled.jpg
END:VEVENT
BEGIN:VEVENT
DTSTART;TZID=Europe/Paris:20270208T193000
DTEND;TZID=Europe/Paris:20270208T213000
DTSTAMP:20260425T133305
CREATED:20260424T100201Z
LAST-MODIFIED:20260424T100201Z
UID:10001308-1802115000-1802122200@neerbosch.nu
SUMMARY:Salonorkest Symfonia
DESCRIPTION:Op maandagavond om 19:30 oefent salonorkest Symphonia in De Schalmei. Zij zoeken nieuwe muzikanten. \nSalonorkest Symphonia is een orkest voor amateur-musici die voor hun plezier met muziek bezig willen zijn.\nWe hebben een uitgebreid repertoire dat bestaat uit licht klassieke\, populaire muziek\, zoals melodieën uit opera’s en operettes\, bekende walsen\, marsen\, tango’s\, liederen.
URL:https://neerbosch.nu/activiteit/salonorkest-symfonia/2027-02-08/
LOCATION:Wijkcentrum De Schalmei\, Symfoniestraat 204\, Nijmegen\, 6544 TN
ATTACH;FMTTYPE=image/jpeg:https://neerbosch.nu/wp-content/uploads/2026/04/viool-scaled.jpg
END:VEVENT
BEGIN:VEVENT
DTSTART;TZID=Europe/Paris:20270215T193000
DTEND;TZID=Europe/Paris:20270215T213000
DTSTAMP:20260425T133305
CREATED:20260424T100201Z
LAST-MODIFIED:20260424T100201Z
UID:10001309-1802719800-1802727000@neerbosch.nu
SUMMARY:Salonorkest Symfonia
DESCRIPTION:Op maandagavond om 19:30 oefent salonorkest Symphonia in De Schalmei. Zij zoeken nieuwe muzikanten. \nSalonorkest Symphonia is een orkest voor amateur-musici die voor hun plezier met muziek bezig willen zijn.\nWe hebben een uitgebreid repertoire dat bestaat uit licht klassieke\, populaire muziek\, zoals melodieën uit opera’s en operettes\, bekende walsen\, marsen\, tango’s\, liederen.
URL:https://neerbosch.nu/activiteit/salonorkest-symfonia/2027-02-15/
LOCATION:Wijkcentrum De Schalmei\, Symfoniestraat 204\, Nijmegen\, 6544 TN
ATTACH;FMTTYPE=image/jpeg:https://neerbosch.nu/wp-content/uploads/2026/04/viool-scaled.jpg
END:VEVENT
BEGIN:VEVENT
DTSTART;TZID=Europe/Paris:20270222T193000
DTEND;TZID=Europe/Paris:20270222T213000
DTSTAMP:20260425T133305
CREATED:20260424T100201Z
LAST-MODIFIED:20260424T100201Z
UID:10001310-1803324600-1803331800@neerbosch.nu
SUMMARY:Salonorkest Symfonia
DESCRIPTION:Op maandagavond om 19:30 oefent salonorkest Symphonia in De Schalmei. Zij zoeken nieuwe muzikanten. \nSalonorkest Symphonia is een orkest voor amateur-musici die voor hun plezier met muziek bezig willen zijn.\nWe hebben een uitgebreid repertoire dat bestaat uit licht klassieke\, populaire muziek\, zoals melodieën uit opera’s en operettes\, bekende walsen\, marsen\, tango’s\, liederen.
URL:https://neerbosch.nu/activiteit/salonorkest-symfonia/2027-02-22/
LOCATION:Wijkcentrum De Schalmei\, Symfoniestraat 204\, Nijmegen\, 6544 TN
ATTACH;FMTTYPE=image/jpeg:https://neerbosch.nu/wp-content/uploads/2026/04/viool-scaled.jpg
END:VEVENT
BEGIN:VEVENT
DTSTART;TZID=Europe/Paris:20270301T193000
DTEND;TZID=Europe/Paris:20270301T213000
DTSTAMP:20260425T133305
CREATED:20260424T100201Z
LAST-MODIFIED:20260424T100201Z
UID:10001311-1803929400-1803936600@neerbosch.nu
SUMMARY:Salonorkest Symfonia
DESCRIPTION:Op maandagavond om 19:30 oefent salonorkest Symphonia in De Schalmei. Zij zoeken nieuwe muzikanten. \nSalonorkest Symphonia is een orkest voor amateur-musici die voor hun plezier met muziek bezig willen zijn.\nWe hebben een uitgebreid repertoire dat bestaat uit licht klassieke\, populaire muziek\, zoals melodieën uit opera’s en operettes\, bekende walsen\, marsen\, tango’s\, liederen.
URL:https://neerbosch.nu/activiteit/salonorkest-symfonia/2027-03-01/
LOCATION:Wijkcentrum De Schalmei\, Symfoniestraat 204\, Nijmegen\, 6544 TN
ATTACH;FMTTYPE=image/jpeg:https://neerbosch.nu/wp-content/uploads/2026/04/viool-scaled.jpg
END:VEVENT
BEGIN:VEVENT
DTSTART;TZID=Europe/Paris:20270308T193000
DTEND;TZID=Europe/Paris:20270308T213000
DTSTAMP:20260425T133305
CREATED:20260424T100201Z
LAST-MODIFIED:20260424T100201Z
UID:10001312-1804534200-1804541400@neerbosch.nu
SUMMARY:Salonorkest Symfonia
DESCRIPTION:Op maandagavond om 19:30 oefent salonorkest Symphonia in De Schalmei. Zij zoeken nieuwe muzikanten. \nSalonorkest Symphonia is een orkest voor amateur-musici die voor hun plezier met muziek bezig willen zijn.\nWe hebben een uitgebreid repertoire dat bestaat uit licht klassieke\, populaire muziek\, zoals melodieën uit opera’s en operettes\, bekende walsen\, marsen\, tango’s\, liederen.
URL:https://neerbosch.nu/activiteit/salonorkest-symfonia/2027-03-08/
LOCATION:Wijkcentrum De Schalmei\, Symfoniestraat 204\, Nijmegen\, 6544 TN
ATTACH;FMTTYPE=image/jpeg:https://neerbosch.nu/wp-content/uploads/2026/04/viool-scaled.jpg
END:VEVENT
BEGIN:VEVENT
DTSTART;TZID=Europe/Paris:20270315T193000
DTEND;TZID=Europe/Paris:20270315T213000
DTSTAMP:20260425T133305
CREATED:20260424T100201Z
LAST-MODIFIED:20260424T100201Z
UID:10001313-1805139000-1805146200@neerbosch.nu
SUMMARY:Salonorkest Symfonia
DESCRIPTION:Op maandagavond om 19:30 oefent salonorkest Symphonia in De Schalmei. Zij zoeken nieuwe muzikanten. \nSalonorkest Symphonia is een orkest voor amateur-musici die voor hun plezier met muziek bezig willen zijn.\nWe hebben een uitgebreid repertoire dat bestaat uit licht klassieke\, populaire muziek\, zoals melodieën uit opera’s en operettes\, bekende walsen\, marsen\, tango’s\, liederen.
URL:https://neerbosch.nu/activiteit/salonorkest-symfonia/2027-03-15/
LOCATION:Wijkcentrum De Schalmei\, Symfoniestraat 204\, Nijmegen\, 6544 TN
ATTACH;FMTTYPE=image/jpeg:https://neerbosch.nu/wp-content/uploads/2026/04/viool-scaled.jpg
END:VEVENT
BEGIN:VEVENT
DTSTART;TZID=Europe/Paris:20270322T193000
DTEND;TZID=Europe/Paris:20270322T213000
DTSTAMP:20260425T133305
CREATED:20260424T100201Z
LAST-MODIFIED:20260424T100201Z
UID:10001314-1805743800-1805751000@neerbosch.nu
SUMMARY:Salonorkest Symfonia
DESCRIPTION:Op maandagavond om 19:30 oefent salonorkest Symphonia in De Schalmei. Zij zoeken nieuwe muzikanten. \nSalonorkest Symphonia is een orkest voor amateur-musici die voor hun plezier met muziek bezig willen zijn.\nWe hebben een uitgebreid repertoire dat bestaat uit licht klassieke\, populaire muziek\, zoals melodieën uit opera’s en operettes\, bekende walsen\, marsen\, tango’s\, liederen.
URL:https://neerbosch.nu/activiteit/salonorkest-symfonia/2027-03-22/
LOCATION:Wijkcentrum De Schalmei\, Symfoniestraat 204\, Nijmegen\, 6544 TN
ATTACH;FMTTYPE=image/jpeg:https://neerbosch.nu/wp-content/uploads/2026/04/viool-scaled.jpg
END:VEVENT
BEGIN:VEVENT
DTSTART;TZID=Europe/Paris:20270329T193000
DTEND;TZID=Europe/Paris:20270329T213000
DTSTAMP:20260425T133305
CREATED:20260424T100201Z
LAST-MODIFIED:20260424T100201Z
UID:10001315-1806348600-1806355800@neerbosch.nu
SUMMARY:Salonorkest Symfonia
DESCRIPTION:Op maandagavond om 19:30 oefent salonorkest Symphonia in De Schalmei. Zij zoeken nieuwe muzikanten. \nSalonorkest Symphonia is een orkest voor amateur-musici die voor hun plezier met muziek bezig willen zijn.\nWe hebben een uitgebreid repertoire dat bestaat uit licht klassieke\, populaire muziek\, zoals melodieën uit opera’s en operettes\, bekende walsen\, marsen\, tango’s\, liederen.
URL:https://neerbosch.nu/activiteit/salonorkest-symfonia/2027-03-29/
LOCATION:Wijkcentrum De Schalmei\, Symfoniestraat 204\, Nijmegen\, 6544 TN
ATTACH;FMTTYPE=image/jpeg:https://neerbosch.nu/wp-content/uploads/2026/04/viool-scaled.jpg
END:VEVENT
BEGIN:VEVENT
DTSTART;TZID=Europe/Paris:20270405T193000
DTEND;TZID=Europe/Paris:20270405T213000
DTSTAMP:20260425T133305
CREATED:20260424T100201Z
LAST-MODIFIED:20260424T100201Z
UID:10001316-1806953400-1806960600@neerbosch.nu
SUMMARY:Salonorkest Symfonia
DESCRIPTION:Op maandagavond om 19:30 oefent salonorkest Symphonia in De Schalmei. Zij zoeken nieuwe muzikanten. \nSalonorkest Symphonia is een orkest voor amateur-musici die voor hun plezier met muziek bezig willen zijn.\nWe hebben een uitgebreid repertoire dat bestaat uit licht klassieke\, populaire muziek\, zoals melodieën uit opera’s en operettes\, bekende walsen\, marsen\, tango’s\, liederen.
URL:https://neerbosch.nu/activiteit/salonorkest-symfonia/2027-04-05/
LOCATION:Wijkcentrum De Schalmei\, Symfoniestraat 204\, Nijmegen\, 6544 TN
ATTACH;FMTTYPE=image/jpeg:https://neerbosch.nu/wp-content/uploads/2026/04/viool-scaled.jpg
END:VEVENT
BEGIN:VEVENT
DTSTART;TZID=Europe/Paris:20270412T193000
DTEND;TZID=Europe/Paris:20270412T213000
DTSTAMP:20260425T133305
CREATED:20260424T100201Z
LAST-MODIFIED:20260424T100201Z
UID:10001317-1807558200-1807565400@neerbosch.nu
SUMMARY:Salonorkest Symfonia
DESCRIPTION:Op maandagavond om 19:30 oefent salonorkest Symphonia in De Schalmei. Zij zoeken nieuwe muzikanten. \nSalonorkest Symphonia is een orkest voor amateur-musici die voor hun plezier met muziek bezig willen zijn.\nWe hebben een uitgebreid repertoire dat bestaat uit licht klassieke\, populaire muziek\, zoals melodieën uit opera’s en operettes\, bekende walsen\, marsen\, tango’s\, liederen.
URL:https://neerbosch.nu/activiteit/salonorkest-symfonia/2027-04-12/
LOCATION:Wijkcentrum De Schalmei\, Symfoniestraat 204\, Nijmegen\, 6544 TN
ATTACH;FMTTYPE=image/jpeg:https://neerbosch.nu/wp-content/uploads/2026/04/viool-scaled.jpg
END:VEVENT
BEGIN:VEVENT
DTSTART;TZID=Europe/Paris:20270419T193000
DTEND;TZID=Europe/Paris:20270419T213000
DTSTAMP:20260425T133305
CREATED:20260424T100201Z
LAST-MODIFIED:20260424T100201Z
UID:10001318-1808163000-1808170200@neerbosch.nu
SUMMARY:Salonorkest Symfonia
DESCRIPTION:Op maandagavond om 19:30 oefent salonorkest Symphonia in De Schalmei. Zij zoeken nieuwe muzikanten. \nSalonorkest Symphonia is een orkest voor amateur-musici die voor hun plezier met muziek bezig willen zijn.\nWe hebben een uitgebreid repertoire dat bestaat uit licht klassieke\, populaire muziek\, zoals melodieën uit opera’s en operettes\, bekende walsen\, marsen\, tango’s\, liederen.
URL:https://neerbosch.nu/activiteit/salonorkest-symfonia/2027-04-19/
LOCATION:Wijkcentrum De Schalmei\, Symfoniestraat 204\, Nijmegen\, 6544 TN
ATTACH;FMTTYPE=image/jpeg:https://neerbosch.nu/wp-content/uploads/2026/04/viool-scaled.jpg
END:VEVENT
BEGIN:VEVENT
DTSTART;TZID=Europe/Paris:20270426T193000
DTEND;TZID=Europe/Paris:20270426T213000
DTSTAMP:20260425T133305
CREATED:20260424T100201Z
LAST-MODIFIED:20260424T100201Z
UID:10001319-1808767800-1808775000@neerbosch.nu
SUMMARY:Salonorkest Symfonia
DESCRIPTION:Op maandagavond om 19:30 oefent salonorkest Symphonia in De Schalmei. Zij zoeken nieuwe muzikanten. \nSalonorkest Symphonia is een orkest voor amateur-musici die voor hun plezier met muziek bezig willen zijn.\nWe hebben een uitgebreid repertoire dat bestaat uit licht klassieke\, populaire muziek\, zoals melodieën uit opera’s en operettes\, bekende walsen\, marsen\, tango’s\, liederen.
URL:https://neerbosch.nu/activiteit/salonorkest-symfonia/2027-04-26/
LOCATION:Wijkcentrum De Schalmei\, Symfoniestraat 204\, Nijmegen\, 6544 TN
ATTACH;FMTTYPE=image/jpeg:https://neerbosch.nu/wp-content/uploads/2026/04/viool-scaled.jpg
END:VEVENT
BEGIN:VEVENT
DTSTART;TZID=Europe/Paris:20270503T193000
DTEND;TZID=Europe/Paris:20270503T213000
DTSTAMP:20260425T133305
CREATED:20260424T100201Z
LAST-MODIFIED:20260424T100201Z
UID:10001320-1809372600-1809379800@neerbosch.nu
SUMMARY:Salonorkest Symfonia
DESCRIPTION:Op maandagavond om 19:30 oefent salonorkest Symphonia in De Schalmei. Zij zoeken nieuwe muzikanten. \nSalonorkest Symphonia is een orkest voor amateur-musici die voor hun plezier met muziek bezig willen zijn.\nWe hebben een uitgebreid repertoire dat bestaat uit licht klassieke\, populaire muziek\, zoals melodieën uit opera’s en operettes\, bekende walsen\, marsen\, tango’s\, liederen.
URL:https://neerbosch.nu/activiteit/salonorkest-symfonia/2027-05-03/
LOCATION:Wijkcentrum De Schalmei\, Symfoniestraat 204\, Nijmegen\, 6544 TN
ATTACH;FMTTYPE=image/jpeg:https://neerbosch.nu/wp-content/uploads/2026/04/viool-scaled.jpg
END:VEVENT
BEGIN:VEVENT
DTSTART;TZID=Europe/Paris:20270510T193000
DTEND;TZID=Europe/Paris:20270510T213000
DTSTAMP:20260425T133305
CREATED:20260424T100201Z
LAST-MODIFIED:20260424T100201Z
UID:10001321-1809977400-1809984600@neerbosch.nu
SUMMARY:Salonorkest Symfonia
DESCRIPTION:Op maandagavond om 19:30 oefent salonorkest Symphonia in De Schalmei. Zij zoeken nieuwe muzikanten. \nSalonorkest Symphonia is een orkest voor amateur-musici die voor hun plezier met muziek bezig willen zijn.\nWe hebben een uitgebreid repertoire dat bestaat uit licht klassieke\, populaire muziek\, zoals melodieën uit opera’s en operettes\, bekende walsen\, marsen\, tango’s\, liederen.
URL:https://neerbosch.nu/activiteit/salonorkest-symfonia/2027-05-10/
LOCATION:Wijkcentrum De Schalmei\, Symfoniestraat 204\, Nijmegen\, 6544 TN
ATTACH;FMTTYPE=image/jpeg:https://neerbosch.nu/wp-content/uploads/2026/04/viool-scaled.jpg
END:VEVENT
BEGIN:VEVENT
DTSTART;TZID=Europe/Paris:20270517T193000
DTEND;TZID=Europe/Paris:20270517T213000
DTSTAMP:20260425T133305
CREATED:20260424T100201Z
LAST-MODIFIED:20260424T100201Z
UID:10001322-1810582200-1810589400@neerbosch.nu
SUMMARY:Salonorkest Symfonia
DESCRIPTION:Op maandagavond om 19:30 oefent salonorkest Symphonia in De Schalmei. Zij zoeken nieuwe muzikanten. \nSalonorkest Symphonia is een orkest voor amateur-musici die voor hun plezier met muziek bezig willen zijn.\nWe hebben een uitgebreid repertoire dat bestaat uit licht klassieke\, populaire muziek\, zoals melodieën uit opera’s en operettes\, bekende walsen\, marsen\, tango’s\, liederen.
URL:https://neerbosch.nu/activiteit/salonorkest-symfonia/2027-05-17/
LOCATION:Wijkcentrum De Schalmei\, Symfoniestraat 204\, Nijmegen\, 6544 TN
ATTACH;FMTTYPE=image/jpeg:https://neerbosch.nu/wp-content/uploads/2026/04/viool-scaled.jpg
END:VEVENT
BEGIN:VEVENT
DTSTART;TZID=Europe/Paris:20270524T193000
DTEND;TZID=Europe/Paris:20270524T213000
DTSTAMP:20260425T133305
CREATED:20260424T100201Z
LAST-MODIFIED:20260424T100201Z
UID:10001323-1811187000-1811194200@neerbosch.nu
SUMMARY:Salonorkest Symfonia
DESCRIPTION:Op maandagavond om 19:30 oefent salonorkest Symphonia in De Schalmei. Zij zoeken nieuwe muzikanten. \nSalonorkest Symphonia is een orkest voor amateur-musici die voor hun plezier met muziek bezig willen zijn.\nWe hebben een uitgebreid repertoire dat bestaat uit licht klassieke\, populaire muziek\, zoals melodieën uit opera’s en operettes\, bekende walsen\, marsen\, tango’s\, liederen.
URL:https://neerbosch.nu/activiteit/salonorkest-symfonia/2027-05-24/
LOCATION:Wijkcentrum De Schalmei\, Symfoniestraat 204\, Nijmegen\, 6544 TN
ATTACH;FMTTYPE=image/jpeg:https://neerbosch.nu/wp-content/uploads/2026/04/viool-scaled.jpg
END:VEVENT
BEGIN:VEVENT
DTSTART;TZID=Europe/Paris:20270531T193000
DTEND;TZID=Europe/Paris:20270531T213000
DTSTAMP:20260425T133305
CREATED:20260424T100201Z
LAST-MODIFIED:20260424T100201Z
UID:10001324-1811791800-1811799000@neerbosch.nu
SUMMARY:Salonorkest Symfonia
DESCRIPTION:Op maandagavond om 19:30 oefent salonorkest Symphonia in De Schalmei. Zij zoeken nieuwe muzikanten. \nSalonorkest Symphonia is een orkest voor amateur-musici die voor hun plezier met muziek bezig willen zijn.\nWe hebben een uitgebreid repertoire dat bestaat uit licht klassieke\, populaire muziek\, zoals melodieën uit opera’s en operettes\, bekende walsen\, marsen\, tango’s\, liederen.
URL:https://neerbosch.nu/activiteit/salonorkest-symfonia/2027-05-31/
LOCATION:Wijkcentrum De Schalmei\, Symfoniestraat 204\, Nijmegen\, 6544 TN
ATTACH;FMTTYPE=image/jpeg:https://neerbosch.nu/wp-content/uploads/2026/04/viool-scaled.jpg
END:VEVENT
BEGIN:VEVENT
DTSTART;TZID=Europe/Paris:20270607T193000
DTEND;TZID=Europe/Paris:20270607T213000
DTSTAMP:20260425T133305
CREATED:20260424T100201Z
LAST-MODIFIED:20260424T100201Z
UID:10001325-1812396600-1812403800@neerbosch.nu
SUMMARY:Salonorkest Symfonia
DESCRIPTION:Op maandagavond om 19:30 oefent salonorkest Symphonia in De Schalmei. Zij zoeken nieuwe muzikanten. \nSalonorkest Symphonia is een orkest voor amateur-musici die voor hun plezier met muziek bezig willen zijn.\nWe hebben een uitgebreid repertoire dat bestaat uit licht klassieke\, populaire muziek\, zoals melodieën uit opera’s en operettes\, bekende walsen\, marsen\, tango’s\, liederen.
URL:https://neerbosch.nu/activiteit/salonorkest-symfonia/2027-06-07/
LOCATION:Wijkcentrum De Schalmei\, Symfoniestraat 204\, Nijmegen\, 6544 TN
ATTACH;FMTTYPE=image/jpeg:https://neerbosch.nu/wp-content/uploads/2026/04/viool-scaled.jpg
END:VEVENT
BEGIN:VEVENT
DTSTART;TZID=Europe/Paris:20270614T193000
DTEND;TZID=Europe/Paris:20270614T213000
DTSTAMP:20260425T133305
CREATED:20260424T100201Z
LAST-MODIFIED:20260424T100201Z
UID:10001326-1813001400-1813008600@neerbosch.nu
SUMMARY:Salonorkest Symfonia
DESCRIPTION:Op maandagavond om 19:30 oefent salonorkest Symphonia in De Schalmei. Zij zoeken nieuwe muzikanten. \nSalonorkest Symphonia is een orkest voor amateur-musici die voor hun plezier met muziek bezig willen zijn.\nWe hebben een uitgebreid repertoire dat bestaat uit licht klassieke\, populaire muziek\, zoals melodieën uit opera’s en operettes\, bekende walsen\, marsen\, tango’s\, liederen.
URL:https://neerbosch.nu/activiteit/salonorkest-symfonia/2027-06-14/
LOCATION:Wijkcentrum De Schalmei\, Symfoniestraat 204\, Nijmegen\, 6544 TN
ATTACH;FMTTYPE=image/jpeg:https://neerbosch.nu/wp-content/uploads/2026/04/viool-scaled.jpg
END:VEVENT
BEGIN:VEVENT
DTSTART;TZID=Europe/Paris:20270621T193000
DTEND;TZID=Europe/Paris:20270621T213000
DTSTAMP:20260425T133305
CREATED:20260424T100201Z
LAST-MODIFIED:20260424T100201Z
UID:10001327-1813606200-1813613400@neerbosch.nu
SUMMARY:Salonorkest Symfonia
DESCRIPTION:Op maandagavond om 19:30 oefent salonorkest Symphonia in De Schalmei. Zij zoeken nieuwe muzikanten. \nSalonorkest Symphonia is een orkest voor amateur-musici die voor hun plezier met muziek bezig willen zijn.\nWe hebben een uitgebreid repertoire dat bestaat uit licht klassieke\, populaire muziek\, zoals melodieën uit opera’s en operettes\, bekende walsen\, marsen\, tango’s\, liederen.
URL:https://neerbosch.nu/activiteit/salonorkest-symfonia/2027-06-21/
LOCATION:Wijkcentrum De Schalmei\, Symfoniestraat 204\, Nijmegen\, 6544 TN
ATTACH;FMTTYPE=image/jpeg:https://neerbosch.nu/wp-content/uploads/2026/04/viool-scaled.jpg
END:VEVENT
END:VCALENDAR